Back to Multiple platform build/check report for BioC 3.17:   simplified   long
ABCDEF[G]HIJKLMNOPQRSTUVWXYZ

This page was generated on 2023-03-27 11:05:47 -0400 (Mon, 27 Mar 2023).

HostnameOSArch (*)R versionInstalled pkgs
nebbiolo1Linux (Ubuntu 22.04.1 LTS)x86_64R Under development (unstable) (2023-03-16 r83996) -- "Unsuffered Consequences" 4547
palomino3Windows Server 2022 Datacenterx64R Under development (unstable) (2023-03-15 r83984 ucrt) -- "Unsuffered Consequences" 4308
merida1macOS 10.14.6 Mojavex86_64R Under development (unstable) (2023-03-16 r83985) -- "Unsuffered Consequences" 4300
Click on any hostname to see more info about the system (e.g. compilers)      (*) as reported by 'uname -p', except on Windows and Mac OS X

BUILD BIN results for genotypeeval on palomino3


To the developers/maintainers of the genotypeeval package:
- Please allow up to 24 hours (and sometimes 48 hours) for your latest push to git@git.bioconductor.org:packages/genotypeeval.git to
reflect on this report. See How and When does the builder pull? When will my changes propagate? for more information.
- Make sure to use the following settings in order to reproduce any error or warning you see on this page.

raw results

Package 802/2195HostnameOS / ArchINSTALLBUILDCHECKBUILD BIN
genotypeeval 1.31.1  (landing page)
Jennifer Tom
Snapshot Date: 2023-03-26 14:00:09 -0400 (Sun, 26 Mar 2023)
git_url: https://git.bioconductor.org/packages/genotypeeval
git_branch: devel
git_last_commit: 579bec6
git_last_commit_date: 2023-02-08 10:31:28 -0400 (Wed, 08 Feb 2023)
nebbiolo1Linux (Ubuntu 22.04.1 LTS) / x86_64  OK    OK    ERROR  
palomino3Windows Server 2022 Datacenter / x64  OK    OK    ERROR    OK  
merida1macOS 10.14.6 Mojave / x86_64  OK    OK    ERROR    OK  

Summary

Package: genotypeeval
Version: 1.31.1
Command: rm -rf genotypeeval.buildbin-libdir && mkdir genotypeeval.buildbin-libdir && F:\biocbuild\bbs-3.17-bioc\R\bin\R.exe CMD INSTALL --build --library=genotypeeval.buildbin-libdir genotypeeval_1.31.1.tar.gz
StartedAt: 2023-03-27 08:40:35 -0400 (Mon, 27 Mar 2023)
EndedAt: 2023-03-27 08:41:28 -0400 (Mon, 27 Mar 2023)
EllapsedTime: 53.2 seconds
RetCode: 0
Status:   OK  
PackageFile: genotypeeval_1.31.1.zip
PackageFileSize: 554.4 KiB

Command output

##############################################################################
##############################################################################
###
### Running command:
###
###   rm -rf genotypeeval.buildbin-libdir && mkdir genotypeeval.buildbin-libdir && F:\biocbuild\bbs-3.17-bioc\R\bin\R.exe CMD INSTALL --build --library=genotypeeval.buildbin-libdir genotypeeval_1.31.1.tar.gz
###
##############################################################################
##############################################################################


* installing *source* package 'genotypeeval' ...
** using staged installation
** R
** inst
** byte-compile and prepare package for lazy loading
** help
*** installing help indices
** building package indices
** installing vignettes
** testing if installed package can be loaded from temporary location
Warning: Package 'genotypeeval' is deprecated and will be removed from
  Bioconductor version 3.18
** testing if installed package can be loaded from final location
Warning: Package 'genotypeeval' is deprecated and will be removed from
  Bioconductor version 3.18
** testing if installed package keeps a record of temporary installation path
* MD5 sums
packaged installation of 'genotypeeval' as genotypeeval_1.31.1.zip
* DONE (genotypeeval)