Back to Multiple platform build/check report for BioC 3.17:   simplified   long
ABCDEF[G]HIJKLMNOPQRSTUVWXYZ

This page was generated on 2023-03-28 11:05:59 -0400 (Tue, 28 Mar 2023).

HostnameOSArch (*)R versionInstalled pkgs
nebbiolo1Linux (Ubuntu 22.04.1 LTS)x86_64R Under development (unstable) (2023-03-16 r83996) -- "Unsuffered Consequences" 4547
palomino3Windows Server 2022 Datacenterx64R Under development (unstable) (2023-03-15 r83984 ucrt) -- "Unsuffered Consequences" 4308
merida1macOS 10.14.6 Mojavex86_64R Under development (unstable) (2023-03-16 r83985) -- "Unsuffered Consequences" 4301
Click on any hostname to see more info about the system (e.g. compilers)      (*) as reported by 'uname -p', except on Windows and Mac OS X

CHECK results for GenVisR on palomino3


To the developers/maintainers of the GenVisR package:
- Please allow up to 24 hours (and sometimes 48 hours) for your latest push to git@git.bioconductor.org:packages/GenVisR.git to
reflect on this report. See How and When does the builder pull? When will my changes propagate? for more information.
- Make sure to use the following settings in order to reproduce any error or warning you see on this page.

raw results

Package 804/2195HostnameOS / ArchINSTALLBUILDCHECKBUILD BIN
GenVisR 1.31.1  (landing page)
Zachary Skidmore
Snapshot Date: 2023-03-27 14:00:21 -0400 (Mon, 27 Mar 2023)
git_url: https://git.bioconductor.org/packages/GenVisR
git_branch: devel
git_last_commit: f65e33d
git_last_commit_date: 2023-01-16 15:04:04 -0400 (Mon, 16 Jan 2023)
nebbiolo1Linux (Ubuntu 22.04.1 LTS) / x86_64  OK    OK    ERROR  
palomino3Windows Server 2022 Datacenter / x64  OK    OK    ERROR    OK  
merida1macOS 10.14.6 Mojave / x86_64  OK    OK    ERROR    OK  

Summary

Package: GenVisR
Version: 1.31.1
Command: F:\biocbuild\bbs-3.17-bioc\R\bin\R.exe CMD check --no-multiarch --install=check:GenVisR.install-out.txt --library=F:\biocbuild\bbs-3.17-bioc\R\library --no-vignettes --timings GenVisR_1.31.1.tar.gz
StartedAt: 2023-03-28 02:14:31 -0400 (Tue, 28 Mar 2023)
EndedAt: 2023-03-28 02:22:48 -0400 (Tue, 28 Mar 2023)
EllapsedTime: 497.6 seconds
RetCode: 1
Status:   ERROR  
CheckDir: GenVisR.Rcheck
Warnings: NA

Command output

##############################################################################
##############################################################################
###
### Running command:
###
###   F:\biocbuild\bbs-3.17-bioc\R\bin\R.exe CMD check --no-multiarch --install=check:GenVisR.install-out.txt --library=F:\biocbuild\bbs-3.17-bioc\R\library --no-vignettes --timings GenVisR_1.31.1.tar.gz
###
##############################################################################
##############################################################################


* using log directory 'F:/biocbuild/bbs-3.17-bioc/meat/GenVisR.Rcheck'
* using R Under development (unstable) (2023-03-15 r83984 ucrt)
* using platform: x86_64-w64-mingw32 (64-bit)
* R was compiled by
    gcc.exe (GCC) 12.2.0
    GNU Fortran (GCC) 12.2.0
* running under: Windows Server 2022 x64 (build 20348)
* using session charset: UTF-8
* using option '--no-vignettes'
* checking for file 'GenVisR/DESCRIPTION' ... OK
* this is package 'GenVisR' version '1.31.1'
* package encoding: UTF-8
* checking package namespace information ... OK
* checking package dependencies ... OK
* checking if this is a source package ... OK
* checking if there is a namespace ... OK
* checking for hidden files and directories ... OK
* checking for portable file names ... OK
* checking whether package 'GenVisR' can be installed ... OK
* checking installed package size ... OK
* checking package directory ... OK
* checking 'build' directory ... OK
* checking DESCRIPTION meta-information ... OK
* checking top-level files ... OK
* checking for left-over files ... OK
* checking index information ... OK
* checking package subdirectories ... OK
* checking R files for non-ASCII characters ... OK
* checking R files for syntax errors ... OK
* checking whether the package can be loaded ... OK
* checking whether the package can be loaded with stated dependencies ... OK
* checking whether the package can be unloaded cleanly ... OK
* checking whether the namespace can be loaded with stated dependencies ... OK
* checking whether the namespace can be unloaded cleanly ... OK
* checking dependencies in R code ... NOTE
Namespace in Imports field not imported from: 'reshape2'
  All declared Imports should be used.
* checking S3 generic/method consistency ... OK
* checking replacement functions ... OK
* checking foreign function calls ... OK
* checking R code for possible problems ... NOTE
setTierTwo,data.table : a: no visible binding for global variable 'tmp'
toLolliplot,GMS: no visible binding for global variable 'missingINdex'
Undefined global functions or variables:
  missingINdex tmp
* checking Rd files ... OK
* checking Rd metadata ... OK
* checking Rd cross-references ... OK
* checking for missing documentation entries ... OK
* checking for code/documentation mismatches ... OK
* checking Rd \usage sections ... OK
* checking Rd contents ... OK
* checking for unstated dependencies in examples ... OK
* checking contents of 'data' directory ... OK
* checking data for non-ASCII characters ... OK
* checking LazyData ... OK
* checking data for ASCII and uncompressed saves ... OK
* checking files in 'vignettes' ... OK
* checking examples ... OK
Examples with CPU (user + system) or elapsed time > 5s
                 user system elapsed
Lolliplot-class 18.88   1.14   27.26
genCov           7.33   0.48    7.81
geneViz          7.44   0.24    7.68
cnFreq           5.08   0.03    5.11
* checking for unstated dependencies in 'tests' ... OK
* checking tests ...
  Running 'testthat.R'
 ERROR
Running the tests in 'tests/testthat.R' failed.
Last 13 lines of output:
  • MutSpectra-class/mutspectra-frequency-plot-custom-pallette.svg
  • MutSpectra-class/mutspectra-frequency-plot.svg
  • MutSpectra-class/mutspectra-proportion-plot-add-layer.svg
  • MutSpectra-class/mutspectra-proportion-plot-custom-pallette.svg
  • MutSpectra-class/mutspectra-proportion-plot.svg
  • Rainfall-class/density-main-plot.svg
  • Rainfall-class/density-plot-add-layer.svg
  • Rainfall-class/drawplot-rainfall.svg
  • Rainfall-class/final-rainfall-alter-section-hieghts.svg
  • Rainfall-class/final-rainfall-base.svg
  • Rainfall-class/rainfall-main-plot.svg
  • Rainfall-class/rainfall-plot-add-layer.svg
  • Rainfall-class/rainfall-plot-aesthetic-options.svg
  Error: Test failures
  Execution halted
* checking for unstated dependencies in vignettes ... OK
* checking package vignettes in 'inst/doc' ... OK
* checking running R code from vignettes ... SKIPPED
* checking re-building of vignette outputs ... SKIPPED
* checking PDF version of manual ... OK
* DONE

Status: 1 ERROR, 2 NOTEs
See
  'F:/biocbuild/bbs-3.17-bioc/meat/GenVisR.Rcheck/00check.log'
for details.


Installation output

GenVisR.Rcheck/00install.out

##############################################################################
##############################################################################
###
### Running command:
###
###   F:\biocbuild\bbs-3.17-bioc\R\bin\R.exe CMD INSTALL GenVisR
###
##############################################################################
##############################################################################


* installing to library 'F:/biocbuild/bbs-3.17-bioc/R/library'
* installing *source* package 'GenVisR' ...
** using staged installation
** R
** data
*** moving datasets to lazyload DB
** inst
** byte-compile and prepare package for lazy loading
** help
*** installing help indices
** building package indices
** installing vignettes
** testing if installed package can be loaded from temporary location
** testing if installed package can be loaded from final location
** testing if installed package keeps a record of temporary installation path
* DONE (GenVisR)

Tests output

GenVisR.Rcheck/tests/testthat.Rout.fail


R Under development (unstable) (2023-03-15 r83984 ucrt) -- "Unsuffered Consequences"
Copyright (C) 2023 The R Foundation for Statistical Computing
Platform: x86_64-w64-mingw32/x64 (64-bit)

R is free software and comes with ABSOLUTELY NO WARRANTY.
You are welcome to redistribute it under certain conditions.
Type 'license()' or 'licence()' for distribution details.

R is a collaborative project with many contributors.
Type 'contributors()' for more information and
'citation()' on how to cite R or R packages in publications.

Type 'demo()' for some demos, 'help()' for on-line help, or
'help.start()' for an HTML browser interface to help.
Type 'q()' to quit R.

> library(testthat)
> library(GenVisR)
> 
> test_check("GenVisR")
[ FAIL 1 | WARN 17 | SKIP 54 | PASS 601 ]

══ Skipped tests ═══════════════════════════════════════════════════════════════
• On Bioconductor (54)

══ Failed tests ════════════════════════════════════════════════════════════════
── Failure ('test-Lolliplot-class.R:526:5'): setDomainHeights domains are nested correctly ──
`expected` not equivalent to `actual`.
1/1 mismatches
[1] 2 - 9 == -7

[ FAIL 1 | WARN 17 | SKIP 54 | PASS 601 ]
Deleting unused snapshots:
• Lolliplot-class/drawplot-lolliplot.svg
• Lolliplot-class/final-lolliplot-alter-section-height.svg
• Lolliplot-class/final-lolliplot-base.svg
• Lolliplot-class/lolliplot-density-plot-layer.svg
• Lolliplot-class/lolliplot-density-plot.svg
• Lolliplot-class/lolliplot-plot-base-add-domain-palette.svg
• Lolliplot-class/lolliplot-plot-base-add-labels.svg
• Lolliplot-class/lolliplot-plot-base-add-layer.svg
• Lolliplot-class/lolliplot-plot-base-add-mutation-palette.svg
• Lolliplot-class/lolliplot-plot-base.svg
• MutSpectra-class/drawplot-mutspectra.svg
• MutSpectra-class/final-mutspectra-alter-section-heights.svg
• MutSpectra-class/final-mutspectra-base.svg
• MutSpectra-class/mutspectra-clinical.svg
• MutSpectra-class/mutspectra-frequency-plot-add-layer.svg
• MutSpectra-class/mutspectra-frequency-plot-custom-pallette.svg
• MutSpectra-class/mutspectra-frequency-plot.svg
• MutSpectra-class/mutspectra-proportion-plot-add-layer.svg
• MutSpectra-class/mutspectra-proportion-plot-custom-pallette.svg
• MutSpectra-class/mutspectra-proportion-plot.svg
• Rainfall-class/density-main-plot.svg
• Rainfall-class/density-plot-add-layer.svg
• Rainfall-class/drawplot-rainfall.svg
• Rainfall-class/final-rainfall-alter-section-hieghts.svg
• Rainfall-class/final-rainfall-base.svg
• Rainfall-class/rainfall-main-plot.svg
• Rainfall-class/rainfall-plot-add-layer.svg
• Rainfall-class/rainfall-plot-aesthetic-options.svg
Error: Test failures
Execution halted

Example timings

GenVisR.Rcheck/GenVisR-Ex.timings

nameusersystemelapsed
Lolliplot-class18.88 1.1427.26
TvTi1.510.001.52
Waterfall-class0.530.030.56
cnFreq5.080.035.11
cnSpec3.590.053.64
cnView0.610.010.62
compIdent1.810.232.05
covBars0.610.020.62
genCov7.330.487.81
geneViz7.440.247.68
ideoView0.480.000.48
lohSpec3.110.033.14
lohView0.600.000.59
waterfall1.030.001.04