Back to Multiple platform build/check report for BioC 3.17:   simplified   long
ABCDEFGHIJKL[M]NOPQRSTUVWXYZ

This page was generated on 2023-06-07 11:05:30 -0400 (Wed, 07 Jun 2023).

HostnameOSArch (*)R versionInstalled pkgs
nebbiolo1Linux (Ubuntu 22.04.2 LTS)x86_644.3.0 RC (2023-04-13 r84269) -- "Already Tomorrow" 4628
palomino3Windows Server 2022 Datacenterx644.3.0 RC (2023-04-13 r84269 ucrt) -- "Already Tomorrow" 4379
merida1macOS 12.6.4 Montereyx86_644.3.0 RC (2023-04-13 r84257) -- "Already Tomorrow" 4385
Click on any hostname to see more info about the system (e.g. compilers)      (*) as reported by 'uname -p', except on Windows and Mac OS X

CHECK results for MutationalPatterns on nebbiolo1


To the developers/maintainers of the MutationalPatterns package:
- Allow up to 24 hours (and sometimes 48 hours) for your latest push to git@git.bioconductor.org:packages/MutationalPatterns.git to reflect on this report. See Troubleshooting Build Report for more information.
- Use the following Renviron settings to reproduce errors and warnings.
- If 'R CMD check' started to fail recently on the Linux builder(s) over a missing dependency, add the missing dependency to 'Suggests:' in your DESCRIPTION file. See Renviron.bioc for more information.

raw results

Package 1344/2229HostnameOS / ArchINSTALLBUILDCHECKBUILD BIN
MutationalPatterns 3.10.0  (landing page)
Mark van Roosmalen
Snapshot Date: 2023-06-06 14:00:07 -0400 (Tue, 06 Jun 2023)
git_url: https://git.bioconductor.org/packages/MutationalPatterns
git_branch: RELEASE_3_17
git_last_commit: 1ee8048
git_last_commit_date: 2023-04-25 10:50:27 -0400 (Tue, 25 Apr 2023)
nebbiolo1Linux (Ubuntu 22.04.2 LTS) / x86_64  OK    OK    OK  UNNEEDED, same version is already published
palomino3Windows Server 2022 Datacenter / x64  OK    OK    OK    OK  UNNEEDED, same version is already published
merida1macOS 12.6.4 Monterey / x86_64  OK    ERROR  skippedskipped

Summary

Package: MutationalPatterns
Version: 3.10.0
Command: /home/biocbuild/bbs-3.17-bioc/R/bin/R CMD check --install=check:MutationalPatterns.install-out.txt --library=/home/biocbuild/bbs-3.17-bioc/R/site-library --timings MutationalPatterns_3.10.0.tar.gz
StartedAt: 2023-06-06 23:09:28 -0400 (Tue, 06 Jun 2023)
EndedAt: 2023-06-06 23:27:57 -0400 (Tue, 06 Jun 2023)
EllapsedTime: 1108.8 seconds
RetCode: 0
Status:   OK  
CheckDir: MutationalPatterns.Rcheck
Warnings: 0

Command output

##############################################################################
##############################################################################
###
### Running command:
###
###   /home/biocbuild/bbs-3.17-bioc/R/bin/R CMD check --install=check:MutationalPatterns.install-out.txt --library=/home/biocbuild/bbs-3.17-bioc/R/site-library --timings MutationalPatterns_3.10.0.tar.gz
###
##############################################################################
##############################################################################


* using log directory ‘/home/biocbuild/bbs-3.17-bioc/meat/MutationalPatterns.Rcheck’
* using R version 4.3.0 RC (2023-04-13 r84269)
* using platform: x86_64-pc-linux-gnu (64-bit)
* R was compiled by
    gcc (Ubuntu 11.3.0-1ubuntu1~22.04) 11.3.0
    GNU Fortran (Ubuntu 11.3.0-1ubuntu1~22.04) 11.3.0
* running under: Ubuntu 22.04.2 LTS
* using session charset: UTF-8
* checking for file ‘MutationalPatterns/DESCRIPTION’ ... OK
* checking extension type ... Package
* this is package ‘MutationalPatterns’ version ‘3.10.0’
* package encoding: UTF-8
* checking package namespace information ... OK
* checking package dependencies ... OK
* checking if this is a source package ... OK
* checking if there is a namespace ... OK
* checking for hidden files and directories ... OK
* checking for portable file names ... OK
* checking for sufficient/correct file permissions ... OK
* checking whether package ‘MutationalPatterns’ can be installed ... OK
* checking installed package size ... OK
* checking package directory ... OK
* checking ‘build’ directory ... OK
* checking DESCRIPTION meta-information ... OK
* checking top-level files ... OK
* checking for left-over files ... OK
* checking index information ... OK
* checking package subdirectories ... OK
* checking R files for non-ASCII characters ... OK
* checking R files for syntax errors ... OK
* checking whether the package can be loaded ... OK
* checking whether the package can be loaded with stated dependencies ... OK
* checking whether the package can be unloaded cleanly ... OK
* checking whether the namespace can be loaded with stated dependencies ... OK
* checking whether the namespace can be unloaded cleanly ... OK
* checking loading without being on the library search path ... OK
* checking dependencies in R code ... OK
* checking S3 generic/method consistency ... OK
* checking replacement functions ... OK
* checking foreign function calls ... OK
* checking R code for possible problems ... OK
* checking Rd files ... OK
* checking Rd metadata ... OK
* checking Rd cross-references ... OK
* checking for missing documentation entries ... OK
* checking for code/documentation mismatches ... OK
* checking Rd \usage sections ... OK
* checking Rd contents ... OK
* checking for unstated dependencies in examples ... OK
* checking files in ‘vignettes’ ... OK
* checking examples ... OK
Examples with CPU (user + system) or elapsed time > 5s
                                    user system elapsed
context_potential_damage_analysis 23.909  0.664  24.572
read_vcfs_as_granges              21.681  2.604  26.510
plot_lesion_segregation           12.978  0.052  13.030
get_mut_type                      10.702  0.035  10.739
genomic_distribution              10.446  0.259  10.711
bin_mutation_density               9.333  1.012  10.346
calculate_lesion_segregation       9.673  0.384  10.057
plot_compare_indels                7.935  0.039   7.975
plot_indel_contexts                7.306  0.020   7.327
get_indel_context                  6.444  0.800   7.244
plot_river                         5.581  0.068   5.649
plot_spectrum_region               5.283  0.128   5.412
plot_spectrum                      4.882  0.232   5.115
* checking for unstated dependencies in ‘tests’ ... OK
* checking tests ...
  Running ‘testthat.R’
 OK
* checking for unstated dependencies in vignettes ... OK
* checking package vignettes in ‘inst/doc’ ... OK
* checking running R code from vignettes ...
  ‘Introduction_to_MutationalPatterns.Rmd’ using ‘UTF-8’... OK
 NONE
* checking re-building of vignette outputs ... OK
* checking PDF version of manual ... OK
* DONE

Status: OK


Installation output

MutationalPatterns.Rcheck/00install.out

##############################################################################
##############################################################################
###
### Running command:
###
###   /home/biocbuild/bbs-3.17-bioc/R/bin/R CMD INSTALL MutationalPatterns
###
##############################################################################
##############################################################################


* installing to library ‘/home/biocbuild/bbs-3.17-bioc/R/site-library’
* installing *source* package ‘MutationalPatterns’ ...
** using staged installation
** R
** inst
** byte-compile and prepare package for lazy loading
** help
*** installing help indices
** building package indices
** installing vignettes
** testing if installed package can be loaded from temporary location
** testing if installed package can be loaded from final location
** testing if installed package keeps a record of temporary installation path
* DONE (MutationalPatterns)

Tests output

MutationalPatterns.Rcheck/tests/testthat.Rout


R version 4.3.0 RC (2023-04-13 r84269) -- "Already Tomorrow"
Copyright (C) 2023 The R Foundation for Statistical Computing
Platform: x86_64-pc-linux-gnu (64-bit)

R is free software and comes with ABSOLUTELY NO WARRANTY.
You are welcome to redistribute it under certain conditions.
Type 'license()' or 'licence()' for distribution details.

R is a collaborative project with many contributors.
Type 'contributors()' for more information and
'citation()' on how to cite R or R packages in publications.

Type 'demo()' for some demos, 'help()' for on-line help, or
'help.start()' for an HTML browser interface to help.
Type 'q()' to quit R.

> library(testthat)
> library(MutationalPatterns)
Loading required package: GenomicRanges
Loading required package: stats4
Loading required package: BiocGenerics

Attaching package: 'BiocGenerics'

The following objects are masked from 'package:stats':

    IQR, mad, sd, var, xtabs

The following objects are masked from 'package:base':

    Filter, Find, Map, Position, Reduce, anyDuplicated, aperm, append,
    as.data.frame, basename, cbind, colnames, dirname, do.call,
    duplicated, eval, evalq, get, grep, grepl, intersect, is.unsorted,
    lapply, mapply, match, mget, order, paste, pmax, pmax.int, pmin,
    pmin.int, rank, rbind, rownames, sapply, setdiff, sort, table,
    tapply, union, unique, unsplit, which.max, which.min

Loading required package: S4Vectors

Attaching package: 'S4Vectors'

The following object is masked from 'package:utils':

    findMatches

The following objects are masked from 'package:base':

    I, expand.grid, unname

Loading required package: IRanges
Loading required package: GenomeInfoDb
Loading required package: NMF
Loading required package: registry
Loading required package: rngtools
Loading required package: cluster
NMF - BioConductor layer [OK] | Shared memory capabilities [NO: bigmemory] | Cores 2/2
  To enable shared memory capabilities, try: install.extras('
NMF
')

Attaching package: 'NMF'

The following object is masked from 'package:S4Vectors':

    nrun

The following object is masked from 'package:testthat':

    compare

> 
> test_check("MutationalPatterns")
[ FAIL 0 | WARN 5 | SKIP 0 | PASS 474 ]

[ FAIL 0 | WARN 5 | SKIP 0 | PASS 474 ]
> 
> proc.time()
   user  system elapsed 
196.410   8.370 210.146 

Example timings

MutationalPatterns.Rcheck/MutationalPatterns-Ex.timings

nameusersystemelapsed
bin_mutation_density 9.333 1.01210.346
binomial_test0.0070.0050.012
calculate_lesion_segregation 9.673 0.38410.057
cluster_signatures0.0440.0040.048
context_potential_damage_analysis23.909 0.66424.572
convert_sigs_to_ref0.0350.0000.036
cos_sim000
cos_sim_matrix0.0130.0080.020
count_dbs_contexts0.0880.0000.088
count_indel_contexts0.1000.0040.103
count_mbs_contexts0.0770.0000.077
determine_regional_similarity2.8460.4043.258
enrichment_depletion_test0.1390.0020.141
extract_signatures0.0010.0000.001
fit_to_signatures0.0760.0200.096
fit_to_signatures_bootstrapped4.8990.0524.952
fit_to_signatures_strict2.8200.0322.853
genomic_distribution10.446 0.25910.711
get_dbs_context0.2690.0000.270
get_indel_context6.4440.8007.244
get_known_signatures0.2640.4400.707
get_mut_type10.702 0.03510.739
lengthen_mut_matrix0.0060.0110.019
merge_signatures1.0320.1321.164
mut_context1.0670.1561.223
mut_matrix1.7650.2321.997
mut_matrix_stranded3.9540.3844.337
mut_strand0.9750.0160.992
mut_type0.0270.0000.027
mut_type_occurrences0.8440.1080.953
mutations_from_vcf0.0270.0000.027
plot_192_profile2.8180.0332.852
plot_96_profile2.4650.0082.474
plot_bootstrapped_contribution1.9970.0482.044
plot_compare_dbs4.6700.0164.687
plot_compare_indels7.9350.0397.975
plot_compare_mbs0.8550.0000.855
plot_compare_profiles2.0460.0002.046
plot_contribution2.8040.0042.808
plot_contribution_heatmap1.6180.0041.621
plot_correlation_bootstrap0.4730.0080.481
plot_cosine_heatmap2.0640.0042.068
plot_dbs_contexts4.5000.1284.629
plot_enrichment_depletion3.1410.0483.190
plot_indel_contexts7.3060.0207.327
plot_lesion_segregation12.978 0.05213.030
plot_main_dbs_contexts0.5430.0080.551
plot_main_indel_contexts0.5570.0040.561
plot_mbs_contexts0.4750.0000.475
plot_original_vs_reconstructed0.5680.0000.568
plot_profile_heatmap4.8190.0524.871
plot_profile_region1.0880.0161.104
plot_rainfall1.8590.0401.899
plot_regional_similarity1.5410.0001.542
plot_river5.5810.0685.649
plot_signature_strand_bias0.8720.0000.872
plot_spectrum4.8820.2325.115
plot_spectrum_region5.2830.1285.412
plot_strand0.3050.0080.313
plot_strand_bias0.9020.0000.903
pool_mut_mat0.0370.0040.041
read_vcfs_as_granges21.681 2.60426.510
rename_nmf_signatures0.0190.0490.067
signature_potential_damage_analysis0.1050.0200.126
split_muts_region4.0320.6804.712
strand_bias_test0.1290.0120.141
strand_occurrences0.1570.0080.165
type_context1.1480.2961.444