Back to Multiple platform build/check report for BioC 3.17:   simplified   long
ABCDEFGHIJKLMNO[P]QRSTUVWXYZ

This page was generated on 2023-03-21 11:07:11 -0400 (Tue, 21 Mar 2023).

HostnameOSArch (*)R versionInstalled pkgs
nebbiolo1Linux (Ubuntu 22.04.1 LTS)x86_64R Under development (unstable) (2023-03-16 r83996) -- "Unsuffered Consequences" 4305
palomino3Windows Server 2022 Datacenterx64R Under development (unstable) (2023-03-15 r83984 ucrt) -- "Unsuffered Consequences" 4287
merida1macOS 10.14.6 Mojavex86_64R Under development (unstable) (2023-03-16 r83985) -- "Unsuffered Consequences" 4286
Click on any hostname to see more info about the system (e.g. compilers)      (*) as reported by 'uname -p', except on Windows and Mac OS X

CHECK results for protGear on merida1


To the developers/maintainers of the protGear package:
- Please allow up to 24 hours (and sometimes 48 hours) for your latest push to git@git.bioconductor.org:packages/protGear.git to
reflect on this report. See How and When does the builder pull? When will my changes propagate? for more information.
- Make sure to use the following settings in order to reproduce any error or warning you see on this page.

raw results

Package 1551/2189HostnameOS / ArchINSTALLBUILDCHECKBUILD BIN
protGear 1.3.32  (landing page)
Kennedy Mwai
Snapshot Date: 2023-03-20 14:00:22 -0400 (Mon, 20 Mar 2023)
git_url: https://git.bioconductor.org/packages/protGear
git_branch: master
git_last_commit: ff531ac
git_last_commit_date: 2023-02-03 14:23:38 -0400 (Fri, 03 Feb 2023)
nebbiolo1Linux (Ubuntu 22.04.1 LTS) / x86_64  OK    OK    OK  UNNEEDED, same version is already published
palomino3Windows Server 2022 Datacenter / x64  OK    OK    OK    OK  UNNEEDED, same version is already published
merida1macOS 10.14.6 Mojave / x86_64  OK    OK    OK    OK  UNNEEDED, same version is already published

Summary

Package: protGear
Version: 1.3.32
Command: /Library/Frameworks/R.framework/Resources/bin/R CMD check --install=check:protGear.install-out.txt --library=/Library/Frameworks/R.framework/Resources/library --no-vignettes --timings protGear_1.3.32.tar.gz
StartedAt: 2023-03-21 05:21:31 -0400 (Tue, 21 Mar 2023)
EndedAt: 2023-03-21 05:29:40 -0400 (Tue, 21 Mar 2023)
EllapsedTime: 488.5 seconds
RetCode: 0
Status:   OK  
CheckDir: protGear.Rcheck
Warnings: 0

Command output

##############################################################################
##############################################################################
###
### Running command:
###
###   /Library/Frameworks/R.framework/Resources/bin/R CMD check --install=check:protGear.install-out.txt --library=/Library/Frameworks/R.framework/Resources/library --no-vignettes --timings protGear_1.3.32.tar.gz
###
##############################################################################
##############################################################################


* using log directory ‘/Users/biocbuild/bbs-3.17-bioc/meat/protGear.Rcheck’
* using R Under development (unstable) (2023-03-16 r83985)
* using platform: x86_64-apple-darwin17.0 (64-bit)
* R was compiled by
    Apple clang version 12.0.0 (clang-1200.0.32.29)
    GNU Fortran (GCC) 8.2.0
* running under: macOS Mojave 10.14.6
* using session charset: UTF-8
* using option ‘--no-vignettes’
* checking for file ‘protGear/DESCRIPTION’ ... OK
* checking extension type ... Package
* this is package ‘protGear’ version ‘1.3.32’
* package encoding: UTF-8
* checking package namespace information ... OK
* checking package dependencies ... OK
* checking if this is a source package ... OK
* checking if there is a namespace ... OK
* checking for hidden files and directories ... OK
* checking for portable file names ... OK
* checking for sufficient/correct file permissions ... OK
* checking whether package ‘protGear’ can be installed ... OK
* checking installed package size ... OK
* checking package directory ... OK
* checking ‘build’ directory ... OK
* checking DESCRIPTION meta-information ... OK
* checking top-level files ... OK
* checking for left-over files ... OK
* checking index information ... OK
* checking package subdirectories ... OK
* checking R files for non-ASCII characters ... OK
* checking R files for syntax errors ... OK
* checking whether the package can be loaded ... OK
* checking whether the package can be loaded with stated dependencies ... OK
* checking whether the package can be unloaded cleanly ... OK
* checking whether the namespace can be loaded with stated dependencies ... OK
* checking whether the namespace can be unloaded cleanly ... OK
* checking dependencies in R code ... OK
* checking S3 generic/method consistency ... OK
* checking replacement functions ... OK
* checking foreign function calls ... OK
* checking R code for possible problems ... NOTE
best_CV_estimation: no visible binding for global variable ‘x’
best_CV_estimation: no visible binding for global variable ‘prop’
best_CV_estimation: no visible binding for global variable ‘val’
best_CV_estimation: no visible binding for global variable ‘meanX1_X2’
best_CV_estimation: no visible binding for global variable ‘meanX2_X3’
best_CV_estimation: no visible binding for global variable ‘xbar’
best_CV_estimation: no visible binding for global variable ‘CVX’
best_CV_estimation: no visible binding for global variable ‘meanX’
best_CV_estimation: no visible binding for global variable ‘selected’
best_CV_estimation: no visible binding for global variable ‘CVX2_X3’
best_CV_estimation: no visible binding for global variable ‘CVX1_X3’
best_CV_estimation: no visible binding for global variable ‘CVX1_X2’
best_CV_estimation: no visible binding for global variable ‘best_CV’
best_CV_estimation: no visible binding for global variable
  ‘FMedianBG_correct’
bg_correct: no visible binding for global variable ‘sampleID’
bg_correct: no visible binding for global variable ‘Name’
bg_correct: no visible binding for global variable ‘antigen’
bg_correct: no visible binding for global variable ‘sample_array_ID’
bg_correct: no visible binding for global variable ‘Block’
bg_correct: no visible binding for global variable ‘Column’
bg_correct: no visible binding for global variable ‘Row’
bg_correct: no visible binding for global variable ‘FMedian’
bg_correct: no visible binding for global variable ‘FMedianBG_correct’
bg_correct: no visible binding for global variable ‘global_BGMedian’
bg_correct: no visible binding for global variable ‘minimum_BGMedian’
bg_correct: no visible binding for global variable ‘BGMedian’
buffer_spots: no visible binding for global variable ‘sampleID’
buffer_spots: no visible binding for global variable ‘antigen’
buffer_spots: no visible binding for global variable
  ‘FMedianBG_correct’
buffer_spots: no visible binding for global variable ‘Block’
buffer_spots: no visible binding for global variable ‘Column’
buffer_spots: no visible binding for global variable ‘Row’
cv_by_sample_estimation: no visible binding for global variable
  ‘variable’
cv_by_sample_estimation: no visible binding for global variable ‘value’
cv_by_sample_estimation: no visible binding for global variable ‘temp’
cv_estimation: no visible binding for global variable
  ‘FMedianBG_correct’
cv_estimation: no visible binding for global variable ‘sdX’
cv_estimation: no visible binding for global variable ‘meanX’
cv_estimation: no visible binding for global variable ‘sdX2_X3’
cv_estimation: no visible binding for global variable ‘meanX2_X3’
cv_estimation: no visible binding for global variable ‘sdX1_X3’
cv_estimation: no visible binding for global variable ‘meanX1_X3’
cv_estimation: no visible binding for global variable ‘sdX1_X2’
cv_estimation: no visible binding for global variable ‘meanX1_X2’
cv_estimation: no visible binding for global variable ‘CVX’
cv_estimation: no visible binding for global variable ‘CVX2_X3’
cv_estimation: no visible binding for global variable ‘CVX1_X3’
cv_estimation: no visible binding for global variable ‘CVX1_X2’
cv_estimation: no visible binding for global variable ‘antigen’
cv_estimation: no visible binding for global variable ‘sampleID’
cv_estimation: no visible binding for global variable ‘sample_array_ID’
extract_bg: no visible binding for global variable ‘v1’
extract_bg: no visible binding for global variable ‘v2’
extract_bg: no visible binding for global variable ‘index’
extract_bg: no visible binding for global variable ‘Name’
extract_bg: no visible binding for global variable ‘Block’
extract_bg: no visible binding for global variable ‘antigen’
matrix_normalise: no visible binding for global variable ‘day_batches’
matrix_normalise: no visible binding for global variable ‘machines’
matrix_normalise: no visible binding for global variable ‘variable’
matrix_normalise: no visible binding for global variable ‘value’
matrix_normalise: no visible binding for global variable ‘antigen’
matrix_normalise: no visible binding for global variable ‘sampleID2’
matrix_normalise: no visible binding for global variable ‘temp’
merge_sampleID: no visible binding for global variable ‘v1’
merge_sampleID: no visible binding for global variable ‘v2’
merge_sampleID: no visible binding for global variable ‘index’
merge_sampleID: no visible binding for global variable ‘Name’
plot_FB: no visible binding for global variable ‘.id’
plot_FB: no visible binding for global variable ‘log_fb’
plot_FB: no visible binding for global variable ‘log_bg’
plot_FB: no visible binding for global variable ‘antigen’
plot_FB: no visible binding for global variable ‘FBG_Median’
plot_FB: no visible binding for global variable ‘BG_Median’
plot_bg: no visible binding for global variable ‘.id’
plot_buffer: no visible binding for global variable ‘buffers’
plot_normalised: no visible binding for global variable ‘mean_all_anti’
plot_normalised: no visible binding for global variable
  ‘rank_mean_all_anti’
plot_normalised: no visible binding for global variable
  ‘stdev_all_anti’
plot_normalised_antigen: no visible binding for global variable
  ‘antigen’
plot_normalised_antigen: no visible binding for global variable ‘MFI’
plot_normalised_antigen: no visible binding for global variable
  ‘mean_mfi’
plot_normalised_antigen: no visible binding for global variable
  ‘rank_mean_all_anti’
plot_normalised_antigen: no visible binding for global variable
  ‘sd_mfi’
read_array_files: no visible binding for global variable ‘Block’
read_array_files: no visible binding for global variable
  ‘global_BGMedian’
read_array_files: no visible binding for global variable
  ‘minimum_BGMedian’
rlm_normalise: no visible binding for global variable ‘Description’
rlm_normalise: no visible binding for global variable ‘Array’
rlm_normalise: no visible binding for global variable ‘Block’
rlm_normalise: no visible binding for global variable ‘antigen’
rlm_normalise: no visible binding for global variable ‘MFI_val’
rlm_normalise: no visible binding for global variable ‘antigen_name’
rlm_normalise: no visible binding for global variable ‘meanBest2_RLM’
rlm_normalise: no visible binding for global variable ‘sample_index’
rlm_normalise: no visible binding for global variable ‘slide’
rlm_normalise: no visible binding for global variable ‘sampleID2’
rlm_normalise_matrix: no visible binding for global variable ‘slide’
rlm_normalise_matrix: no visible binding for global variable
  ‘sample_index’
rlm_normalise_matrix: no visible binding for global variable ‘antigen’
rlm_normalise_matrix: no visible binding for global variable ‘MFI_val’
rlm_normalise_matrix: no visible binding for global variable
  ‘sample_array_ID’
rlm_normalise_matrix: no visible binding for global variable ‘Block’
tag_subtract: no visible binding for global variable ‘TAG’
tag_subtract: no visible binding for global variable ‘TAG_name’
tag_subtract: no visible binding for global variable ‘TAG_mfi’
visualize_slide: no visible binding for global variable ‘Block’
visualize_slide: no visible binding for global variable ‘X’
visualize_slide: no visible binding for global variable ‘Y’
visualize_slide: no visible binding for global variable ‘meanX’
visualize_slide: no visible binding for global variable ‘meanY’
visualize_slide_2d: no visible binding for global variable ‘Block’
visualize_slide_2d: no visible binding for global variable ‘X’
visualize_slide_2d: no visible binding for global variable ‘Y’
visualize_slide_2d: no visible binding for global variable ‘meanX’
visualize_slide_2d: no visible binding for global variable ‘meanY’
Undefined global functions or variables:
  .id Array BGMedian BG_Median Block CVX CVX1_X2 CVX1_X3 CVX2_X3 Column
  Description FBG_Median FMedian FMedianBG_correct MFI MFI_val Name Row
  TAG TAG_mfi TAG_name X Y antigen antigen_name best_CV buffers
  day_batches global_BGMedian index log_bg log_fb machines
  meanBest2_RLM meanX meanX1_X2 meanX1_X3 meanX2_X3 meanY mean_all_anti
  mean_mfi minimum_BGMedian prop rank_mean_all_anti sampleID sampleID2
  sample_array_ID sample_index sdX sdX1_X2 sdX1_X3 sdX2_X3 sd_mfi
  selected slide stdev_all_anti temp v1 v2 val value variable x xbar
* checking Rd files ... OK
* checking Rd metadata ... OK
* checking Rd cross-references ... OK
* checking for missing documentation entries ... OK
* checking for code/documentation mismatches ... OK
* checking Rd \usage sections ... OK
* checking Rd contents ... OK
* checking for unstated dependencies in examples ... OK
* checking files in ‘vignettes’ ... OK
* checking examples ... OK
Examples with CPU (user + system) or elapsed time > 5s
                         user system elapsed
plot_normalised         2.785  0.239   8.280
matrix_normalise        2.196  0.245   7.407
plot_normalised_antigen 2.160  0.246   7.375
* checking for unstated dependencies in vignettes ... OK
* checking package vignettes in ‘inst/doc’ ... OK
* checking running R code from vignettes ... SKIPPED
* checking re-building of vignette outputs ... SKIPPED
* checking PDF version of manual ... OK
* DONE

Status: 1 NOTE
See
  ‘/Users/biocbuild/bbs-3.17-bioc/meat/protGear.Rcheck/00check.log’
for details.



Installation output

protGear.Rcheck/00install.out

##############################################################################
##############################################################################
###
### Running command:
###
###   /Library/Frameworks/R.framework/Resources/bin/R CMD INSTALL protGear
###
##############################################################################
##############################################################################


* installing to library ‘/Library/Frameworks/R.framework/Versions/4.3/Resources/library’
* installing *source* package ‘protGear’ ...
** using staged installation
** R
** inst
** byte-compile and prepare package for lazy loading
** help
*** installing help indices
*** copying figures
** building package indices
** installing vignettes
** testing if installed package can be loaded from temporary location
** testing if installed package can be loaded from final location
** testing if installed package keeps a record of temporary installation path
* DONE (protGear)

Tests output


Example timings

protGear.Rcheck/protGear-Ex.timings

nameusersystemelapsed
array_vars0.0020.0010.002
best_CV_estimation1.1810.0822.023
buffer_spots0.1950.0220.546
check_sampleID_files0.0050.0010.006
create_dir0.0010.0010.001
cv_by_sample_estimation0.5790.0651.114
cv_estimation0.4970.0220.991
extract_bg0.6990.0131.030
launch_protGear_interactive0.0020.0000.007
launch_select0.0020.0000.002
matrix_normalise2.1960.2457.407
merge_sampleID0.8890.0091.288
minpositive000
name_of_files000
output_trend_stats0.0000.0000.001
plot_FB0.4380.0160.699
plot_bg1.1280.0181.767
plot_buffer1.1480.0161.691
plot_normalised2.7850.2398.280
plot_normalised_antigen2.1600.2467.375
read_array_files0.1340.0040.205
read_array_visualize0.0640.0030.098
rlm_normalise0.2720.2024.332
rlm_normalise_matrix0.2670.2134.726
tag_subtract0.9080.0281.550
visualize_slide1.5950.0272.282
visualize_slide_2d0.6860.0281.000