Back to Multiple platform build/check report for BioC 3.17:   simplified   long
A[B]CDEFGHIJKLMNOPQRSTUVWXYZ

This page was generated on 2023-06-05 11:02:58 -0400 (Mon, 05 Jun 2023).

HostnameOSArch (*)R versionInstalled pkgs
nebbiolo1Linux (Ubuntu 22.04.2 LTS)x86_644.3.0 RC (2023-04-13 r84269) -- "Already Tomorrow" 4623
palomino3Windows Server 2022 Datacenterx644.3.0 RC (2023-04-13 r84269 ucrt) -- "Already Tomorrow" 4374
merida1macOS 12.6.4 Montereyx86_644.3.0 RC (2023-04-13 r84257) -- "Already Tomorrow" 4332
Click on any hostname to see more info about the system (e.g. compilers)      (*) as reported by 'uname -p', except on Windows and Mac OS X

All results for package Biobase


To the developers/maintainers of the Biobase package:
- Allow up to 24 hours (and sometimes 48 hours) for your latest push to git@git.bioconductor.org:packages/Biobase.git to reflect on this report. See Troubleshooting Build Report for more information.

- Use the following Renviron settings to reproduce errors and warnings.

Note: If "R CMD check" recently failed on the Linux builder over a missing dependency, add the missing dependency to "Suggests" in your DESCRIPTION file. See the Renviron.bioc for details.

raw results

Package 167/2229HostnameOS / ArchINSTALLBUILDCHECKBUILD BIN
Biobase 2.60.0  (landing page)
Bioconductor Package Maintainer
Snapshot Date: 2023-06-04 14:00:14 -0400 (Sun, 04 Jun 2023)
git_url: https://git.bioconductor.org/packages/Biobase
git_branch: RELEASE_3_17
git_last_commit: 8dc10d2
git_last_commit_date: 2023-04-25 09:38:08 -0400 (Tue, 25 Apr 2023)
nebbiolo1Linux (Ubuntu 22.04.2 LTS) / x86_64  OK    OK    WARNINGS  UNNEEDED, same version is already published
palomino3Windows Server 2022 Datacenter / x64  OK    OK    OK    OK  UNNEEDED, same version is already published
merida1macOS 12.6.4 Monterey / x86_64  OK    OK    OK    OK  UNNEEDED, same version is already published

Results for Bioconductor software packages that depend directly on package Biobase

QUICK STATSOS / ArchINSTALLBUILDCHECKBUILD BIN
nebbiolo1Linux (Ubuntu 22.04.2 LTS) / x86_64
02457
017442
02894320
palomino3Windows Server 2022 Datacenter / x64
01453
016438
01694328
00438
merida1macOS 12.6.4 Monterey / x86_64
05453
120437
41594324
00143
Package 1/459HostnameOS / ArchINSTALLBUILDCHECKBUILD BIN
a4Base 1.48.0  (landing page)
Laure Cougnaud
git_last_commit: 26d5793
git_last_commit_date: 2023-04-25 10:19:28 -0400
nebbiolo1Linux (Ubuntu 22.04.2 LTS) / x86_64  OK    OK    OK  UNNEEDED, same version is already published
palomino3Windows Server 2022 Datacenter / x64  OK    OK    OK    OK  UNNEEDED, same version is already published
merida1macOS 12.6.4 Monterey / x86_64  OK    OK    OK    OK  UNNEEDED, same version is already published
Package 2/459HostnameOS / ArchINSTALLBUILDCHECKBUILD BIN
a4Classif 1.48.0  (landing page)
Laure Cougnaud
git_last_commit: 1e2ff90
git_last_commit_date: 2023-04-25 10:19:33 -0400
nebbiolo1Linux (Ubuntu 22.04.2 LTS) / x86_64  OK    OK    OK  UNNEEDED, same version is already published
palomino3Windows Server 2022 Datacenter / x64  OK    OK    OK    OK  UNNEEDED, same version is already published
merida1macOS 12.6.4 Monterey / x86_64  OK    OK    OK    OK  UNNEEDED, same version is already published
Package 3/459HostnameOS / ArchINSTALLBUILDCHECKBUILD BIN
a4Core 1.48.0  (landing page)
Laure Cougnaud
git_last_commit: 3dd09f0
git_last_commit_date: 2023-04-25 10:19:35 -0400
nebbiolo1Linux (Ubuntu 22.04.2 LTS) / x86_64  OK    OK    OK  UNNEEDED, same version is already published
palomino3Windows Server 2022 Datacenter / x64  OK    OK    OK    OK  UNNEEDED, same version is already published
merida1macOS 12.6.4 Monterey / x86_64  OK    OK    OK    OK  UNNEEDED, same version is already published
Package 4/459HostnameOS / ArchINSTALLBUILDCHECKBUILD BIN
a4Preproc 1.48.0  (landing page)
Laure Cougnaud
git_last_commit: d3bf8b8
git_last_commit_date: 2023-04-25 10:19:30 -0400
nebbiolo1Linux (Ubuntu 22.04.2 LTS) / x86_64  OK    OK    OK  UNNEEDED, same version is already published
palomino3Windows Server 2022 Datacenter / x64  OK    OK    OK    OK  UNNEEDED, same version is already published
merida1macOS 12.6.4 Monterey / x86_64  OK    OK    OK    OK  UNNEEDED, same version is already published
Package 5/459HostnameOS / ArchINSTALLBUILDCHECKBUILD BIN
ABarray 1.68.0  (landing page)
Yongming Andrew Sun
git_last_commit: 7ffc3cf
git_last_commit_date: 2023-04-25 09:43:58 -0400
nebbiolo1Linux (Ubuntu 22.04.2 LTS) / x86_64  OK    OK    OK  UNNEEDED, same version is already published
palomino3Windows Server 2022 Datacenter / x64  OK    OK    OK    OK  UNNEEDED, same version is already published
merida1macOS 12.6.4 Monterey / x86_64  OK    OK    OK    OK  UNNEEDED, same version is already published
Package 6/459HostnameOS / ArchINSTALLBUILDCHECKBUILD BIN
ACE 1.18.0  (landing page)
Jos B Poell
git_last_commit: 4c6870f
git_last_commit_date: 2023-04-25 11:03:07 -0400
nebbiolo1Linux (Ubuntu 22.04.2 LTS) / x86_64  OK    OK    OK  UNNEEDED, same version is already published
palomino3Windows Server 2022 Datacenter / x64  OK    OK    OK    OK  UNNEEDED, same version is already published
merida1macOS 12.6.4 Monterey / x86_64  OK    OK    OK    OK  UNNEEDED, same version is already published
Package 7/459HostnameOS / ArchINSTALLBUILDCHECKBUILD BIN
aCGH 1.78.0  (landing page)
Peter Dimitrov
git_last_commit: 75df3a4
git_last_commit_date: 2023-04-25 09:40:31 -0400
nebbiolo1Linux (Ubuntu 22.04.2 LTS) / x86_64  OK    OK    OK  UNNEEDED, same version is already published
palomino3Windows Server 2022 Datacenter / x64  OK    OK    OK    OK  UNNEEDED, same version is already published
merida1macOS 12.6.4 Monterey / x86_64  OK    OK    OK    OK  UNNEEDED, same version is already published
Package 8/459HostnameOS / ArchINSTALLBUILDCHECKBUILD BIN
ACME 2.56.0  (landing page)
Sean Davis
git_last_commit: 083af12
git_last_commit_date: 2023-04-25 09:45:10 -0400
nebbiolo1Linux (Ubuntu 22.04.2 LTS) / x86_64  OK    OK    WARNINGS  UNNEEDED, same version is already published
palomino3Windows Server 2022 Datacenter / x64  OK    OK    WARNINGS    OK  UNNEEDED, same version is already published
merida1macOS 12.6.4 Monterey / x86_64  OK    OK    OK    OK  UNNEEDED, same version is already published
Package 9/459HostnameOS / ArchINSTALLBUILDCHECKBUILD BIN
adSplit 1.70.0  (landing page)
Claudio Lottaz
git_last_commit: a08a994
git_last_commit_date: 2023-04-25 09:43:13 -0400
nebbiolo1Linux (Ubuntu 22.04.2 LTS) / x86_64  OK    OK    OK  UNNEEDED, same version is already published
palomino3Windows Server 2022 Datacenter / x64  OK    OK    OK    OK  UNNEEDED, same version is already published
merida1macOS 12.6.4 Monterey / x86_64  OK    OK    OK    OK  UNNEEDED, same version is already published
Package 10/459HostnameOS / ArchINSTALLBUILDCHECKBUILD BIN
affy 1.78.0  (landing page)
Rafael A. Irizarry
git_last_commit: cc7eac3
git_last_commit_date: 2023-04-25 09:38:42 -0400
nebbiolo1Linux (Ubuntu 22.04.2 LTS) / x86_64  OK    OK    ERROR  
palomino3Windows Server 2022 Datacenter / x64  OK    OK    WARNINGS    OK  UNNEEDED, same version is already published
merida1macOS 12.6.4 Monterey / x86_64  OK    OK    WARNINGS    OK  UNNEEDED, same version is already published
Package 11/459HostnameOS / ArchINSTALLBUILDCHECKBUILD BIN
affycomp 1.76.0  (landing page)
Rafael A. Irizarry
git_last_commit: 8bfc628
git_last_commit_date: 2023-04-25 09:39:00 -0400
nebbiolo1Linux (Ubuntu 22.04.2 LTS) / x86_64  OK    OK    OK  UNNEEDED, same version is already published
palomino3Windows Server 2022 Datacenter / x64  OK    OK    OK    OK  UNNEEDED, same version is already published
merida1macOS 12.6.4 Monterey / x86_64  OK    OK    OK    OK  UNNEEDED, same version is already published
Package 12/459HostnameOS / ArchINSTALLBUILDCHECKBUILD BIN
affyContam 1.58.0  (landing page)
V. Carey
git_last_commit: 5e91d79
git_last_commit_date: 2023-04-25 09:47:50 -0400
nebbiolo1Linux (Ubuntu 22.04.2 LTS) / x86_64  OK    OK    OK  UNNEEDED, same version is already published
palomino3Windows Server 2022 Datacenter / x64  OK    OK    OK    OK  UNNEEDED, same version is already published
merida1macOS 12.6.4 Monterey / x86_64  OK    OK    OK    OK  UNNEEDED, same version is already published
Package 13/459HostnameOS / ArchINSTALLBUILDCHECKBUILD BIN
affycoretools 1.72.0  (landing page)
James W. MacDonald
git_last_commit: 229ae09
git_last_commit_date: 2023-04-25 09:42:43 -0400
nebbiolo1Linux (Ubuntu 22.04.2 LTS) / x86_64  OK    OK    OK  UNNEEDED, same version is already published
palomino3Windows Server 2022 Datacenter / x64  OK    OK    OK    OK  UNNEEDED, same version is already published
merida1macOS 12.6.4 Monterey / x86_64  OK    OK    OK    OK  NO, package depends on 'ReportingTools' which is not available
Package 14/459HostnameOS / ArchINSTALLBUILDCHECKBUILD BIN
affyILM 1.52.0  (landing page)
Myriam Kroll and Fabrice Berger
git_last_commit: 08ed8c6
git_last_commit_date: 2023-04-25 09:51:06 -0400
nebbiolo1Linux (Ubuntu 22.04.2 LTS) / x86_64  OK    OK    OK  UNNEEDED, same version is already published
palomino3Windows Server 2022 Datacenter / x64  OK    OK    OK    OK  UNNEEDED, same version is already published
merida1macOS 12.6.4 Monterey / x86_64  OK    OK    OK    OK  UNNEEDED, same version is already published
Package 15/459HostnameOS / ArchINSTALLBUILDCHECKBUILD BIN
affyPLM 1.76.1  (landing page)
Ben Bolstad
git_last_commit: d20fa58
git_last_commit_date: 2023-05-01 20:07:56 -0400
nebbiolo1Linux (Ubuntu 22.04.2 LTS) / x86_64  OK    OK    ERROR  
palomino3Windows Server 2022 Datacenter / x64  OK    OK    WARNINGS    OK  UNNEEDED, same version is already published
merida1macOS 12.6.4 Monterey / x86_64  OK    OK    OK    OK  UNNEEDED, same version is already published
Package 16/459HostnameOS / ArchINSTALLBUILDCHECKBUILD BIN
AGDEX 1.48.0  (landing page)
Cuilan lani Gao
git_last_commit: 917920b
git_last_commit_date: 2023-04-25 10:21:04 -0400
nebbiolo1Linux (Ubuntu 22.04.2 LTS) / x86_64  OK    OK    OK  UNNEEDED, same version is already published
palomino3Windows Server 2022 Datacenter / x64  OK    OK    OK    OK  UNNEEDED, same version is already published
merida1macOS 12.6.4 Monterey / x86_64  OK    OK    OK    OK  UNNEEDED, same version is already published
Package 17/459HostnameOS / ArchINSTALLBUILDCHECKBUILD BIN
AgiMicroRna 2.50.0  (landing page)
Pedro Lopez-Romero
git_last_commit: a812b0f
git_last_commit_date: 2023-04-25 09:49:25 -0400
nebbiolo1Linux (Ubuntu 22.04.2 LTS) / x86_64  OK    OK    WARNINGS  UNNEEDED, same version is already published
palomino3Windows Server 2022 Datacenter / x64  OK    OK    WARNINGS    OK  UNNEEDED, same version is already published
merida1macOS 12.6.4 Monterey / x86_64  OK    OK    WARNINGS    OK  NO, package depends on 'affycoretools' which is not available
Package 18/459HostnameOS / ArchINSTALLBUILDCHECKBUILD BIN
AIMS 1.32.0  (landing page)
Eric R Paquet
git_last_commit: 019415a
git_last_commit_date: 2023-04-25 10:36:39 -0400
nebbiolo1Linux (Ubuntu 22.04.2 LTS) / x86_64  OK    OK    OK  UNNEEDED, same version is already published
palomino3Windows Server 2022 Datacenter / x64  OK    OK    OK    OK  UNNEEDED, same version is already published
merida1macOS 12.6.4 Monterey / x86_64  OK    OK    OK    OK  UNNEEDED, same version is already published
Package 19/459HostnameOS / ArchINSTALLBUILDCHECKBUILD BIN
altcdfenvs 2.62.0  (landing page)
Laurent Gautier
git_last_commit: aedf0e9
git_last_commit_date: 2023-04-25 09:40:05 -0400
nebbiolo1Linux (Ubuntu 22.04.2 LTS) / x86_64  OK    OK    OK  UNNEEDED, same version is already published
palomino3Windows Server 2022 Datacenter / x64  OK    OK    OK    OK  UNNEEDED, same version is already published
merida1macOS 12.6.4 Monterey / x86_64  OK    OK    OK    OK  UNNEEDED, same version is already published
Package 20/459HostnameOS / ArchINSTALLBUILDCHECKBUILD BIN
ANF 1.22.0  (landing page)
Tianle Ma
git_last_commit: 1c3093f
git_last_commit_date: 2023-04-25 10:57:08 -0400
nebbiolo1Linux (Ubuntu 22.04.2 LTS) / x86_64  OK    OK    ERROR  
palomino3Windows Server 2022 Datacenter / x64  OK    OK    OK    OK  UNNEEDED, same version is already published
merida1macOS 12.6.4 Monterey / x86_64  OK    OK    OK    OK  UNNEEDED, same version is already published
Package 21/459HostnameOS / ArchINSTALLBUILDCHECKBUILD BIN
annaffy 1.72.0  (landing page)
Colin A. Smith
git_last_commit: 7cb4397
git_last_commit_date: 2023-04-25 09:39:13 -0400
nebbiolo1Linux (Ubuntu 22.04.2 LTS) / x86_64  OK    OK    WARNINGS  UNNEEDED, same version is already published
palomino3Windows Server 2022 Datacenter / x64  OK    OK    WARNINGS    OK  UNNEEDED, same version is already published
merida1macOS 12.6.4 Monterey / x86_64  OK    OK    WARNINGS    OK  UNNEEDED, same version is already published
Package 22/459HostnameOS / ArchINSTALLBUILDCHECKBUILD BIN
annmap 1.42.0  (landing page)
Chris Wirth
git_last_commit: b4cafd1
git_last_commit_date: 2023-04-25 10:23:14 -0400
nebbiolo1Linux (Ubuntu 22.04.2 LTS) / x86_64  OK    OK    WARNINGS  UNNEEDED, same version is already published
palomino3Windows Server 2022 Datacenter / x64... NOT SUPPORTED ...
merida1macOS 12.6.4 Monterey / x86_64  OK    OK    WARNINGS    OK  UNNEEDED, same version is already published
Package 23/459HostnameOS / ArchINSTALLBUILDCHECKBUILD BIN
annotate 1.78.0  (landing page)
Bioconductor Package Maintainer
git_last_commit: ca6415a
git_last_commit_date: 2023-04-25 09:38:15 -0400
nebbiolo1Linux (Ubuntu 22.04.2 LTS) / x86_64  OK    OK    OK  UNNEEDED, same version is already published
palomino3Windows Server 2022 Datacenter / x64  OK    OK    ERROR    OK  
merida1macOS 12.6.4 Monterey / x86_64  OK    OK    ERROR    OK  
Package 24/459HostnameOS / ArchINSTALLBUILDCHECKBUILD BIN
AnnotationDbi 1.62.1  (landing page)
Bioconductor Package Maintainer
git_last_commit: 21f8479
git_last_commit_date: 2023-05-01 20:20:45 -0400
nebbiolo1Linux (Ubuntu 22.04.2 LTS) / x86_64  OK    OK    WARNINGS  UNNEEDED, same version is already published
palomino3Windows Server 2022 Datacenter / x64  OK    OK    WARNINGS    OK  UNNEEDED, same version is already published
merida1macOS 12.6.4 Monterey / x86_64  OK    OK    WARNINGS    OK  UNNEEDED, same version is already published
Package 25/459HostnameOS / ArchINSTALLBUILDCHECKBUILD BIN
AnnotationForge 1.42.0  (landing page)
Bioconductor Package Maintainer
git_last_commit: 2eac005
git_last_commit_date: 2023-04-25 10:23:24 -0400
nebbiolo1Linux (Ubuntu 22.04.2 LTS) / x86_64  OK    OK    WARNINGS  UNNEEDED, same version is already published
palomino3Windows Server 2022 Datacenter / x64  OK    OK    WARNINGS    OK  UNNEEDED, same version is already published
merida1macOS 12.6.4 Monterey / x86_64  OK    OK    WARNINGS    OK  UNNEEDED, same version is already published
Package 26/459HostnameOS / ArchINSTALLBUILDCHECKBUILD BIN
AnnotationHubData 1.30.0  (landing page)
Bioconductor Package Maintainer
git_last_commit: 3cf163f
git_last_commit_date: 2023-04-25 10:41:16 -0400
nebbiolo1Linux (Ubuntu 22.04.2 LTS) / x86_64  OK    OK    WARNINGS  UNNEEDED, same version is already published
palomino3Windows Server 2022 Datacenter / x64  OK    OK    WARNINGS    OK  UNNEEDED, same version is already published
merida1macOS 12.6.4 Monterey / x86_64  OK    OK    WARNINGS    OK  UNNEEDED, same version is already published
Package 27/459HostnameOS / ArchINSTALLBUILDCHECKBUILD BIN
annotationTools 1.74.0  (landing page)
Alexandre Kuhn
git_last_commit: 4115322
git_last_commit_date: 2023-04-25 09:44:59 -0400
nebbiolo1Linux (Ubuntu 22.04.2 LTS) / x86_64  OK    OK    OK  UNNEEDED, same version is already published
palomino3Windows Server 2022 Datacenter / x64  OK    OK    OK    OK  UNNEEDED, same version is already published
merida1macOS 12.6.4 Monterey / x86_64  OK    OK    OK    OK  UNNEEDED, same version is already published
Package 28/459HostnameOS / ArchINSTALLBUILDCHECKBUILD BIN
ArrayExpress 1.60.0  (landing page)
Jose Marugan
git_last_commit: e1d39c3
git_last_commit_date: 2023-04-25 09:47:37 -0400
nebbiolo1Linux (Ubuntu 22.04.2 LTS) / x86_64  OK    OK    OK  UNNEEDED, same version is already published
palomino3Windows Server 2022 Datacenter / x64  OK    OK    OK    OK  UNNEEDED, same version is already published
merida1macOS 12.6.4 Monterey / x86_64  OK    OK    OK    OK  UNNEEDED, same version is already published
Package 29/459HostnameOS / ArchINSTALLBUILDCHECKBUILD BIN
ArrayExpressHTS 1.50.0  (landing page)
Angela Goncalves , Andrew Tikhonov
git_last_commit: 7b79d4b
git_last_commit_date: 2023-04-25 10:19:47 -0400
nebbiolo1Linux (Ubuntu 22.04.2 LTS) / x86_64  ERROR    ERROR  skipped
palomino3Windows Server 2022 Datacenter / x64... NOT SUPPORTED ...
merida1macOS 12.6.4 Monterey / x86_64  ERROR    ERROR  skippedskipped
Package 30/459HostnameOS / ArchINSTALLBUILDCHECKBUILD BIN
arrayMvout 1.58.0  (landing page)
V. Carey
git_last_commit: 605c03a
git_last_commit_date: 2023-04-25 09:47:53 -0400
nebbiolo1Linux (Ubuntu 22.04.2 LTS) / x86_64  OK    OK    OK  UNNEEDED, same version is already published
palomino3Windows Server 2022 Datacenter / x64  OK    OK    OK    OK  UNNEEDED, same version is already published
merida1macOS 12.6.4 Monterey / x86_64  OK    OK    OK    OK  UNNEEDED, same version is already published
Package 31/459HostnameOS / ArchINSTALLBUILDCHECKBUILD BIN
arrayQualityMetrics 3.56.0  (landing page)
Mike Smith
git_last_commit: 26deab2
git_last_commit_date: 2023-04-25 09:45:46 -0400
nebbiolo1Linux (Ubuntu 22.04.2 LTS) / x86_64  OK    OK    OK  UNNEEDED, same version is already published
palomino3Windows Server 2022 Datacenter / x64  OK    OK    OK    OK  UNNEEDED, same version is already published
merida1macOS 12.6.4 Monterey / x86_64  OK    OK    OK    OK  UNNEEDED, same version is already published
Package 32/459HostnameOS / ArchINSTALLBUILDCHECKBUILD BIN
attract 1.52.0  (landing page)
Samuel Zimmerman
git_last_commit: 5ceff70
git_last_commit_date: 2023-04-25 09:51:08 -0400
nebbiolo1Linux (Ubuntu 22.04.2 LTS) / x86_64  OK    OK    OK  UNNEEDED, same version is already published
palomino3Windows Server 2022 Datacenter / x64  OK    OK    OK    OK  UNNEEDED, same version is already published
merida1macOS 12.6.4 Monterey / x86_64  OK    OK    OK    OK  UNNEEDED, same version is already published
Package 33/459HostnameOS / ArchINSTALLBUILDCHECKBUILD BIN
BAGS 2.40.0  (landing page)
Alejandro Quiroz-Zarate
git_last_commit: 2d51cfc
git_last_commit_date: 2023-04-25 10:22:09 -0400
nebbiolo1Linux (Ubuntu 22.04.2 LTS) / x86_64  OK    OK    OK  UNNEEDED, same version is already published
palomino3Windows Server 2022 Datacenter / x64  OK    OK    OK    OK  UNNEEDED, same version is already published
merida1macOS 12.6.4 Monterey / x86_64  OK    OK    OK    OK  UNNEEDED, same version is already published
Package 34/459HostnameOS / ArchINSTALLBUILDCHECKBUILD BIN
ballgown 2.32.0  (landing page)
Jack Fu
git_last_commit: c0fc299
git_last_commit_date: 2023-04-25 10:33:25 -0400
nebbiolo1Linux (Ubuntu 22.04.2 LTS) / x86_64  OK    OK    OK  UNNEEDED, same version is already published
palomino3Windows Server 2022 Datacenter / x64  OK    OK    OK    OK  UNNEEDED, same version is already published
merida1macOS 12.6.4 Monterey / x86_64  OK    OK    OK    OK  UNNEEDED, same version is already published
Package 35/459HostnameOS / ArchINSTALLBUILDCHECKBUILD BIN
bandle 1.4.1  (landing page)
Oliver M. Crook
git_last_commit: 8df33a5
git_last_commit_date: 2023-05-01 20:09:04 -0400
nebbiolo1Linux (Ubuntu 22.04.2 LTS) / x86_64  OK    OK    OK  UNNEEDED, same version is already published
palomino3Windows Server 2022 Datacenter / x64  OK    OK    OK    OK  UNNEEDED, same version is already published
merida1macOS 12.6.4 Monterey / x86_64  OK    OK    OK    OK  UNNEEDED, same version is already published
Package 36/459HostnameOS / ArchINSTALLBUILDCHECKBUILD BIN
BASiCS 2.12.1  (landing page)
Catalina Vallejos
git_last_commit: ba27ab9
git_last_commit_date: 2023-05-01 20:02:57 -0400
nebbiolo1Linux (Ubuntu 22.04.2 LTS) / x86_64  OK    OK    ERROR  
palomino3Windows Server 2022 Datacenter / x64  OK    OK    ERROR    OK  
merida1macOS 12.6.4 Monterey / x86_64  OK    OK    ERROR    OK  
Package 37/459HostnameOS / ArchINSTALLBUILDCHECKBUILD BIN
BayesKnockdown 1.26.0  (landing page)
William Chad Young
git_last_commit: f90992e
git_last_commit_date: 2023-04-25 10:48:43 -0400
nebbiolo1Linux (Ubuntu 22.04.2 LTS) / x86_64  OK    OK    OK  UNNEEDED, same version is already published
palomino3Windows Server 2022 Datacenter / x64  OK    OK    OK    OK  UNNEEDED, same version is already published
merida1macOS 12.6.4 Monterey / x86_64  OK    OK    OK    OK  UNNEEDED, same version is already published
Package 38/459HostnameOS / ArchINSTALLBUILDCHECKBUILD BIN
beadarray 2.50.0  (landing page)
Mark Dunning
git_last_commit: 715d372
git_last_commit_date: 2023-04-25 09:43:07 -0400
nebbiolo1Linux (Ubuntu 22.04.2 LTS) / x86_64  OK    OK    OK  UNNEEDED, same version is already published
palomino3Windows Server 2022 Datacenter / x64  OK    OK    OK    OK  UNNEEDED, same version is already published
merida1macOS 12.6.4 Monterey / x86_64  OK    OK    OK    OK  UNNEEDED, same version is already published
Package 39/459HostnameOS / ArchINSTALLBUILDCHECKBUILD BIN
beadarraySNP 1.66.0  (landing page)
Jan Oosting
git_last_commit: 27b9827
git_last_commit_date: 2023-04-25 09:44:17 -0400
nebbiolo1Linux (Ubuntu 22.04.2 LTS) / x86_64  OK    OK    OK  UNNEEDED, same version is already published
palomino3Windows Server 2022 Datacenter / x64  OK    OK    OK    OK  UNNEEDED, same version is already published
merida1macOS 12.6.4 Monterey / x86_64  OK    OK    ERROR    OK  
Package 40/459HostnameOS / ArchINSTALLBUILDCHECKBUILD BIN
BgeeDB 2.26.0  (landing page)
Julien Wollbrett , Julien Roux , Andrea Komljenovic , Frederic Bastian
git_last_commit: 3b9b935
git_last_commit_date: 2023-04-25 10:46:24 -0400
nebbiolo1Linux (Ubuntu 22.04.2 LTS) / x86_64  OK    OK    OK  UNNEEDED, same version is already published
palomino3Windows Server 2022 Datacenter / x64  OK    OK    OK    OK  UNNEEDED, same version is already published
merida1macOS 12.6.4 Monterey / x86_64  OK    TIMEOUT  skippedskipped
Package 41/459HostnameOS / ArchINSTALLBUILDCHECKBUILD BIN
bgx 1.66.0  (landing page)
Ernest Turro
git_last_commit: 21cf621
git_last_commit_date: 2023-04-25 09:45:24 -0400
nebbiolo1Linux (Ubuntu 22.04.2 LTS) / x86_64  OK    OK    OK  UNNEEDED, same version is already published
palomino3Windows Server 2022 Datacenter / x64  OK    OK    OK    OK  UNNEEDED, same version is already published
merida1macOS 12.6.4 Monterey / x86_64  ERROR    ERROR  skippedskipped
Package 42/459HostnameOS / ArchINSTALLBUILDCHECKBUILD BIN
BicARE 1.58.0  (landing page)
Pierre Gestraud
git_last_commit: 2a8ab3f
git_last_commit_date: 2023-04-25 09:47:55 -0400
nebbiolo1Linux (Ubuntu 22.04.2 LTS) / x86_64  OK    OK    OK  UNNEEDED, same version is already published
palomino3Windows Server 2022 Datacenter / x64  OK    OK    OK    OK  UNNEEDED, same version is already published
merida1macOS 12.6.4 Monterey / x86_64  OK    OK    OK    OK  UNNEEDED, same version is already published
Package 43/459HostnameOS / ArchINSTALLBUILDCHECKBUILD BIN
bigmelon 1.26.0  (landing page)
Tyler J. Gorrie-Stone
git_last_commit: e32bf15
git_last_commit_date: 2023-04-25 10:49:39 -0400
nebbiolo1Linux (Ubuntu 22.04.2 LTS) / x86_64  OK    OK    OK  UNNEEDED, same version is already published
palomino3Windows Server 2022 Datacenter / x64  OK    OK    OK    OK  UNNEEDED, same version is already published
merida1macOS 12.6.4 Monterey / x86_64  OK    OK    OK    OK  UNNEEDED, same version is already published
Package 44/459HostnameOS / ArchINSTALLBUILDCHECKBUILD BIN
biobroom 1.32.0  (landing page)
John D. Storey and Andrew J. Bass
git_last_commit: 6e79c96
git_last_commit_date: 2023-04-25 10:42:30 -0400
nebbiolo1Linux (Ubuntu 22.04.2 LTS) / x86_64  OK    OK    WARNINGS  UNNEEDED, same version is already published
palomino3Windows Server 2022 Datacenter / x64  OK    OK    WARNINGS    OK  UNNEEDED, same version is already published
merida1macOS 12.6.4 Monterey / x86_64  OK    OK    WARNINGS    OK  UNNEEDED, same version is already published
Package 45/459HostnameOS / ArchINSTALLBUILDCHECKBUILD BIN
bioCancer 1.28.0  (landing page)
Karim Mezhoud
git_last_commit: 86b4e44
git_last_commit_date: 2023-04-25 10:47:14 -0400
nebbiolo1Linux (Ubuntu 22.04.2 LTS) / x86_64  OK    OK    OK  UNNEEDED, same version is already published
palomino3Windows Server 2022 Datacenter / x64  OK    OK    OK    OK  UNNEEDED, same version is already published
merida1macOS 12.6.4 Monterey / x86_64  OK    OK    OK    OK  UNNEEDED, same version is already published
Package 46/459HostnameOS / ArchINSTALLBUILDCHECKBUILD BIN
biocViews 1.68.1  (landing page)
Bioconductor Package Maintainer
git_last_commit: 2eaf0a0
git_last_commit_date: 2023-05-09 16:51:01 -0400
nebbiolo1Linux (Ubuntu 22.04.2 LTS) / x86_64  OK    OK    OK  UNNEEDED, same version is already published
palomino3Windows Server 2022 Datacenter / x64  OK    OK    OK    OK  UNNEEDED, same version is already published
merida1macOS 12.6.4 Monterey / x86_64  OK    OK    OK    OK  UNNEEDED, same version is already published
Package 47/459HostnameOS / ArchINSTALLBUILDCHECKBUILD BIN
bioDist 1.72.0  (landing page)
Bioconductor Package Maintainer
git_last_commit: e6cc5f4
git_last_commit_date: 2023-04-25 09:41:20 -0400
nebbiolo1Linux (Ubuntu 22.04.2 LTS) / x86_64  OK    OK    OK  UNNEEDED, same version is already published
palomino3Windows Server 2022 Datacenter / x64  OK    OK    OK    OK  UNNEEDED, same version is already published
merida1macOS 12.6.4 Monterey / x86_64  OK    OK    OK    OK  UNNEEDED, same version is already published
Package 48/459HostnameOS / ArchINSTALLBUILDCHECKBUILD BIN
BioMVCClass 1.68.0  (landing page)
Elizabeth Whalen
git_last_commit: 83d67f8
git_last_commit_date: 2023-04-25 09:44:12 -0400
nebbiolo1Linux (Ubuntu 22.04.2 LTS) / x86_64  OK    OK    OK  UNNEEDED, same version is already published
palomino3Windows Server 2022 Datacenter / x64  OK    OK    OK    OK  UNNEEDED, same version is already published
merida1macOS 12.6.4 Monterey / x86_64  OK    OK    OK    OK  UNNEEDED, same version is already published
Package 49/459HostnameOS / ArchINSTALLBUILDCHECKBUILD BIN
BioNet 1.60.0  (landing page)
Marcus Dittrich
git_last_commit: 28566a3
git_last_commit_date: 2023-04-25 10:17:41 -0400
nebbiolo1Linux (Ubuntu 22.04.2 LTS) / x86_64  OK    OK    OK  UNNEEDED, same version is already published
palomino3Windows Server 2022 Datacenter / x64  OK    OK    OK    OK  UNNEEDED, same version is already published
merida1macOS 12.6.4 Monterey / x86_64  OK    OK    OK    OK  UNNEEDED, same version is already published
Package 50/459HostnameOS / ArchINSTALLBUILDCHECKBUILD BIN
BioQC 1.28.0  (landing page)
Jitao David Zhang
git_last_commit: 717b921
git_last_commit_date: 2023-04-25 10:42:59 -0400
nebbiolo1Linux (Ubuntu 22.04.2 LTS) / x86_64  OK    OK    OK  UNNEEDED, same version is already published
palomino3Windows Server 2022 Datacenter / x64  OK    OK    OK    OK  UNNEEDED, same version is already published
merida1macOS 12.6.4 Monterey / x86_64  OK    OK    OK    OK  UNNEEDED, same version is already published
Package 51/459HostnameOS / ArchINSTALLBUILDCHECKBUILD BIN
biosigner 1.28.0  (landing page)
Etienne A. Thevenot
git_last_commit: 83d8e8f
git_last_commit_date: 2023-04-25 10:44:49 -0400
nebbiolo1Linux (Ubuntu 22.04.2 LTS) / x86_64  OK    OK    OK  UNNEEDED, same version is already published
palomino3Windows Server 2022 Datacenter / x64  OK    OK    OK    OK  UNNEEDED, same version is already published
merida1macOS 12.6.4 Monterey / x86_64  OK    OK    OK    OK  UNNEEDED, same version is already published
Package 52/459HostnameOS / ArchINSTALLBUILDCHECKBUILD BIN
biscuiteer 1.14.0  (landing page)
Jacob Morrison
git_last_commit: 94ce421
git_last_commit_date: 2023-04-25 11:13:36 -0400
nebbiolo1Linux (Ubuntu 22.04.2 LTS) / x86_64  OK    OK    WARNINGS  UNNEEDED, same version is already published
palomino3Windows Server 2022 Datacenter / x64  OK    OK    WARNINGS    OK  UNNEEDED, same version is already published
merida1macOS 12.6.4 Monterey / x86_64  OK    OK    WARNINGS    OK  UNNEEDED, same version is already published
Package 53/459HostnameOS / ArchINSTALLBUILDCHECKBUILD BIN
BiSeq 1.40.0  (landing page)
Katja Hebestreit
git_last_commit: 9e686d0
git_last_commit_date: 2023-04-25 10:26:59 -0400
nebbiolo1Linux (Ubuntu 22.04.2 LTS) / x86_64  OK    OK    OK  UNNEEDED, same version is already published
palomino3Windows Server 2022 Datacenter / x64  OK    OK    OK    OK  UNNEEDED, same version is already published
merida1macOS 12.6.4 Monterey / x86_64  OK    OK    OK    OK  UNNEEDED, same version is already published
Package 54/459HostnameOS / ArchINSTALLBUILDCHECKBUILD BIN
blima 1.34.0  (landing page)
Vojtěch Kulvait
git_last_commit: fc6ce78
git_last_commit_date: 2023-04-25 10:32:12 -0400
nebbiolo1Linux (Ubuntu 22.04.2 LTS) / x86_64  OK    OK    WARNINGS  UNNEEDED, same version is already published
palomino3Windows Server 2022 Datacenter / x64  OK    OK    WARNINGS    OK  UNNEEDED, same version is already published
merida1macOS 12.6.4 Monterey / x86_64  OK    OK    WARNINGS    OK  UNNEEDED, same version is already published
Package 55/459HostnameOS / ArchINSTALLBUILDCHECKBUILD BIN
BLMA 1.24.0  (landing page)
Hung Nguyen
git_last_commit: 9e25aac
git_last_commit_date: 2023-04-25 10:53:56 -0400
nebbiolo1Linux (Ubuntu 22.04.2 LTS) / x86_64  OK    OK    OK  UNNEEDED, same version is already published
palomino3Windows Server 2022 Datacenter / x64  OK    OK    OK    OK  UNNEEDED, same version is already published
merida1macOS 12.6.4 Monterey / x86_64  OK    OK    OK    OK  UNNEEDED, same version is already published
Package 56/459HostnameOS / ArchINSTALLBUILDCHECKBUILD BIN
bnem 1.8.0  (landing page)
Martin Pirkl
git_last_commit: 7315914
git_last_commit_date: 2023-05-23 04:35:29 -0400
nebbiolo1Linux (Ubuntu 22.04.2 LTS) / x86_64  OK    OK    OK  UNNEEDED, same version is already published
palomino3Windows Server 2022 Datacenter / x64  OK    OK    OK    OK  UNNEEDED, same version is already published
merida1macOS 12.6.4 Monterey / x86_64  OK    OK    OK    OK  UNNEEDED, same version is already published
Package 57/459HostnameOS / ArchINSTALLBUILDCHECKBUILD BIN
borealis 1.4.0  (landing page)
Garrett Jenkinson
git_last_commit: 98cafa0
git_last_commit_date: 2023-04-25 11:37:41 -0400
nebbiolo1Linux (Ubuntu 22.04.2 LTS) / x86_64  OK    OK    OK  UNNEEDED, same version is already published
palomino3Windows Server 2022 Datacenter / x64  OK    OK    OK    OK  UNNEEDED, same version is already published
merida1macOS 12.6.4 Monterey / x86_64  OK    OK    OK    OK  UNNEEDED, same version is already published
Package 58/459HostnameOS / ArchINSTALLBUILDCHECKBUILD BIN
BSgenomeForge 1.0.0  (landing page)
Hervé Pagès
git_last_commit: 21b3f25
git_last_commit_date: 2023-04-25 11:43:56 -0400
nebbiolo1Linux (Ubuntu 22.04.2 LTS) / x86_64  OK    OK    OK  UNNEEDED, same version is already published
palomino3Windows Server 2022 Datacenter / x64  OK    OK    ERROR    OK  
merida1macOS 12.6.4 Monterey / x86_64  OK    OK    OK    OK  UNNEEDED, same version is already published
Package 59/459HostnameOS / ArchINSTALLBUILDCHECKBUILD BIN
bsseq 1.36.0  (landing page)
Kasper Daniel Hansen
git_last_commit: 5dd72c5
git_last_commit_date: 2023-04-25 10:23:31 -0400
nebbiolo1Linux (Ubuntu 22.04.2 LTS) / x86_64  OK    OK    OK  UNNEEDED, same version is already published
palomino3Windows Server 2022 Datacenter / x64  OK    OK    OK    OK  UNNEEDED, same version is already published
merida1macOS 12.6.4 Monterey / x86_64  OK    OK    OK    OK  UNNEEDED, same version is already published
Package 60/459HostnameOS / ArchINSTALLBUILDCHECKBUILD BIN
BubbleTree 2.30.0  (landing page)
Todd Creasy , Wei Zhu
git_last_commit: 8686dde
git_last_commit_date: 2023-04-25 10:37:41 -0400
nebbiolo1Linux (Ubuntu 22.04.2 LTS) / x86_64  OK    OK    OK  UNNEEDED, same version is already published
palomino3Windows Server 2022 Datacenter / x64  OK    OK    OK    OK  UNNEEDED, same version is already published
merida1macOS 12.6.4 Monterey / x86_64  OK    OK    OK    OK  UNNEEDED, same version is already published
Package 61/459HostnameOS / ArchINSTALLBUILDCHECKBUILD BIN
CAFE 1.36.0  (landing page)
Sander Bollen
git_last_commit: 4cd77fe
git_last_commit_date: 2023-04-25 10:30:44 -0400
nebbiolo1Linux (Ubuntu 22.04.2 LTS) / x86_64  OK    OK    WARNINGS  UNNEEDED, same version is already published
palomino3Windows Server 2022 Datacenter / x64  OK    OK    WARNINGS    OK  UNNEEDED, same version is already published
merida1macOS 12.6.4 Monterey / x86_64  OK    OK    WARNINGS    OK  UNNEEDED, same version is already published
Package 62/459HostnameOS / ArchINSTALLBUILDCHECKBUILD BIN
CAMERA 1.56.0  (landing page)
Steffen Neumann
git_last_commit: 8622c31
git_last_commit_date: 2023-04-25 09:48:21 -0400
nebbiolo1Linux (Ubuntu 22.04.2 LTS) / x86_64  OK    OK    OK  UNNEEDED, same version is already published
palomino3Windows Server 2022 Datacenter / x64  OK    OK    OK    OK  UNNEEDED, same version is already published
merida1macOS 12.6.4 Monterey / x86_64  OK    OK    OK    OK  UNNEEDED, same version is already published
Package 63/459HostnameOS / ArchINSTALLBUILDCHECKBUILD BIN
canceR 1.34.0  (landing page)
Karim Mezhoud
git_last_commit: c49177f
git_last_commit_date: 2023-04-25 10:38:02 -0400
nebbiolo1Linux (Ubuntu 22.04.2 LTS) / x86_64  OK    OK    OK  UNNEEDED, same version is already published
palomino3Windows Server 2022 Datacenter / x64  OK    OK    OK    OK  UNNEEDED, same version is already published
merida1macOS 12.6.4 Monterey / x86_64  OK    OK    OK    OK  UNNEEDED, same version is already published
Package 64/459HostnameOS / ArchINSTALLBUILDCHECKBUILD BIN
cancerclass 1.44.0  (landing page)
Daniel Kosztyla
git_last_commit: 7672fc0
git_last_commit_date: 2023-04-25 10:23:04 -0400
nebbiolo1Linux (Ubuntu 22.04.2 LTS) / x86_64  OK    OK    OK  UNNEEDED, same version is already published
palomino3Windows Server 2022 Datacenter / x64  OK    OK    OK    OK  UNNEEDED, same version is already published
merida1macOS 12.6.4 Monterey / x86_64  OK    OK    WARNINGS    OK  UNNEEDED, same version is already published
Package 65/459HostnameOS / ArchINSTALLBUILDCHECKBUILD BIN
Cardinal 3.2.1  (landing page)
Kylie A. Bemis
git_last_commit: c16ca40
git_last_commit_date: 2023-05-02 20:47:36 -0400
nebbiolo1Linux (Ubuntu 22.04.2 LTS) / x86_64  OK    OK    OK  UNNEEDED, same version is already published
palomino3Windows Server 2022 Datacenter / x64  OK    ERROR  skippedskipped
merida1macOS 12.6.4 Monterey / x86_64  OK    OK    OK    OK  UNNEEDED, same version is already published
Package 66/459HostnameOS / ArchINSTALLBUILDCHECKBUILD BIN
casper 2.34.0  (landing page)
David Rossell
git_last_commit: e05e2dd
git_last_commit_date: 2023-04-25 10:25:19 -0400
nebbiolo1Linux (Ubuntu 22.04.2 LTS) / x86_64  OK    OK    OK  UNNEEDED, same version is already published
palomino3Windows Server 2022 Datacenter / x64  OK    OK    WARNINGS    OK  UNNEEDED, same version is already published
merida1macOS 12.6.4 Monterey / x86_64  OK    ERROR  skippedskipped
Package 67/459HostnameOS / ArchINSTALLBUILDCHECKBUILD BIN
Category 2.66.0  (landing page)
Bioconductor Package Maintainer
git_last_commit: 404c5e4
git_last_commit_date: 2023-04-25 09:42:05 -0400
nebbiolo1Linux (Ubuntu 22.04.2 LTS) / x86_64  OK    OK    OK  UNNEEDED, same version is already published
palomino3Windows Server 2022 Datacenter / x64  OK    OK    OK    OK  UNNEEDED, same version is already published
merida1macOS 12.6.4 Monterey / x86_64  OK    OK    OK    OK  UNNEEDED, same version is already published
Package 68/459HostnameOS / ArchINSTALLBUILDCHECKBUILD BIN
categoryCompare 1.44.0  (landing page)
Robert M. Flight
git_last_commit: 9d848ab
git_last_commit_date: 2023-04-25 10:22:59 -0400
nebbiolo1Linux (Ubuntu 22.04.2 LTS) / x86_64  OK    OK    OK  UNNEEDED, same version is already published
palomino3Windows Server 2022 Datacenter / x64  OK    OK    OK    OK  UNNEEDED, same version is already published
merida1macOS 12.6.4 Monterey / x86_64  OK    OK    OK    OK  UNNEEDED, same version is already published
Package 69/459HostnameOS / ArchINSTALLBUILDCHECKBUILD BIN
CCPROMISE 1.26.0  (landing page)
Xueyuan Cao
git_last_commit: c415109
git_last_commit_date: 2023-04-25 10:50:57 -0400
nebbiolo1Linux (Ubuntu 22.04.2 LTS) / x86_64  OK    OK    WARNINGS  UNNEEDED, same version is already published
palomino3Windows Server 2022 Datacenter / x64  OK    OK    WARNINGS    OK  UNNEEDED, same version is already published
merida1macOS 12.6.4 Monterey / x86_64  OK    OK    WARNINGS    OK  UNNEEDED, same version is already published
Package 70/459HostnameOS / ArchINSTALLBUILDCHECKBUILD BIN
cellHTS2 2.64.0  (landing page)
Joseph Barry
git_last_commit: bdbd47f
git_last_commit_date: 2023-04-25 09:45:32 -0400
nebbiolo1Linux (Ubuntu 22.04.2 LTS) / x86_64  OK    OK    WARNINGS  UNNEEDED, same version is already published
palomino3Windows Server 2022 Datacenter / x64  OK    OK    OK    OK  UNNEEDED, same version is already published
merida1macOS 12.6.4 Monterey / x86_64  OK    OK    OK    OK  UNNEEDED, same version is already published
Package 71/459HostnameOS / ArchINSTALLBUILDCHECKBUILD BIN
CellScore 1.20.0  (landing page)
Nancy Mah
git_last_commit: 58d1e7c
git_last_commit_date: 2023-04-25 10:59:27 -0400
nebbiolo1Linux (Ubuntu 22.04.2 LTS) / x86_64  OK    OK    OK  UNNEEDED, same version is already published
palomino3Windows Server 2022 Datacenter / x64  OK    OK    OK    OK  UNNEEDED, same version is already published
merida1macOS 12.6.4 Monterey / x86_64  OK    OK    OK    OK  UNNEEDED, same version is already published
Package 72/459HostnameOS / ArchINSTALLBUILDCHECKBUILD BIN
CellTrails 1.18.0  (landing page)
Daniel Ellwanger
git_last_commit: 6d9a53e
git_last_commit_date: 2023-04-25 11:02:41 -0400
nebbiolo1Linux (Ubuntu 22.04.2 LTS) / x86_64  OK    OK    OK  UNNEEDED, same version is already published
palomino3Windows Server 2022 Datacenter / x64  OK    OK    OK    OK  UNNEEDED, same version is already published
merida1macOS 12.6.4 Monterey / x86_64  OK    OK    OK    OK  UNNEEDED, same version is already published
Package 73/459HostnameOS / ArchINSTALLBUILDCHECKBUILD BIN
CGHbase 1.60.0  (landing page)
Mark van de Wiel
git_last_commit: d4b32f0
git_last_commit_date: 2023-04-25 09:46:52 -0400
nebbiolo1Linux (Ubuntu 22.04.2 LTS) / x86_64  OK    OK    OK  UNNEEDED, same version is already published
palomino3Windows Server 2022 Datacenter / x64  OK    OK    OK    OK  UNNEEDED, same version is already published
merida1macOS 12.6.4 Monterey / x86_64  OK    OK    OK    OK  UNNEEDED, same version is already published
Package 74/459HostnameOS / ArchINSTALLBUILDCHECKBUILD BIN
CGHcall 2.62.0  (landing page)
Mark van de Wiel
git_last_commit: 7cf3bba
git_last_commit_date: 2023-04-25 09:45:49 -0400
nebbiolo1Linux (Ubuntu 22.04.2 LTS) / x86_64  OK    OK    WARNINGS  UNNEEDED, same version is already published
palomino3Windows Server 2022 Datacenter / x64  OK    OK    WARNINGS    OK  UNNEEDED, same version is already published
merida1macOS 12.6.4 Monterey / x86_64  OK    OK    WARNINGS    OK  UNNEEDED, same version is already published
Package 75/459HostnameOS / ArchINSTALLBUILDCHECKBUILD BIN
CGHnormaliter 1.54.0  (landing page)
Bart P.P. van Houte
git_last_commit: da07dbc
git_last_commit_date: 2023-04-25 09:49:33 -0400
nebbiolo1Linux (Ubuntu 22.04.2 LTS) / x86_64  OK    OK    OK  UNNEEDED, same version is already published
palomino3Windows Server 2022 Datacenter / x64  OK    OK    OK    OK  UNNEEDED, same version is already published
merida1macOS 12.6.4 Monterey / x86_64  OK    OK    OK    OK  UNNEEDED, same version is already published
Package 76/459HostnameOS / ArchINSTALLBUILDCHECKBUILD BIN
CGHregions 1.58.0  (landing page)
Sjoerd Vosse
git_last_commit: da650b4
git_last_commit_date: 2023-04-25 09:46:56 -0400
nebbiolo1Linux (Ubuntu 22.04.2 LTS) / x86_64  OK    OK    OK  UNNEEDED, same version is already published
palomino3Windows Server 2022 Datacenter / x64  OK    OK    OK    OK  UNNEEDED, same version is already published
merida1macOS 12.6.4 Monterey / x86_64  OK    OK    OK    OK  UNNEEDED, same version is already published
Package 77/459HostnameOS / ArchINSTALLBUILDCHECKBUILD BIN
ChIPQC 1.36.0  (landing page)
Tom Carroll , Rory Stark
git_last_commit: a603854
git_last_commit_date: 2023-04-25 10:31:18 -0400
nebbiolo1Linux (Ubuntu 22.04.2 LTS) / x86_64  OK    OK    WARNINGS  UNNEEDED, same version is already published
palomino3Windows Server 2022 Datacenter / x64  OK    OK    WARNINGS    OK  UNNEEDED, same version is already published
merida1macOS 12.6.4 Monterey / x86_64  OK    OK    WARNINGS    OK  UNNEEDED, same version is already published
Package 78/459HostnameOS / ArchINSTALLBUILDCHECKBUILD BIN
ChIPXpress 1.44.0  (landing page)
George Wu
git_last_commit: c633e8f
git_last_commit_date: 2023-04-25 10:23:44 -0400
nebbiolo1Linux (Ubuntu 22.04.2 LTS) / x86_64  OK    OK    OK  UNNEEDED, same version is already published
palomino3Windows Server 2022 Datacenter / x64... NOT SUPPORTED ...
merida1macOS 12.6.4 Monterey / x86_64  OK    OK    OK    OK  UNNEEDED, same version is already published
Package 79/459HostnameOS / ArchINSTALLBUILDCHECKBUILD BIN
ChromHeatMap 1.54.0  (landing page)
Tim F. Rayner
git_last_commit: de12140
git_last_commit_date: 2023-04-25 09:49:41 -0400
nebbiolo1Linux (Ubuntu 22.04.2 LTS) / x86_64  OK    OK    OK  UNNEEDED, same version is already published
palomino3Windows Server 2022 Datacenter / x64  OK    OK    OK    OK  UNNEEDED, same version is already published
merida1macOS 12.6.4 Monterey / x86_64  OK    OK    OK    OK  UNNEEDED, same version is already published
Package 80/459HostnameOS / ArchINSTALLBUILDCHECKBUILD BIN
chromswitch 1.22.0  (landing page)
Selin Jessa
git_last_commit: 23de3f7
git_last_commit_date: 2023-04-25 10:57:57 -0400
nebbiolo1Linux (Ubuntu 22.04.2 LTS) / x86_64  OK    OK    WARNINGS  UNNEEDED, same version is already published
palomino3Windows Server 2022 Datacenter / x64  OK    OK    WARNINGS    OK  UNNEEDED, same version is already published
merida1macOS 12.6.4 Monterey / x86_64  OK    OK    WARNINGS    OK  UNNEEDED, same version is already published
Package 81/459HostnameOS / ArchINSTALLBUILDCHECKBUILD BIN
cicero 1.18.0  (landing page)
Hannah Pliner
git_last_commit: b6a7b66
git_last_commit_date: 2023-04-25 11:04:55 -0400
nebbiolo1Linux (Ubuntu 22.04.2 LTS) / x86_64  OK    OK    OK  UNNEEDED, same version is already published
palomino3Windows Server 2022 Datacenter / x64  OK    OK    OK    OK  UNNEEDED, same version is already published
merida1macOS 12.6.4 Monterey / x86_64  OK    OK    OK    OK  UNNEEDED, same version is already published
Package 82/459HostnameOS / ArchINSTALLBUILDCHECKBUILD BIN
clippda 1.50.0  (landing page)
Stephen Nyangoma
git_last_commit: c45bfaf
git_last_commit_date: 2023-04-25 09:49:22 -0400
nebbiolo1Linux (Ubuntu 22.04.2 LTS) / x86_64  OK    OK    OK  UNNEEDED, same version is already published
palomino3Windows Server 2022 Datacenter / x64  OK    OK    OK    OK  UNNEEDED, same version is already published
merida1macOS 12.6.4 Monterey / x86_64  OK    OK    OK    OK  UNNEEDED, same version is already published
Package 83/459HostnameOS / ArchINSTALLBUILDCHECKBUILD BIN
clipper 1.40.0  (landing page)
Paolo Martini
git_last_commit: aa281f2
git_last_commit_date: 2023-04-25 10:25:22 -0400
nebbiolo1Linux (Ubuntu 22.04.2 LTS) / x86_64  OK    OK    OK  UNNEEDED, same version is already published
palomino3Windows Server 2022 Datacenter / x64  OK    OK    OK    OK  UNNEEDED, same version is already published
merida1macOS 12.6.4 Monterey / x86_64  OK    OK    OK    OK  UNNEEDED, same version is already published
Package 84/459HostnameOS / ArchINSTALLBUILDCHECKBUILD BIN
CluMSID 1.16.0  (landing page)
Tobias Depke
git_last_commit: e71998f
git_last_commit_date: 2023-04-25 11:06:55 -0400
nebbiolo1Linux (Ubuntu 22.04.2 LTS) / x86_64  OK    OK    WARNINGS  UNNEEDED, same version is already published
palomino3Windows Server 2022 Datacenter / x64  OK    OK    WARNINGS    OK  UNNEEDED, same version is already published
merida1macOS 12.6.4 Monterey / x86_64  OK    OK    WARNINGS    OK  UNNEEDED, same version is already published
Package 85/459HostnameOS / ArchINSTALLBUILDCHECKBUILD BIN
clusterStab 1.72.0  (landing page)
James W. MacDonald
git_last_commit: 5304a1f
git_last_commit_date: 2023-04-25 09:42:14 -0400
nebbiolo1Linux (Ubuntu 22.04.2 LTS) / x86_64  OK    OK    OK  UNNEEDED, same version is already published
palomino3Windows Server 2022 Datacenter / x64  OK    OK    OK    OK  UNNEEDED, same version is already published
merida1macOS 12.6.4 Monterey / x86_64  OK    OK    OK    OK  UNNEEDED, same version is already published
Package 86/459HostnameOS / ArchINSTALLBUILDCHECKBUILD BIN
CMA 1.58.0  (landing page)
Roman Hornung
git_last_commit: 560182f
git_last_commit_date: 2023-04-25 09:46:58 -0400
nebbiolo1Linux (Ubuntu 22.04.2 LTS) / x86_64  OK    OK    OK  UNNEEDED, same version is already published
palomino3Windows Server 2022 Datacenter / x64  OK    OK    OK    OK  UNNEEDED, same version is already published
merida1macOS 12.6.4 Monterey / x86_64  OK    OK    OK    OK  UNNEEDED, same version is already published
Package 87/459HostnameOS / ArchINSTALLBUILDCHECKBUILD BIN
cn.farms 1.48.0  (landing page)
Andreas Mitterecker
git_last_commit: fa9e979
git_last_commit_date: 2023-04-25 10:19:13 -0400
nebbiolo1Linux (Ubuntu 22.04.2 LTS) / x86_64  OK    OK    OK  UNNEEDED, same version is already published
palomino3Windows Server 2022 Datacenter / x64  OK    OK    OK    OK  UNNEEDED, same version is already published
merida1macOS 12.6.4 Monterey / x86_64  OK    OK    OK    OK  UNNEEDED, same version is already published
Package 88/459HostnameOS / ArchINSTALLBUILDCHECKBUILD BIN
cn.mops 1.46.0  (landing page)
Gundula Povysil
git_last_commit: baa7ea0
git_last_commit_date: 2023-04-25 10:21:44 -0400
nebbiolo1Linux (Ubuntu 22.04.2 LTS) / x86_64  OK    OK    OK  UNNEEDED, same version is already published
palomino3Windows Server 2022 Datacenter / x64  OK    OK    OK    OK  UNNEEDED, same version is already published
merida1macOS 12.6.4 Monterey / x86_64  OK    OK    OK    OK  UNNEEDED, same version is already published
Package 89/459HostnameOS / ArchINSTALLBUILDCHECKBUILD BIN
COCOA 2.14.0  (landing page)
John Lawson
git_last_commit: bbc273b
git_last_commit_date: 2023-04-25 11:05:46 -0400
nebbiolo1Linux (Ubuntu 22.04.2 LTS) / x86_64  OK    OK    OK  UNNEEDED, same version is already published
palomino3Windows Server 2022 Datacenter / x64  OK    OK    OK    OK  UNNEEDED, same version is already published
merida1macOS 12.6.4 Monterey / x86_64  OK    OK    OK    OK  UNNEEDED, same version is already published
Package 90/459HostnameOS / ArchINSTALLBUILDCHECKBUILD BIN
codelink 1.68.0  (landing page)
Diego Diez
git_last_commit: 7aa6799
git_last_commit_date: 2023-04-25 09:42:59 -0400
nebbiolo1Linux (Ubuntu 22.04.2 LTS) / x86_64  OK    OK    OK  UNNEEDED, same version is already published
palomino3Windows Server 2022 Datacenter / x64  OK    OK    OK    OK  UNNEEDED, same version is already published
merida1macOS 12.6.4 Monterey / x86_64  OK    OK    OK    OK  UNNEEDED, same version is already published
Package 91/459HostnameOS / ArchINSTALLBUILDCHECKBUILD BIN
cogena 1.34.0  (landing page)
Zhilong Jia
git_last_commit: 2e39593
git_last_commit_date: 2023-04-25 10:39:00 -0400
nebbiolo1Linux (Ubuntu 22.04.2 LTS) / x86_64  OK    OK    WARNINGS  UNNEEDED, same version is already published
palomino3Windows Server 2022 Datacenter / x64  OK    OK    WARNINGS    OK  UNNEEDED, same version is already published
merida1macOS 12.6.4 Monterey / x86_64  OK    OK    WARNINGS    OK  UNNEEDED, same version is already published
Package 92/459HostnameOS / ArchINSTALLBUILDCHECKBUILD BIN
combi 1.12.0  (landing page)
Stijn Hawinkel
git_last_commit: 62c6a98
git_last_commit_date: 2023-04-25 11:16:25 -0400
nebbiolo1Linux (Ubuntu 22.04.2 LTS) / x86_64  OK    OK    OK  UNNEEDED, same version is already published
palomino3Windows Server 2022 Datacenter / x64  OK    OK    OK    OK  UNNEEDED, same version is already published
merida1macOS 12.6.4 Monterey / x86_64  OK    OK    OK    OK  UNNEEDED, same version is already published
Package 93/459HostnameOS / ArchINSTALLBUILDCHECKBUILD BIN
CompoundDb 1.4.0  (landing page)
Johannes Rainer
git_last_commit: 5c0f833
git_last_commit_date: 2023-04-25 11:35:41 -0400
nebbiolo1Linux (Ubuntu 22.04.2 LTS) / x86_64  OK    OK    OK  UNNEEDED, same version is already published
palomino3Windows Server 2022 Datacenter / x64  OK    OK    OK    OK  UNNEEDED, same version is already published
merida1macOS 12.6.4 Monterey / x86_64  OK    OK    OK    OK  UNNEEDED, same version is already published
Package 94/459HostnameOS / ArchINSTALLBUILDCHECKBUILD BIN
ConsensusClusterPlus 1.64.0  (landing page)
Matt Wilkerson
git_last_commit: 5758a12
git_last_commit_date: 2023-04-25 09:50:09 -0400
nebbiolo1Linux (Ubuntu 22.04.2 LTS) / x86_64  OK    OK    OK  UNNEEDED, same version is already published
palomino3Windows Server 2022 Datacenter / x64  OK    OK    OK    OK  UNNEEDED, same version is already published
merida1macOS 12.6.4 Monterey / x86_64  OK    OK    OK    OK  UNNEEDED, same version is already published
Package 95/459HostnameOS / ArchINSTALLBUILDCHECKBUILD BIN
consensusDE 1.18.0  (landing page)
Ashley J. Waardenberg
git_last_commit: 58c20f9
git_last_commit_date: 2023-04-25 11:05:52 -0400
nebbiolo1Linux (Ubuntu 22.04.2 LTS) / x86_64  OK    OK    OK  UNNEEDED, same version is already published
palomino3Windows Server 2022 Datacenter / x64  OK    OK    OK    OK  UNNEEDED, same version is already published
merida1macOS 12.6.4 Monterey / x86_64  OK    OK    OK    OK  UNNEEDED, same version is already published
Package 96/459HostnameOS / ArchINSTALLBUILDCHECKBUILD BIN
consensusOV 1.22.0  (landing page)
Benjamin Haibe-Kains
git_last_commit: cb63514
git_last_commit_date: 2023-04-25 10:55:10 -0400
nebbiolo1Linux (Ubuntu 22.04.2 LTS) / x86_64  OK    OK    OK  UNNEEDED, same version is already published
palomino3Windows Server 2022 Datacenter / x64  OK    OK    OK    OK  UNNEEDED, same version is already published
merida1macOS 12.6.4 Monterey / x86_64  OK    OK    OK    OK  UNNEEDED, same version is already published
Package 97/459HostnameOS / ArchINSTALLBUILDCHECKBUILD BIN
convert 1.76.0  (landing page)
Yee Hwa (Jean) Yang
git_last_commit: 2d6edb9
git_last_commit_date: 2023-04-25 09:40:23 -0400
nebbiolo1Linux (Ubuntu 22.04.2 LTS) / x86_64  OK    OK    OK  UNNEEDED, same version is already published
palomino3Windows Server 2022 Datacenter / x64  OK    OK    OK    OK  UNNEEDED, same version is already published
merida1macOS 12.6.4 Monterey / x86_64  OK    OK    OK    OK  UNNEEDED, same version is already published
Package 98/459HostnameOS / ArchINSTALLBUILDCHECKBUILD BIN
copa 1.68.0  (landing page)
James W. MacDonald
git_last_commit: 24d67be
git_last_commit_date: 2023-04-25 09:43:16 -0400
nebbiolo1Linux (Ubuntu 22.04.2 LTS) / x86_64  OK    OK    OK  UNNEEDED, same version is already published
palomino3Windows Server 2022 Datacenter / x64  OK    OK    OK    OK  UNNEEDED, same version is already published
merida1macOS 12.6.4 Monterey / x86_64  OK    OK    OK    OK  UNNEEDED, same version is already published
Package 99/459HostnameOS / ArchINSTALLBUILDCHECKBUILD BIN
coRdon 1.18.0  (landing page)
Anamaria Elek
git_last_commit: c0c1382
git_last_commit_date: 2023-04-25 11:03:20 -0400
nebbiolo1Linux (Ubuntu 22.04.2 LTS) / x86_64  OK    OK    OK  UNNEEDED, same version is already published
palomino3Windows Server 2022 Datacenter / x64  OK    OK    OK    OK  UNNEEDED, same version is already published
merida1macOS 12.6.4 Monterey / x86_64  OK    OK    OK    OK  UNNEEDED, same version is already published
Package 100/459HostnameOS / ArchINSTALLBUILDCHECKBUILD BIN
CoreGx 2.4.0  (landing page)
Benjamin Haibe-Kains
git_last_commit: 788cc40
git_last_commit_date: 2023-04-25 11:18:08 -0400
nebbiolo1Linux (Ubuntu 22.04.2 LTS) / x86_64  OK    OK    OK  UNNEEDED, same version is already published
palomino3Windows Server 2022 Datacenter / x64  OK    OK    OK    OK  UNNEEDED, same version is already published
merida1macOS 12.6.4 Monterey / x86_64  OK    OK    OK    OK  UNNEEDED, same version is already published
Package 101/459HostnameOS / ArchINSTALLBUILDCHECKBUILD BIN
covEB 1.26.0  (landing page)
C. Pacini
git_last_commit: af7d3f6
git_last_commit_date: 2023-04-25 10:47:30 -0400
nebbiolo1Linux (Ubuntu 22.04.2 LTS) / x86_64  OK    OK    OK  UNNEEDED, same version is already published
palomino3Windows Server 2022 Datacenter / x64  OK    OK    OK    OK  UNNEEDED, same version is already published
merida1macOS 12.6.4 Monterey / x86_64  OK    OK    OK    OK  UNNEEDED, same version is already published
Package 102/459HostnameOS / ArchINSTALLBUILDCHECKBUILD BIN
covRNA 1.26.0  (landing page)
Lara Urban
git_last_commit: ba7939a
git_last_commit_date: 2023-04-25 10:47:08 -0400
nebbiolo1Linux (Ubuntu 22.04.2 LTS) / x86_64  OK    OK    OK  UNNEEDED, same version is already published
palomino3Windows Server 2022 Datacenter / x64  OK    OK    OK    OK  UNNEEDED, same version is already published
merida1macOS 12.6.4 Monterey / x86_64  OK    OK    OK    OK  UNNEEDED, same version is already published
Package 103/459HostnameOS / ArchINSTALLBUILDCHECKBUILD BIN
crlmm 1.58.0  (landing page)
Benilton S Carvalho
git_last_commit: f9044bc
git_last_commit_date: 2023-04-25 09:48:29 -0400
nebbiolo1Linux (Ubuntu 22.04.2 LTS) / x86_64  OK    OK    WARNINGS  UNNEEDED, same version is already published
palomino3Windows Server 2022 Datacenter / x64  OK    OK    WARNINGS    OK  UNNEEDED, same version is already published
merida1macOS 12.6.4 Monterey / x86_64  OK    OK    WARNINGS    OK  UNNEEDED, same version is already published
Package 104/459HostnameOS / ArchINSTALLBUILDCHECKBUILD BIN
crossmeta 1.26.0  (landing page)
Alex Pickering
git_last_commit: b7438d5
git_last_commit_date: 2023-04-25 10:47:37 -0400
nebbiolo1Linux (Ubuntu 22.04.2 LTS) / x86_64  OK    OK    ERROR  
palomino3Windows Server 2022 Datacenter / x64  OK    OK    OK    OK  UNNEEDED, same version is already published
merida1macOS 12.6.4 Monterey / x86_64  OK    OK    OK    OK  UNNEEDED, same version is already published
Package 105/459HostnameOS / ArchINSTALLBUILDCHECKBUILD BIN
cummeRbund 2.42.0  (landing page)
Loyal A. Goff
git_last_commit: dc5849d
git_last_commit_date: 2023-04-25 10:21:12 -0400
nebbiolo1Linux (Ubuntu 22.04.2 LTS) / x86_64  OK    OK    WARNINGS  UNNEEDED, same version is already published
palomino3Windows Server 2022 Datacenter / x64  OK    OK    WARNINGS    OK  UNNEEDED, same version is already published
merida1macOS 12.6.4 Monterey / x86_64  OK    OK    WARNINGS    OK  UNNEEDED, same version is already published
Package 106/459HostnameOS / ArchINSTALLBUILDCHECKBUILD BIN
cyanoFilter 1.8.0  (landing page)
Oluwafemi Olusoji
git_last_commit: e71221c
git_last_commit_date: 2023-04-25 11:28:22 -0400
nebbiolo1Linux (Ubuntu 22.04.2 LTS) / x86_64  OK    OK    OK  UNNEEDED, same version is already published
palomino3Windows Server 2022 Datacenter / x64  OK    OK    OK    OK  UNNEEDED, same version is already published
merida1macOS 12.6.4 Monterey / x86_64  OK    OK    OK    OK  UNNEEDED, same version is already published
Package 107/459HostnameOS / ArchINSTALLBUILDCHECKBUILD BIN
cycle 1.54.0  (landing page)
Matthias Futschik
git_last_commit: a235c37
git_last_commit_date: 2023-04-25 09:49:35 -0400
nebbiolo1Linux (Ubuntu 22.04.2 LTS) / x86_64  OK    OK    OK  UNNEEDED, same version is already published
palomino3Windows Server 2022 Datacenter / x64  OK    OK    OK    OK  UNNEEDED, same version is already published
merida1macOS 12.6.4 Monterey / x86_64  OK    OK    OK    OK  UNNEEDED, same version is already published
Package 108/459HostnameOS / ArchINSTALLBUILDCHECKBUILD BIN
cydar 1.24.0  (landing page)
Aaron Lun
git_last_commit: b6b8ade
git_last_commit_date: 2023-04-25 10:53:10 -0400
nebbiolo1Linux (Ubuntu 22.04.2 LTS) / x86_64  OK    OK    ERROR  
palomino3Windows Server 2022 Datacenter / x64  OK    OK    OK    OK  UNNEEDED, same version is already published
merida1macOS 12.6.4 Monterey / x86_64  OK    OK    OK    OK  UNNEEDED, same version is already published
Package 109/459HostnameOS / ArchINSTALLBUILDCHECKBUILD BIN
CytoML 2.12.0  (landing page)
Mike Jiang
git_last_commit: 28e4fc0
git_last_commit_date: 2023-04-25 10:47:58 -0400
nebbiolo1Linux (Ubuntu 22.04.2 LTS) / x86_64  OK    OK    WARNINGS  UNNEEDED, same version is already published
palomino3Windows Server 2022 Datacenter / x64  OK    OK    WARNINGS    OK  UNNEEDED, same version is already published
merida1macOS 12.6.4 Monterey / x86_64  OK    OK    WARNINGS    OK  UNNEEDED, same version is already published
Package 110/459HostnameOS / ArchINSTALLBUILDCHECKBUILD BIN
DAPAR 1.32.3  (landing page)
Samuel Wieczorek
git_last_commit: a62b760
git_last_commit_date: 2023-05-25 02:58:43 -0400
nebbiolo1Linux (Ubuntu 22.04.2 LTS) / x86_64  OK    OK    ERROR  
palomino3Windows Server 2022 Datacenter / x64  OK    OK    OK    OK  UNNEEDED, same version is already published
merida1macOS 12.6.4 Monterey / x86_64  OK    OK    OK    OK  UNNEEDED, same version is already published
Package 111/459HostnameOS / ArchINSTALLBUILDCHECKBUILD BIN
ddCt 1.56.0  (landing page)
Jitao David Zhang
git_last_commit: 141d331
git_last_commit_date: 2023-04-25 09:49:09 -0400
nebbiolo1Linux (Ubuntu 22.04.2 LTS) / x86_64  OK    OK    WARNINGS  UNNEEDED, same version is already published
palomino3Windows Server 2022 Datacenter / x64  OK    OK    WARNINGS    OK  UNNEEDED, same version is already published
merida1macOS 12.6.4 Monterey / x86_64  OK    OK    WARNINGS    OK  UNNEEDED, same version is already published
Package 112/459HostnameOS / ArchINSTALLBUILDCHECKBUILD BIN
debCAM 1.18.0  (landing page)
Lulu Chen
git_last_commit: a31440f
git_last_commit_date: 2023-04-25 11:12:23 -0400
nebbiolo1Linux (Ubuntu 22.04.2 LTS) / x86_64  OK    OK    OK  UNNEEDED, same version is already published
palomino3Windows Server 2022 Datacenter / x64  OK    OK    OK    OK  UNNEEDED, same version is already published
merida1macOS 12.6.4 Monterey / x86_64  OK    OK    OK    OK  UNNEEDED, same version is already published
Package 113/459HostnameOS / ArchINSTALLBUILDCHECKBUILD BIN
deco 1.16.0  (landing page)
Francisco Jose Campos Laborie
git_last_commit: 22e8d36
git_last_commit_date: 2023-04-25 11:06:50 -0400
nebbiolo1Linux (Ubuntu 22.04.2 LTS) / x86_64  OK    ERROR  skipped
palomino3Windows Server 2022 Datacenter / x64  OK    ERROR  skippedskipped
merida1macOS 12.6.4 Monterey / x86_64  OK    ERROR  skippedskipped
Package 114/459HostnameOS / ArchINSTALLBUILDCHECKBUILD BIN
DEGreport 1.36.0  (landing page)
Lorena Pantano
git_last_commit: 1aae69c
git_last_commit_date: 2023-04-25 10:32:39 -0400
nebbiolo1Linux (Ubuntu 22.04.2 LTS) / x86_64  OK    OK    WARNINGS  UNNEEDED, same version is already published
palomino3Windows Server 2022 Datacenter / x64  OK    OK    WARNINGS    OK  UNNEEDED, same version is already published
merida1macOS 12.6.4 Monterey / x86_64  OK    OK    WARNINGS    OK  UNNEEDED, same version is already published
Package 115/459HostnameOS / ArchINSTALLBUILDCHECKBUILD BIN
DESeq2 1.40.1  (landing page)
Michael Love
git_last_commit: b4101bd
git_last_commit_date: 2023-05-01 20:07:11 -0400
nebbiolo1Linux (Ubuntu 22.04.2 LTS) / x86_64  OK    OK    OK  UNNEEDED, same version is already published
palomino3Windows Server 2022 Datacenter / x64  OK    OK    OK    OK  UNNEEDED, same version is already published
merida1macOS 12.6.4 Monterey / x86_64  OK    OK    OK    OK  UNNEEDED, same version is already published
Package 116/459HostnameOS / ArchINSTALLBUILDCHECKBUILD BIN
destiny 3.14.0  (landing page)
Philipp Angerer
git_last_commit: ebccb36
git_last_commit_date: 2023-04-25 11:35:39 -0400
nebbiolo1Linux (Ubuntu 22.04.2 LTS) / x86_64  OK    OK    WARNINGS  UNNEEDED, same version is already published
palomino3Windows Server 2022 Datacenter / x64  OK    OK    WARNINGS    OK  UNNEEDED, same version is already published
merida1macOS 12.6.4 Monterey / x86_64  OK    OK    WARNINGS    OK  UNNEEDED, same version is already published
Package 117/459HostnameOS / ArchINSTALLBUILDCHECKBUILD BIN
DExMA 1.8.0  (landing page)
Juan Antonio Villatoro-García
git_last_commit: f837994
git_last_commit_date: 2023-04-25 11:29:25 -0400
nebbiolo1Linux (Ubuntu 22.04.2 LTS) / x86_64  OK    OK    OK  UNNEEDED, same version is already published
palomino3Windows Server 2022 Datacenter / x64  OK    OK    OK    OK  UNNEEDED, same version is already published
merida1macOS 12.6.4 Monterey / x86_64  OK    OK    OK    OK  UNNEEDED, same version is already published
Package 118/459HostnameOS / ArchINSTALLBUILDCHECKBUILD BIN
DEXSeq 1.46.0  (landing page)
Alejandro Reyes
git_last_commit: 074c0bf
git_last_commit_date: 2023-04-25 10:20:02 -0400
nebbiolo1Linux (Ubuntu 22.04.2 LTS) / x86_64  OK    OK    ERROR  
palomino3Windows Server 2022 Datacenter / x64  OK    OK    OK    OK  UNNEEDED, same version is already published
merida1macOS 12.6.4 Monterey / x86_64  OK    OK    OK    OK  UNNEEDED, same version is already published
Package 119/459HostnameOS / ArchINSTALLBUILDCHECKBUILD BIN
DFP 1.58.0  (landing page)
Rodrigo Alvarez-Glez
git_last_commit: d545681
git_last_commit_date: 2023-04-25 09:47:23 -0400
nebbiolo1Linux (Ubuntu 22.04.2 LTS) / x86_64  OK    OK    OK  UNNEEDED, same version is already published
palomino3Windows Server 2022 Datacenter / x64  OK    OK    OK    OK  UNNEEDED, same version is already published
merida1macOS 12.6.4 Monterey / x86_64  OK    OK    OK    OK  UNNEEDED, same version is already published
Package 120/459HostnameOS / ArchINSTALLBUILDCHECKBUILD BIN
diggit 1.32.0  (landing page)
Mariano J Alvarez
git_last_commit: 1261d37
git_last_commit_date: 2023-04-25 10:38:05 -0400
nebbiolo1Linux (Ubuntu 22.04.2 LTS) / x86_64  OK    OK    WARNINGS  UNNEEDED, same version is already published
palomino3Windows Server 2022 Datacenter / x64  OK    OK    WARNINGS    OK  UNNEEDED, same version is already published
merida1macOS 12.6.4 Monterey / x86_64  OK    OK    WARNINGS    OK  UNNEEDED, same version is already published
Package 121/459HostnameOS / ArchINSTALLBUILDCHECKBUILD BIN
discordant 1.24.0  (landing page)
McGrath Max
git_last_commit: 65164e8
git_last_commit_date: 2023-04-25 10:52:12 -0400
nebbiolo1Linux (Ubuntu 22.04.2 LTS) / x86_64  OK    OK    OK  UNNEEDED, same version is already published
palomino3Windows Server 2022 Datacenter / x64  OK    OK    OK    OK  UNNEEDED, same version is already published
merida1macOS 12.6.4 Monterey / x86_64  OK    OK    OK    OK  UNNEEDED, same version is already published
Package 122/459HostnameOS / ArchINSTALLBUILDCHECKBUILD BIN
doppelgangR 1.28.0  (landing page)
Levi Waldron
git_last_commit: bd5e77e
git_last_commit_date: 2023-04-25 10:45:03 -0400
nebbiolo1Linux (Ubuntu 22.04.2 LTS) / x86_64  OK    OK    ERROR  
palomino3Windows Server 2022 Datacenter / x64  OK    OK    ERROR    OK  
merida1macOS 12.6.4 Monterey / x86_64  OK    OK    ERROR    OK  
Package 123/459HostnameOS / ArchINSTALLBUILDCHECKBUILD BIN
DSS 2.48.0  (landing page)
Hao Wu , Hao Feng
git_last_commit: 03ceee2
git_last_commit_date: 2023-04-25 10:23:19 -0400
nebbiolo1Linux (Ubuntu 22.04.2 LTS) / x86_64  OK    OK    ERROR  
palomino3Windows Server 2022 Datacenter / x64  OK    OK    WARNINGS    OK  UNNEEDED, same version is already published
merida1macOS 12.6.4 Monterey / x86_64  OK    OK    WARNINGS    OK  UNNEEDED, same version is already published
Package 124/459HostnameOS / ArchINSTALLBUILDCHECKBUILD BIN
dyebias 1.60.0  (landing page)
Philip Lijnzaad
git_last_commit: 53a2325
git_last_commit_date: 2023-04-25 09:48:31 -0400
nebbiolo1Linux (Ubuntu 22.04.2 LTS) / x86_64  OK    OK    OK  UNNEEDED, same version is already published
palomino3Windows Server 2022 Datacenter / x64  OK    OK    OK    OK  UNNEEDED, same version is already published
merida1macOS 12.6.4 Monterey / x86_64  OK    OK    OK    OK  UNNEEDED, same version is already published
Package 125/459HostnameOS / ArchINSTALLBUILDCHECKBUILD BIN
easyRNASeq 2.36.0  (landing page)
Nicolas Delhomme
git_last_commit: e5e1842
git_last_commit_date: 2023-04-25 10:22:04 -0400
nebbiolo1Linux (Ubuntu 22.04.2 LTS) / x86_64  OK    OK    OK  UNNEEDED, same version is already published
palomino3Windows Server 2022 Datacenter / x64  OK    OK    OK    OK  UNNEEDED, same version is already published
merida1macOS 12.6.4 Monterey / x86_64  OK    OK    OK    OK  UNNEEDED, same version is already published
Package 126/459HostnameOS / ArchINSTALLBUILDCHECKBUILD BIN
EBarrays 2.64.0  (landing page)
Ming Yuan
git_last_commit: a62acac
git_last_commit_date: 2023-04-25 09:39:59 -0400
nebbiolo1Linux (Ubuntu 22.04.2 LTS) / x86_64  OK    OK    OK  UNNEEDED, same version is already published
palomino3Windows Server 2022 Datacenter / x64  OK    OK    OK    OK  UNNEEDED, same version is already published
merida1macOS 12.6.4 Monterey / x86_64  OK    OK    OK    OK  UNNEEDED, same version is already published
Package 127/459HostnameOS / ArchINSTALLBUILDCHECKBUILD BIN
ecolitk 1.72.0  (landing page)
Laurent Gautier
git_last_commit: 8215898
git_last_commit_date: 2023-04-25 09:39:36 -0400
nebbiolo1Linux (Ubuntu 22.04.2 LTS) / x86_64  OK    OK    WARNINGS  UNNEEDED, same version is already published
palomino3Windows Server 2022 Datacenter / x64  OK    OK    WARNINGS    OK  UNNEEDED, same version is already published
merida1macOS 12.6.4 Monterey / x86_64  OK    OK    WARNINGS    OK  UNNEEDED, same version is already published
Package 128/459HostnameOS / ArchINSTALLBUILDCHECKBUILD BIN
EDASeq 2.34.0  (landing page)
Davide Risso
git_last_commit: 71b52e3
git_last_commit_date: 2023-04-25 10:20:57 -0400
nebbiolo1Linux (Ubuntu 22.04.2 LTS) / x86_64  OK    OK    OK  UNNEEDED, same version is already published
palomino3Windows Server 2022 Datacenter / x64  OK    OK    OK    OK  UNNEEDED, same version is already published
merida1macOS 12.6.4 Monterey / x86_64  OK    OK    OK    OK  UNNEEDED, same version is already published
Package 129/459HostnameOS / ArchINSTALLBUILDCHECKBUILD BIN
edge 2.32.0  (landing page)
John D. Storey , Andrew J. Bass
git_last_commit: 2518cd9
git_last_commit_date: 2023-04-25 10:39:41 -0400
nebbiolo1Linux (Ubuntu 22.04.2 LTS) / x86_64  OK    OK    WARNINGS  UNNEEDED, same version is already published
palomino3Windows Server 2022 Datacenter / x64  OK    OK    WARNINGS    OK  UNNEEDED, same version is already published
merida1macOS 12.6.4 Monterey / x86_64  OK    OK    WARNINGS    OK  UNNEEDED, same version is already published
Package 130/459HostnameOS / ArchINSTALLBUILDCHECKBUILD BIN
EGAD 1.28.0  (landing page)
Sara Ballouz
git_last_commit: 2fded20
git_last_commit_date: 2023-04-25 10:47:01 -0400
nebbiolo1Linux (Ubuntu 22.04.2 LTS) / x86_64  OK    OK    WARNINGS  UNNEEDED, same version is already published
palomino3Windows Server 2022 Datacenter / x64  OK    OK    WARNINGS    OK  UNNEEDED, same version is already published
merida1macOS 12.6.4 Monterey / x86_64  OK    OK    WARNINGS    OK  UNNEEDED, same version is already published
Package 131/459HostnameOS / ArchINSTALLBUILDCHECKBUILD BIN
EGSEA 1.28.0  (landing page)
Monther Alhamdoosh
git_last_commit: b8c1a62
git_last_commit_date: 2023-04-25 10:46:53 -0400
nebbiolo1Linux (Ubuntu 22.04.2 LTS) / x86_64  OK    OK    ERROR  
palomino3Windows Server 2022 Datacenter / x64  OK    OK    WARNINGS    OK  UNNEEDED, same version is already published
merida1macOS 12.6.4 Monterey / x86_64  OK    OK    WARNINGS    OK  UNNEEDED, same version is already published
Package 132/459HostnameOS / ArchINSTALLBUILDCHECKBUILD BIN
ENmix 1.36.01  (landing page)
Zongli Xu
git_last_commit: 313f491
git_last_commit_date: 2023-05-15 14:27:39 -0400
nebbiolo1Linux (Ubuntu 22.04.2 LTS) / x86_64  OK    OK    OK  UNNEEDED, same version is already published
palomino3Windows Server 2022 Datacenter / x64  OK    OK    OK    OK  UNNEEDED, same version is already published
merida1macOS 12.6.4 Monterey / x86_64  OK    OK    OK    OK  UNNEEDED, same version is already published
Package 133/459HostnameOS / ArchINSTALLBUILDCHECKBUILD BIN
ensembldb 2.24.0  (landing page)
Johannes Rainer
git_last_commit: 45a79a4
git_last_commit_date: 2023-04-25 10:38:28 -0400
nebbiolo1Linux (Ubuntu 22.04.2 LTS) / x86_64  OK    OK    OK  UNNEEDED, same version is already published
palomino3Windows Server 2022 Datacenter / x64  OK    OK    OK    OK  UNNEEDED, same version is already published
merida1macOS 12.6.4 Monterey / x86_64  OK    OK    OK    OK  UNNEEDED, same version is already published
Package 134/459HostnameOS / ArchINSTALLBUILDCHECKBUILD BIN
epigenomix 1.40.0  (landing page)
Hans-Ulrich Klein
git_last_commit: 98e9d36
git_last_commit_date: 2023-04-25 10:26:05 -0400
nebbiolo1Linux (Ubuntu 22.04.2 LTS) / x86_64  OK    OK    OK  UNNEEDED, same version is already published
palomino3Windows Server 2022 Datacenter / x64  OK    OK    OK    OK  UNNEEDED, same version is already published
merida1macOS 12.6.4 Monterey / x86_64  OK    OK    OK    OK  UNNEEDED, same version is already published
Package 135/459HostnameOS / ArchINSTALLBUILDCHECKBUILD BIN
EpiMix 1.2.0  (landing page)
Yuanning Zheng
git_last_commit: 68204f3
git_last_commit_date: 2023-04-25 11:39:07 -0400
nebbiolo1Linux (Ubuntu 22.04.2 LTS) / x86_64  OK    ERROR  skipped
palomino3Windows Server 2022 Datacenter / x64  OK    ERROR  skippedskipped
merida1macOS 12.6.4 Monterey / x86_64  OK    ERROR  skippedskipped
Package 136/459HostnameOS / ArchINSTALLBUILDCHECKBUILD BIN
epivizrData 1.28.0  (landing page)
Hector Corrada Bravo
git_last_commit: fee5b60
git_last_commit_date: 2023-04-25 10:46:48 -0400
nebbiolo1Linux (Ubuntu 22.04.2 LTS) / x86_64  OK    OK    OK  UNNEEDED, same version is already published
palomino3Windows Server 2022 Datacenter / x64  OK    OK    OK    OK  UNNEEDED, same version is already published
merida1macOS 12.6.4 Monterey / x86_64  OK    OK    OK    OK  UNNEEDED, same version is already published
Package 137/459HostnameOS / ArchINSTALLBUILDCHECKBUILD BIN
erma 1.16.0  (landing page)
VJ Carey
git_last_commit: 52c2891
git_last_commit_date: 2023-04-25 10:40:09 -0400
nebbiolo1Linux (Ubuntu 22.04.2 LTS) / x86_64  OK    OK    OK  UNNEEDED, same version is already published
palomino3Windows Server 2022 Datacenter / x64  OK    OK    OK    OK  UNNEEDED, same version is already published
merida1macOS 12.6.4 Monterey / x86_64  OK    OK    OK    OK  UNNEEDED, same version is already published
Package 138/459HostnameOS / ArchINSTALLBUILDCHECKBUILD BIN
esetVis 1.26.1  (landing page)
Laure Cougnaud
git_last_commit: 47a3af1
git_last_commit_date: 2023-05-17 06:23:37 -0400
nebbiolo1Linux (Ubuntu 22.04.2 LTS) / x86_64  OK    OK    OK  UNNEEDED, same version is already published
palomino3Windows Server 2022 Datacenter / x64  OK    OK    OK    OK  UNNEEDED, same version is already published
merida1macOS 12.6.4 Monterey / x86_64  OK    OK    OK    OK  UNNEEDED, same version is already published
Package 139/459HostnameOS / ArchINSTALLBUILDCHECKBUILD BIN
ExiMiR 2.42.0  (landing page)
Sylvain Gubian
git_last_commit: 083b878
git_last_commit_date: 2023-04-25 10:18:44 -0400
nebbiolo1Linux (Ubuntu 22.04.2 LTS) / x86_64  OK    OK    OK  UNNEEDED, same version is already published
palomino3Windows Server 2022 Datacenter / x64  OK    OK    OK    OK  UNNEEDED, same version is already published
merida1macOS 12.6.4 Monterey / x86_64  OK    OK    OK    OK  UNNEEDED, same version is already published
Package 140/459HostnameOS / ArchINSTALLBUILDCHECKBUILD BIN
ExpressionAtlas 1.28.0  (landing page)
Pedro Madrigal
git_last_commit: e3329d6
git_last_commit_date: 2023-04-25 10:44:24 -0400
nebbiolo1Linux (Ubuntu 22.04.2 LTS) / x86_64  OK    OK    OK  UNNEEDED, same version is already published
palomino3Windows Server 2022 Datacenter / x64  OK    OK    OK    OK  UNNEEDED, same version is already published
merida1macOS 12.6.4 Monterey / x86_64  OK    OK    OK    OK  UNNEEDED, same version is already published
Package 141/459HostnameOS / ArchINSTALLBUILDCHECKBUILD BIN
fabia 2.46.0  (landing page)
Andreas Mitterecker
git_last_commit: e7d4769
git_last_commit_date: 2023-04-25 09:51:11 -0400
nebbiolo1Linux (Ubuntu 22.04.2 LTS) / x86_64  OK    OK    WARNINGS  UNNEEDED, same version is already published
palomino3Windows Server 2022 Datacenter / x64  OK    OK    WARNINGS    OK  UNNEEDED, same version is already published
merida1macOS 12.6.4 Monterey / x86_64  OK    OK    WARNINGS    OK  UNNEEDED, same version is already published
Package 142/459HostnameOS / ArchINSTALLBUILDCHECKBUILD BIN
factDesign 1.76.0  (landing page)
Denise Scholtens
git_last_commit: 89ffd29
git_last_commit_date: 2023-04-25 09:39:25 -0400
nebbiolo1Linux (Ubuntu 22.04.2 LTS) / x86_64  OK    OK    OK  UNNEEDED, same version is already published
palomino3Windows Server 2022 Datacenter / x64  OK    OK    OK    OK  UNNEEDED, same version is already published
merida1macOS 12.6.4 Monterey / x86_64  OK    OK    OK    OK  UNNEEDED, same version is already published
Package 143/459HostnameOS / ArchINSTALLBUILDCHECKBUILD BIN
farms 1.52.0  (landing page)
Djork-Arne Clevert
git_last_commit: c4689da
git_last_commit_date: 2023-04-25 10:17:51 -0400
nebbiolo1Linux (Ubuntu 22.04.2 LTS) / x86_64  OK    OK    ERROR  
palomino3Windows Server 2022 Datacenter / x64  OK    OK    OK    OK  UNNEEDED, same version is already published
merida1macOS 12.6.4 Monterey / x86_64  OK    OK    OK    OK  UNNEEDED, same version is already published
Package 144/459HostnameOS / ArchINSTALLBUILDCHECKBUILD BIN
fastseg 1.46.0  (landing page)
Alexander Blume
git_last_commit: f51432c
git_last_commit_date: 2023-04-25 10:21:47 -0400
nebbiolo1Linux (Ubuntu 22.04.2 LTS) / x86_64  OK    OK    OK  UNNEEDED, same version is already published
palomino3Windows Server 2022 Datacenter / x64  OK    OK    OK    OK  UNNEEDED, same version is already published
merida1macOS 12.6.4 Monterey / x86_64  OK    OK    OK    OK  UNNEEDED, same version is already published
Package 145/459HostnameOS / ArchINSTALLBUILDCHECKBUILD BIN
ffpe 1.44.0  (landing page)
Levi Waldron
git_last_commit: ba41140
git_last_commit_date: 2023-04-25 10:22:31 -0400
nebbiolo1Linux (Ubuntu 22.04.2 LTS) / x86_64  OK    OK    OK  UNNEEDED, same version is already published
palomino3Windows Server 2022 Datacenter / x64  OK    OK    OK    OK  UNNEEDED, same version is already published
merida1macOS 12.6.4 Monterey / x86_64  OK    OK    OK    NA  
Package 146/459HostnameOS / ArchINSTALLBUILDCHECKBUILD BIN
flowBeads 1.38.0  (landing page)
Nikolas Pontikos
git_last_commit: e24f6be
git_last_commit_date: 2023-04-25 10:27:20 -0400
nebbiolo1Linux (Ubuntu 22.04.2 LTS) / x86_64  OK    OK    WARNINGS  UNNEEDED, same version is already published
palomino3Windows Server 2022 Datacenter / x64  OK    OK    WARNINGS    OK  UNNEEDED, same version is already published
merida1macOS 12.6.4 Monterey / x86_64  OK    OK    WARNINGS    OK  UNNEEDED, same version is already published
Package 147/459HostnameOS / ArchINSTALLBUILDCHECKBUILD BIN
flowClust 3.38.0  (landing page)
Greg Finak , Mike Jiang
git_last_commit: d0d1bed
git_last_commit_date: 2023-04-25 09:46:33 -0400
nebbiolo1Linux (Ubuntu 22.04.2 LTS) / x86_64  OK    OK    WARNINGS  UNNEEDED, same version is already published
palomino3Windows Server 2022 Datacenter / x64  OK    OK    WARNINGS    OK  UNNEEDED, same version is already published
merida1macOS 12.6.4 Monterey / x86_64  OK    OK    WARNINGS    NA  
Package 148/459HostnameOS / ArchINSTALLBUILDCHECKBUILD BIN
flowCore 2.12.0  (landing page)
Mike Jiang
git_last_commit: 04755bc
git_last_commit_date: 2023-04-25 09:44:30 -0400
nebbiolo1Linux (Ubuntu 22.04.2 LTS) / x86_64  OK    OK    WARNINGS  UNNEEDED, same version is already published
palomino3Windows Server 2022 Datacenter / x64  OK    OK    WARNINGS    OK  UNNEEDED, same version is already published
merida1macOS 12.6.4 Monterey / x86_64  OK    OK    WARNINGS    NA  
Package 149/459HostnameOS / ArchINSTALLBUILDCHECKBUILD BIN
flowFP 1.58.0  (landing page)
Herb Holyst , Wade Rogers
git_last_commit: c5f4fe4
git_last_commit_date: 2023-04-25 09:49:01 -0400
nebbiolo1Linux (Ubuntu 22.04.2 LTS) / x86_64  OK    OK    OK  UNNEEDED, same version is already published
palomino3Windows Server 2022 Datacenter / x64  OK    OK    OK    OK  UNNEEDED, same version is already published
merida1macOS 12.6.4 Monterey / x86_64  OK    OK    OK    OK  UNNEEDED, same version is already published
Package 150/459HostnameOS / ArchINSTALLBUILDCHECKBUILD BIN
flowMatch 1.36.0  (landing page)
Ariful Azad
git_last_commit: f9fb2ec
git_last_commit_date: 2023-04-25 10:29:44 -0400
nebbiolo1Linux (Ubuntu 22.04.2 LTS) / x86_64  OK    OK    OK  UNNEEDED, same version is already published
palomino3Windows Server 2022 Datacenter / x64  OK    OK    OK    OK  UNNEEDED, same version is already published
merida1macOS 12.6.4 Monterey / x86_64  OK    OK    OK    NA  
Package 151/459HostnameOS / ArchINSTALLBUILDCHECKBUILD BIN
flowMeans 1.60.0  (landing page)
Nima Aghaeepour
git_last_commit: 9beb3db
git_last_commit_date: 2023-04-25 09:50:50 -0400
nebbiolo1Linux (Ubuntu 22.04.2 LTS) / x86_64  OK    OK    OK  UNNEEDED, same version is already published
palomino3Windows Server 2022 Datacenter / x64  OK    OK    OK    OK  UNNEEDED, same version is already published
merida1macOS 12.6.4 Monterey / x86_64  OK    OK    OK    OK  UNNEEDED, same version is already published
Package 152/459HostnameOS / ArchINSTALLBUILDCHECKBUILD BIN
flowSpecs 1.14.0  (landing page)
Jakob Theorell
git_last_commit: f8d09c4
git_last_commit_date: 2023-04-25 11:12:31 -0400
nebbiolo1Linux (Ubuntu 22.04.2 LTS) / x86_64  OK    OK    OK  UNNEEDED, same version is already published
palomino3Windows Server 2022 Datacenter / x64  OK    OK    OK    OK  UNNEEDED, same version is already published
merida1macOS 12.6.4 Monterey / x86_64  OK    OK    OK    OK  UNNEEDED, same version is already published
Package 153/459HostnameOS / ArchINSTALLBUILDCHECKBUILD BIN
flowStats 4.12.0  (landing page)
Greg Finak , Mike Jiang
git_last_commit: 1ef06ff
git_last_commit_date: 2023-04-25 09:48:39 -0400
nebbiolo1Linux (Ubuntu 22.04.2 LTS) / x86_64  OK    OK    WARNINGS  UNNEEDED, same version is already published
palomino3Windows Server 2022 Datacenter / x64  OK    OK    WARNINGS    OK  UNNEEDED, same version is already published
merida1macOS 12.6.4 Monterey / x86_64  OK    OK    WARNINGS    NA  
Package 154/459HostnameOS / ArchINSTALLBUILDCHECKBUILD BIN
flowViz 1.64.0  (landing page)
Mike Jiang
git_last_commit: 27c53bb
git_last_commit_date: 2023-04-25 09:44:33 -0400
nebbiolo1Linux (Ubuntu 22.04.2 LTS) / x86_64  OK    OK    OK  UNNEEDED, same version is already published
palomino3Windows Server 2022 Datacenter / x64  OK    OK    OK    OK  UNNEEDED, same version is already published
merida1macOS 12.6.4 Monterey / x86_64  OK    OK    OK    NA  UNNEEDED, same version is already published
Package 155/459HostnameOS / ArchINSTALLBUILDCHECKBUILD BIN
flowWorkspace 4.12.0  (landing page)
Greg Finak , Mike Jiang
git_last_commit: 80d0ebe
git_last_commit_date: 2023-04-25 10:19:50 -0400
nebbiolo1Linux (Ubuntu 22.04.2 LTS) / x86_64  OK    OK    WARNINGS  UNNEEDED, same version is already published
palomino3Windows Server 2022 Datacenter / x64  OK    OK    WARNINGS    OK  UNNEEDED, same version is already published
merida1macOS 12.6.4 Monterey / x86_64  OK    OK    WARNINGS    NA  
Package 156/459HostnameOS / ArchINSTALLBUILDCHECKBUILD BIN
FRASER 1.12.1  (landing page)
Christian Mertes
git_last_commit: 72d97bf
git_last_commit_date: 2023-05-01 20:07:22 -0400
nebbiolo1Linux (Ubuntu 22.04.2 LTS) / x86_64  OK    OK    OK  UNNEEDED, same version is already published
palomino3Windows Server 2022 Datacenter / x64  OK    OK    OK    OK  UNNEEDED, same version is already published
merida1macOS 12.6.4 Monterey / x86_64  OK    OK    OK    NA  
Package 157/459HostnameOS / ArchINSTALLBUILDCHECKBUILD BIN
frma 1.52.0  (landing page)
Matthew N. McCall
git_last_commit: f32878d
git_last_commit_date: 2023-04-25 09:50:01 -0400
nebbiolo1Linux (Ubuntu 22.04.2 LTS) / x86_64  OK    OK    OK  UNNEEDED, same version is already published
palomino3Windows Server 2022 Datacenter / x64  OK    OK    OK    OK  UNNEEDED, same version is already published
merida1macOS 12.6.4 Monterey / x86_64  OK    OK    OK    NA  
Package 158/459HostnameOS / ArchINSTALLBUILDCHECKBUILD BIN
frmaTools 1.52.0  (landing page)
Matthew N. McCall
git_last_commit: d84090c
git_last_commit_date: 2023-04-25 09:50:04 -0400
nebbiolo1Linux (Ubuntu 22.04.2 LTS) / x86_64  OK    OK    OK  UNNEEDED, same version is already published
palomino3Windows Server 2022 Datacenter / x64  OK    OK    OK    OK  UNNEEDED, same version is already published
merida1macOS 12.6.4 Monterey / x86_64  OK    OK    OK    OK  UNNEEDED, same version is already published
Package 159/459HostnameOS / ArchINSTALLBUILDCHECKBUILD BIN
gaga 2.46.0  (landing page)
David Rossell
git_last_commit: 01ede91
git_last_commit_date: 2023-04-25 09:46:13 -0400
nebbiolo1Linux (Ubuntu 22.04.2 LTS) / x86_64  OK    OK    OK  UNNEEDED, same version is already published
palomino3Windows Server 2022 Datacenter / x64  OK    OK    WARNINGS    OK  UNNEEDED, same version is already published
merida1macOS 12.6.4 Monterey / x86_64  OK    OK    WARNINGS    NA  
Package 160/459HostnameOS / ArchINSTALLBUILDCHECKBUILD BIN
GAPGOM 1.16.0  (landing page)
Rezvan Ehsani
git_last_commit: 76e22d5
git_last_commit_date: 2023-04-25 11:07:31 -0400
nebbiolo1Linux (Ubuntu 22.04.2 LTS) / x86_64  OK    ERROR  skipped
palomino3Windows Server 2022 Datacenter / x64  OK    ERROR  skippedskipped
merida1macOS 12.6.4 Monterey / x86_64  OK    ERROR  skippedskipped
Package 161/459HostnameOS / ArchINSTALLBUILDCHECKBUILD BIN
gCrisprTools 2.6.0  (landing page)
Russell Bainer
git_last_commit: 0a41bea
git_last_commit_date: 2023-04-25 10:49:24 -0400
nebbiolo1Linux (Ubuntu 22.04.2 LTS) / x86_64  OK    OK    OK  UNNEEDED, same version is already published
palomino3Windows Server 2022 Datacenter / x64  OK    OK    OK    OK  UNNEEDED, same version is already published
merida1macOS 12.6.4 Monterey / x86_64  OK    OK    OK    NA  
Package 162/459HostnameOS / ArchINSTALLBUILDCHECKBUILD BIN
gcrma 2.72.0  (landing page)
Z. Wu
git_last_commit: 5cfccc7
git_last_commit_date: 2023-04-25 09:39:07 -0400
nebbiolo1Linux (Ubuntu 22.04.2 LTS) / x86_64  OK    OK    OK  UNNEEDED, same version is already published
palomino3Windows Server 2022 Datacenter / x64  OK    OK    OK    OK  UNNEEDED, same version is already published
merida1macOS 12.6.4 Monterey / x86_64  OK    OK    OK    NA  
Package 163/459HostnameOS / ArchINSTALLBUILDCHECKBUILD BIN
GCSscore 1.14.0  (landing page)
Guy M. Harris
git_last_commit: 2199e92
git_last_commit_date: 2023-04-25 11:13:56 -0400
nebbiolo1Linux (Ubuntu 22.04.2 LTS) / x86_64  OK    OK    ERROR  
palomino3Windows Server 2022 Datacenter / x64  OK    OK    OK    OK  UNNEEDED, same version is already published
merida1macOS 12.6.4 Monterey / x86_64  OK    OK    OK    NA  
Package 164/459HostnameOS / ArchINSTALLBUILDCHECKBUILD BIN
gemma.R 1.2.0  (landing page)
Ogan Mancarci
git_last_commit: 8aaacd0
git_last_commit_date: 2023-04-25 11:40:21 -0400
nebbiolo1Linux (Ubuntu 22.04.2 LTS) / x86_64  OK    ERROR  skipped
palomino3Windows Server 2022 Datacenter / x64  OK    ERROR  skippedskipped
merida1macOS 12.6.4 Monterey / x86_64  OK    ERROR  skippedskipped
Package 165/459HostnameOS / ArchINSTALLBUILDCHECKBUILD BIN
genbankr 1.28.0  (landing page)
Gabriel Becker
git_last_commit: 397e5bb
git_last_commit_date: 2023-04-25 10:46:27 -0400
nebbiolo1Linux (Ubuntu 22.04.2 LTS) / x86_64  OK    ERROR  skipped
palomino3Windows Server 2022 Datacenter / x64  OK    ERROR  skippedskipped
merida1macOS 12.6.4 Monterey / x86_64  OK    ERROR  skippedskipped
Package 166/459HostnameOS / ArchINSTALLBUILDCHECKBUILD BIN
geneClassifiers 1.24.0  (landing page)
R Kuiper
git_last_commit: 84ba209
git_last_commit_date: 2023-04-25 10:52:19 -0400
nebbiolo1Linux (Ubuntu 22.04.2 LTS) / x86_64  OK    OK    OK  UNNEEDED, same version is already published
palomino3Windows Server 2022 Datacenter / x64  OK    OK    OK    OK  UNNEEDED, same version is already published
merida1macOS 12.6.4 Monterey / x86_64  OK    OK    OK    NA  
Package 167/459HostnameOS / ArchINSTALLBUILDCHECKBUILD BIN
GeneExpressionSignature 1.46.0  (landing page)
Yang Cao
git_last_commit: 12d604d
git_last_commit_date: 2023-04-25 10:20:42 -0400
nebbiolo1Linux (Ubuntu 22.04.2 LTS) / x86_64  OK    OK    OK  UNNEEDED, same version is already published
palomino3Windows Server 2022 Datacenter / x64  OK    OK    OK    OK  UNNEEDED, same version is already published
merida1macOS 12.6.4 Monterey / x86_64  OK    OK    OK    NA  
Package 168/459HostnameOS / ArchINSTALLBUILDCHECKBUILD BIN
genefilter 1.82.1  (landing page)
Bioconductor Package Maintainer
git_last_commit: f4dadae
git_last_commit_date: 2023-05-01 20:10:27 -0400
nebbiolo1Linux (Ubuntu 22.04.2 LTS) / x86_64  OK    OK    WARNINGS  UNNEEDED, same version is already published
palomino3Windows Server 2022 Datacenter / x64  OK    OK    WARNINGS    OK  UNNEEDED, same version is already published
merida1macOS 12.6.4 Monterey / x86_64  OK    OK    WARNINGS    NA  
Package 169/459HostnameOS / ArchINSTALLBUILDCHECKBUILD BIN
GeneMeta 1.72.0  (landing page)
Bioconductor Package Maintainer
git_last_commit: 1cb0471
git_last_commit_date: 2023-04-25 09:42:08 -0400
nebbiolo1Linux (Ubuntu 22.04.2 LTS) / x86_64  OK    OK    OK  UNNEEDED, same version is already published
palomino3Windows Server 2022 Datacenter / x64  OK    OK    OK    OK  UNNEEDED, same version is already published
merida1macOS 12.6.4 Monterey / x86_64  OK    OK    OK    NA  
Package 170/459HostnameOS / ArchINSTALLBUILDCHECKBUILD BIN
geneplotter 1.78.0  (landing page)
Bioconductor Package Maintainer
git_last_commit: a105c51
git_last_commit_date: 2023-04-25 09:38:21 -0400
nebbiolo1Linux (Ubuntu 22.04.2 LTS) / x86_64  OK    OK    OK  UNNEEDED, same version is already published
palomino3Windows Server 2022 Datacenter / x64  OK    OK    OK    OK  UNNEEDED, same version is already published
merida1macOS 12.6.4 Monterey / x86_64  OK    OK    OK    NA  
Package 171/459HostnameOS / ArchINSTALLBUILDCHECKBUILD BIN
geneRecommender 1.72.0  (landing page)
Greg Hather
git_last_commit: b6bbcc3
git_last_commit_date: 2023-04-25 09:41:58 -0400
nebbiolo1Linux (Ubuntu 22.04.2 LTS) / x86_64  OK    OK    OK  UNNEEDED, same version is already published
palomino3Windows Server 2022 Datacenter / x64  OK    OK    OK    OK  UNNEEDED, same version is already published
merida1macOS 12.6.4 Monterey / x86_64  OK    OK    OK    NA  
Package 172/459HostnameOS / ArchINSTALLBUILDCHECKBUILD BIN
GeneRegionScan 1.56.0  (landing page)
Lasse Folkersen
git_last_commit: 3070615
git_last_commit_date: 2023-04-25 09:48:36 -0400
nebbiolo1Linux (Ubuntu 22.04.2 LTS) / x86_64  OK    OK    OK  UNNEEDED, same version is already published
palomino3Windows Server 2022 Datacenter / x64  OK    OK    OK    OK  UNNEEDED, same version is already published
merida1macOS 12.6.4 Monterey / x86_64  OK    OK    OK    NA  
Package 173/459HostnameOS / ArchINSTALLBUILDCHECKBUILD BIN
GeneSelectMMD 2.44.1  (landing page)
Weiliang Qiu
git_last_commit: 57dbc8b
git_last_commit_date: 2023-05-01 20:07:25 -0400
nebbiolo1Linux (Ubuntu 22.04.2 LTS) / x86_64  OK    OK    WARNINGS  UNNEEDED, same version is already published
palomino3Windows Server 2022 Datacenter / x64  OK    OK    OK    OK  UNNEEDED, same version is already published
merida1macOS 12.6.4 Monterey / x86_64  OK    OK    WARNINGS    NA  
Package 174/459HostnameOS / ArchINSTALLBUILDCHECKBUILD BIN
GENESIS 2.30.0  (landing page)
Stephanie M. Gogarten
git_last_commit: 4b00d85
git_last_commit_date: 2023-04-25 10:38:20 -0400
nebbiolo1Linux (Ubuntu 22.04.2 LTS) / x86_64  OK    OK    OK  UNNEEDED, same version is already published
palomino3Windows Server 2022 Datacenter / x64  OK    OK    OK    OK  UNNEEDED, same version is already published
merida1macOS 12.6.4 Monterey / x86_64  OK    OK    OK    NA  
Package 175/459HostnameOS / ArchINSTALLBUILDCHECKBUILD BIN
geNetClassifier 1.40.0  (landing page)
Sara Aibar
git_last_commit: de7f61a
git_last_commit_date: 2023-04-25 10:26:44 -0400
nebbiolo1Linux (Ubuntu 22.04.2 LTS) / x86_64  OK    OK    OK  UNNEEDED, same version is already published
palomino3Windows Server 2022 Datacenter / x64  OK    OK    OK    OK  UNNEEDED, same version is already published
merida1macOS 12.6.4 Monterey / x86_64  OK    OK    OK    NA  
Package 176/459HostnameOS / ArchINSTALLBUILDCHECKBUILD BIN
GenomicFeatures 1.52.0  (landing page)
H. Pagès
git_last_commit: 207ff08
git_last_commit_date: 2023-04-25 09:49:30 -0400
nebbiolo1Linux (Ubuntu 22.04.2 LTS) / x86_64  OK    OK    WARNINGS  UNNEEDED, same version is already published
palomino3Windows Server 2022 Datacenter / x64  OK    OK    ERROR    OK  
merida1macOS 12.6.4 Monterey / x86_64  OK    OK    ERROR    NA  
Package 177/459HostnameOS / ArchINSTALLBUILDCHECKBUILD BIN
GenomicInteractions 1.34.0  (landing page)
Liz Ing-Simmons
git_last_commit: 9f6a4ce
git_last_commit_date: 2023-04-25 10:34:50 -0400
nebbiolo1Linux (Ubuntu 22.04.2 LTS) / x86_64  OK    OK    OK  UNNEEDED, same version is already published
palomino3Windows Server 2022 Datacenter / x64  OK    OK    OK    OK  UNNEEDED, same version is already published
merida1macOS 12.6.4 Monterey / x86_64  OK    OK    OK    NA  
Package 178/459HostnameOS / ArchINSTALLBUILDCHECKBUILD BIN
GenomicScores 2.12.0  (landing page)
Robert Castelo
git_last_commit: a4c785f
git_last_commit_date: 2023-04-25 10:53:43 -0400
nebbiolo1Linux (Ubuntu 22.04.2 LTS) / x86_64  OK    OK    OK  UNNEEDED, same version is already published
palomino3Windows Server 2022 Datacenter / x64  OK    OK    OK    OK  UNNEEDED, same version is already published
merida1macOS 12.6.4 Monterey / x86_64  OK    OK    OK    NA  
Package 179/459HostnameOS / ArchINSTALLBUILDCHECKBUILD BIN
GenomicSuperSignature 1.8.0  (landing page)
Sehyun Oh
git_last_commit: 6f31509
git_last_commit_date: 2023-04-25 11:30:26 -0400
nebbiolo1Linux (Ubuntu 22.04.2 LTS) / x86_64  OK    OK    WARNINGS  UNNEEDED, same version is already published
palomino3Windows Server 2022 Datacenter / x64  OK    OK    WARNINGS    OK  UNNEEDED, same version is already published
merida1macOS 12.6.4 Monterey / x86_64  OK    OK    WARNINGS    NA  
Package 180/459HostnameOS / ArchINSTALLBUILDCHECKBUILD BIN
GeoDiff 1.6.0  (landing page)
Nicole Ortogero
git_last_commit: ebfafd7
git_last_commit_date: 2023-04-25 11:34:22 -0400
nebbiolo1Linux (Ubuntu 22.04.2 LTS) / x86_64  OK    OK    OK  UNNEEDED, same version is already published
palomino3Windows Server 2022 Datacenter / x64  OK    OK    OK    OK  UNNEEDED, same version is already published
merida1macOS 12.6.4 Monterey / x86_64  OK    OK    OK    NA  
Package 181/459HostnameOS / ArchINSTALLBUILDCHECKBUILD BIN
GEOexplorer 1.6.0  (landing page)
Guy Hunt
git_last_commit: 1d17c04
git_last_commit_date: 2023-04-25 11:31:50 -0400
nebbiolo1Linux (Ubuntu 22.04.2 LTS) / x86_64  OK    OK    ERROR  
palomino3Windows Server 2022 Datacenter / x64  OK    OK    ERROR    OK  
merida1macOS 12.6.4 Monterey / x86_64  OK    OK    ERROR    NA  
Package 182/459HostnameOS / ArchINSTALLBUILDCHECKBUILD BIN
GeomxTools 3.4.0  (landing page)
Nicole Ortogero
git_last_commit: 776a43c
git_last_commit_date: 2023-04-25 11:26:17 -0400
nebbiolo1Linux (Ubuntu 22.04.2 LTS) / x86_64  OK    OK    WARNINGS  UNNEEDED, same version is already published
palomino3Windows Server 2022 Datacenter / x64  OK    OK    WARNINGS    OK  UNNEEDED, same version is already published
merida1macOS 12.6.4 Monterey / x86_64  OK    OK    TIMEOUT    NA  
Package 183/459HostnameOS / ArchINSTALLBUILDCHECKBUILD BIN
GEOquery 2.68.0  (landing page)
Sean Davis
git_last_commit: 7995c57
git_last_commit_date: 2023-04-25 09:42:56 -0400
nebbiolo1Linux (Ubuntu 22.04.2 LTS) / x86_64  OK    OK    OK  UNNEEDED, same version is already published
palomino3Windows Server 2022 Datacenter / x64  OK    OK    OK    OK  UNNEEDED, same version is already published
merida1macOS 12.6.4 Monterey / x86_64  OK    OK    OK    NA  
Package 184/459HostnameOS / ArchINSTALLBUILDCHECKBUILD BIN
GEOsubmission 1.52.0  (landing page)
Alexandre Kuhn
git_last_commit: 611f3bc
git_last_commit_date: 2023-04-25 09:50:56 -0400
nebbiolo1Linux (Ubuntu 22.04.2 LTS) / x86_64  OK    OK    OK  UNNEEDED, same version is already published
palomino3Windows Server 2022 Datacenter / x64  OK    OK    OK    OK  UNNEEDED, same version is already published
merida1macOS 12.6.4 Monterey / x86_64  OK    OK    OK    NA  
Package 185/459HostnameOS / ArchINSTALLBUILDCHECKBUILD BIN
gep2pep 1.20.0  (landing page)
Francesco Napolitano
git_last_commit: 363168c
git_last_commit_date: 2023-04-25 10:58:13 -0400
nebbiolo1Linux (Ubuntu 22.04.2 LTS) / x86_64  OK    OK    OK  UNNEEDED, same version is already published
palomino3Windows Server 2022 Datacenter / x64  OK    OK    OK    OK  UNNEEDED, same version is already published
merida1macOS 12.6.4 Monterey / x86_64  OK    OK    OK    NA  
Package 186/459HostnameOS / ArchINSTALLBUILDCHECKBUILD BIN
gespeR 1.32.0  (landing page)
Fabian Schmich
git_last_commit: 5431951
git_last_commit_date: 2023-04-25 10:37:05 -0400
nebbiolo1Linux (Ubuntu 22.04.2 LTS) / x86_64  OK    ERROR  skipped
palomino3Windows Server 2022 Datacenter / x64  OK    OK    WARNINGS    OK  UNNEEDED, same version is already published
merida1macOS 12.6.4 Monterey / x86_64  OK    ERROR  skippedskipped
Package 187/459HostnameOS / ArchINSTALLBUILDCHECKBUILD BIN
ggbio 1.48.0  (landing page)
Michael Lawrence
git_last_commit: fd4ebca
git_last_commit_date: 2023-04-25 10:21:27 -0400
nebbiolo1Linux (Ubuntu 22.04.2 LTS) / x86_64  OK    OK    WARNINGS  UNNEEDED, same version is already published
palomino3Windows Server 2022 Datacenter / x64  OK    OK    WARNINGS    OK  UNNEEDED, same version is already published
merida1macOS 12.6.4 Monterey / x86_64  OK    OK    WARNINGS    NA  
Package 188/459HostnameOS / ArchINSTALLBUILDCHECKBUILD BIN
girafe 1.52.0  (landing page)
J. Toedling
git_last_commit: d07f687
git_last_commit_date: 2023-04-25 09:50:34 -0400
nebbiolo1Linux (Ubuntu 22.04.2 LTS) / x86_64  OK    OK    OK  UNNEEDED, same version is already published
palomino3Windows Server 2022 Datacenter / x64  OK    OK    OK    OK  UNNEEDED, same version is already published
merida1macOS 12.6.4 Monterey / x86_64  OK    OK    OK    NA  
Package 189/459HostnameOS / ArchINSTALLBUILDCHECKBUILD BIN
GISPA 1.24.0  (landing page)
Bhakti Dwivedi
git_last_commit: ebed4fb
git_last_commit_date: 2023-04-25 10:52:48 -0400
nebbiolo1Linux (Ubuntu 22.04.2 LTS) / x86_64  OK    OK    OK  UNNEEDED, same version is already published
palomino3Windows Server 2022 Datacenter / x64  OK    OK    OK    OK  UNNEEDED, same version is already published
merida1macOS 12.6.4 Monterey / x86_64  OK    OK    OK    NA  
Package 190/459HostnameOS / ArchINSTALLBUILDCHECKBUILD BIN
GlobalAncova 4.18.0  (landing page)
Manuela Hummel
git_last_commit: 198084f
git_last_commit_date: 2023-04-25 09:42:34 -0400
nebbiolo1Linux (Ubuntu 22.04.2 LTS) / x86_64  OK    OK    OK  UNNEEDED, same version is already published
palomino3Windows Server 2022 Datacenter / x64  OK    OK    OK    OK  UNNEEDED, same version is already published
merida1macOS 12.6.4 Monterey / x86_64  OK    OK    OK    NA  
Package 191/459HostnameOS / ArchINSTALLBUILDCHECKBUILD BIN
globaltest 5.54.0  (landing page)
Jelle Goeman
git_last_commit: bb8bc5f
git_last_commit_date: 2023-04-25 09:40:39 -0400
nebbiolo1Linux (Ubuntu 22.04.2 LTS) / x86_64  OK    OK    OK  UNNEEDED, same version is already published
palomino3Windows Server 2022 Datacenter / x64  OK    OK    OK    OK  UNNEEDED, same version is already published
merida1macOS 12.6.4 Monterey / x86_64  OK    OK    OK    NA  
Package 192/459HostnameOS / ArchINSTALLBUILDCHECKBUILD BIN
gmapR 1.42.0  (landing page)
Michael Lawrence
git_last_commit: 506bc70
git_last_commit_date: 2023-04-25 10:23:34 -0400
nebbiolo1Linux (Ubuntu 22.04.2 LTS) / x86_64  OK    OK    WARNINGS  UNNEEDED, same version is already published
palomino3Windows Server 2022 Datacenter / x64... NOT SUPPORTED ...
merida1macOS 12.6.4 Monterey / x86_64  ERROR    ERROR  skippedskipped
Package 193/459HostnameOS / ArchINSTALLBUILDCHECKBUILD BIN
GOexpress 1.34.0  (landing page)
Kevin Rue-Albrecht
git_last_commit: 3db4c6e
git_last_commit_date: 2023-04-25 10:34:39 -0400
nebbiolo1Linux (Ubuntu 22.04.2 LTS) / x86_64  OK    OK    OK  UNNEEDED, same version is already published
palomino3Windows Server 2022 Datacenter / x64  OK    OK    OK    OK  UNNEEDED, same version is already published
merida1macOS 12.6.4 Monterey / x86_64  OK    OK    OK    NA  
Package 194/459HostnameOS / ArchINSTALLBUILDCHECKBUILD BIN
goProfiles 1.62.0  (landing page)
Alex Sanchez
git_last_commit: b34f21c
git_last_commit_date: 2023-04-25 09:46:44 -0400
nebbiolo1Linux (Ubuntu 22.04.2 LTS) / x86_64  OK    OK    OK  UNNEEDED, same version is already published
palomino3Windows Server 2022 Datacenter / x64  OK    OK    OK    OK  UNNEEDED, same version is already published
merida1macOS 12.6.4 Monterey / x86_64  OK    OK    OK    NA  
Package 195/459HostnameOS / ArchINSTALLBUILDCHECKBUILD BIN
GOstats 2.66.0  (landing page)
Bioconductor Package Maintainer
git_last_commit: dbfc8a7
git_last_commit_date: 2023-04-25 09:40:28 -0400
nebbiolo1Linux (Ubuntu 22.04.2 LTS) / x86_64  OK    OK    OK  UNNEEDED, same version is already published
palomino3Windows Server 2022 Datacenter / x64  OK    OK    OK    OK  UNNEEDED, same version is already published
merida1macOS 12.6.4 Monterey / x86_64  OK    OK    OK    NA  
Package 196/459HostnameOS / ArchINSTALLBUILDCHECKBUILD BIN
GSEABase 1.62.0  (landing page)
Bioconductor Package Maintainer
git_last_commit: fc20cbc
git_last_commit_date: 2023-04-25 09:45:30 -0400
nebbiolo1Linux (Ubuntu 22.04.2 LTS) / x86_64  OK    OK    OK  UNNEEDED, same version is already published
palomino3Windows Server 2022 Datacenter / x64  OK    OK    OK    OK  UNNEEDED, same version is already published
merida1macOS 12.6.4 Monterey / x86_64  OK    OK    OK    NA  
Package 197/459HostnameOS / ArchINSTALLBUILDCHECKBUILD BIN
GSEABenchmarkeR 1.20.0  (landing page)
Ludwig Geistlinger
git_last_commit: e81805a
git_last_commit_date: 2023-04-25 11:00:18 -0400
nebbiolo1Linux (Ubuntu 22.04.2 LTS) / x86_64  OK    OK    OK  UNNEEDED, same version is already published
palomino3Windows Server 2022 Datacenter / x64  OK    OK    OK    OK  UNNEEDED, same version is already published
merida1macOS 12.6.4 Monterey / x86_64  OK    OK    OK    NA  
Package 198/459HostnameOS / ArchINSTALLBUILDCHECKBUILD BIN
GSEAlm 1.60.0  (landing page)
Assaf Oron
git_last_commit: f133f94
git_last_commit_date: 2023-04-25 09:46:30 -0400
nebbiolo1Linux (Ubuntu 22.04.2 LTS) / x86_64  OK    OK    OK  UNNEEDED, same version is already published
palomino3Windows Server 2022 Datacenter / x64  OK    OK    OK    OK  UNNEEDED, same version is already published
merida1macOS 12.6.4 Monterey / x86_64  OK    OK    OK    NA  
Package 199/459HostnameOS / ArchINSTALLBUILDCHECKBUILD BIN
GSRI 2.48.0  (landing page)
Julian Gehring
git_last_commit: 9d05b6f
git_last_commit_date: 2023-04-25 09:50:59 -0400
nebbiolo1Linux (Ubuntu 22.04.2 LTS) / x86_64  OK    OK    OK  UNNEEDED, same version is already published
palomino3Windows Server 2022 Datacenter / x64  OK    OK    OK    OK  UNNEEDED, same version is already published
merida1macOS 12.6.4 Monterey / x86_64  OK    OK    OK    NA  
Package 200/459HostnameOS / ArchINSTALLBUILDCHECKBUILD BIN
GSVA 1.48.1  (landing page)
Robert Castelo
git_last_commit: 9957f63
git_last_commit_date: 2023-06-01 05:38:07 -0400
nebbiolo1Linux (Ubuntu 22.04.2 LTS) / x86_64  OK    OK    OK  UNNEEDED, same version is already published
palomino3Windows Server 2022 Datacenter / x64  OK    OK    OK    OK  UNNEEDED, same version is already published
merida1macOS 12.6.4 Monterey / x86_64  OK    OK    OK    NA  
Package 201/459HostnameOS / ArchINSTALLBUILDCHECKBUILD BIN
Gviz 1.44.0  (landing page)
Robert Ivanek
git_last_commit: e70aaa7
git_last_commit_date: 2023-04-25 10:22:19 -0400
nebbiolo1Linux (Ubuntu 22.04.2 LTS) / x86_64  OK    OK    OK  UNNEEDED, same version is already published
palomino3Windows Server 2022 Datacenter / x64  OK    OK    OK    OK  UNNEEDED, same version is already published
merida1macOS 12.6.4 Monterey / x86_64  OK    OK    OK    NA  
Package 202/459HostnameOS / ArchINSTALLBUILDCHECKBUILD BIN
GWASTools 1.46.0  (landing page)
Stephanie M. Gogarten
git_last_commit: bfec04d
git_last_commit_date: 2023-04-25 10:21:17 -0400
nebbiolo1Linux (Ubuntu 22.04.2 LTS) / x86_64  OK    OK    OK  UNNEEDED, same version is already published
palomino3Windows Server 2022 Datacenter / x64  OK    OK    OK    OK  UNNEEDED, same version is already published
merida1macOS 12.6.4 Monterey / x86_64  OK    OK    OK    NA  
Package 203/459HostnameOS / ArchINSTALLBUILDCHECKBUILD BIN
hapFabia 1.42.0  (landing page)
Andreas Mitterecker
git_last_commit: 5a62279
git_last_commit_date: 2023-04-25 10:24:01 -0400
nebbiolo1Linux (Ubuntu 22.04.2 LTS) / x86_64  OK    OK    WARNINGS  UNNEEDED, same version is already published
palomino3Windows Server 2022 Datacenter / x64  OK    OK    WARNINGS    OK  UNNEEDED, same version is already published
merida1macOS 12.6.4 Monterey / x86_64  OK    OK    WARNINGS    NA  
Package 204/459HostnameOS / ArchINSTALLBUILDCHECKBUILD BIN
Harshlight 1.72.0  (landing page)
Maurizio Pellegrino
git_last_commit: 0ec7d5e
git_last_commit_date: 2023-04-25 09:44:01 -0400
nebbiolo1Linux (Ubuntu 22.04.2 LTS) / x86_64  OK    OK    WARNINGS  UNNEEDED, same version is already published
palomino3Windows Server 2022 Datacenter / x64  OK    OK    WARNINGS    OK  UNNEEDED, same version is already published
merida1macOS 12.6.4 Monterey / x86_64  OK    OK    OK    NA  
Package 205/459HostnameOS / ArchINSTALLBUILDCHECKBUILD BIN
HELP 1.58.0  (landing page)
Reid F. Thompson
git_last_commit: 6bc4339
git_last_commit_date: 2023-04-25 09:47:01 -0400
nebbiolo1Linux (Ubuntu 22.04.2 LTS) / x86_64  OK    OK    OK  UNNEEDED, same version is already published
palomino3Windows Server 2022 Datacenter / x64  OK    OK    OK    OK  UNNEEDED, same version is already published
merida1macOS 12.6.4 Monterey / x86_64  OK    OK    OK    NA  
Package 206/459HostnameOS / ArchINSTALLBUILDCHECKBUILD BIN
HEM 1.72.0  (landing page)
HyungJun Cho
git_last_commit: 4060e4a
git_last_commit_date: 2023-04-25 09:40:34 -0400
nebbiolo1Linux (Ubuntu 22.04.2 LTS) / x86_64  OK    OK    OK  UNNEEDED, same version is already published
palomino3Windows Server 2022 Datacenter / x64  OK    OK    OK    OK  UNNEEDED, same version is already published
merida1macOS 12.6.4 Monterey / x86_64  OK    OK    OK    NA  
Package 207/459HostnameOS / ArchINSTALLBUILDCHECKBUILD BIN
hermes 1.4.0  (landing page)
Daniel Sabanés Bové
git_last_commit: 66d78db
git_last_commit_date: 2023-04-25 11:35:06 -0400
nebbiolo1Linux (Ubuntu 22.04.2 LTS) / x86_64  OK    OK    OK  UNNEEDED, same version is already published
palomino3Windows Server 2022 Datacenter / x64  OK    OK    OK    OK  UNNEEDED, same version is already published
merida1macOS 12.6.4 Monterey / x86_64  OK    OK    OK    NA  
Package 208/459HostnameOS / ArchINSTALLBUILDCHECKBUILD BIN
hopach 2.60.0  (landing page)
Katherine S. Pollard
git_last_commit: 407f981
git_last_commit_date: 2023-04-25 09:41:00 -0400
nebbiolo1Linux (Ubuntu 22.04.2 LTS) / x86_64  OK    OK    OK  UNNEEDED, same version is already published
palomino3Windows Server 2022 Datacenter / x64  OK    OK    OK    OK  UNNEEDED, same version is already published
merida1macOS 12.6.4 Monterey / x86_64  OK    OK    OK    NA  
Package 209/459HostnameOS / ArchINSTALLBUILDCHECKBUILD BIN
HTqPCR 1.54.0  (landing page)
Heidi Dvinge
git_last_commit: d7716b7
git_last_commit_date: 2023-04-25 09:49:46 -0400
nebbiolo1Linux (Ubuntu 22.04.2 LTS) / x86_64  OK    OK    OK  UNNEEDED, same version is already published
palomino3Windows Server 2022 Datacenter / x64  OK    OK    OK    OK  UNNEEDED, same version is already published
merida1macOS 12.6.4 Monterey / x86_64  OK    OK    OK    NA  
Package 210/459HostnameOS / ArchINSTALLBUILDCHECKBUILD BIN
HTSFilter 1.40.0  (landing page)
Andrea Rau
git_last_commit: ad8d16f
git_last_commit_date: 2023-04-25 10:25:37 -0400
nebbiolo1Linux (Ubuntu 22.04.2 LTS) / x86_64  OK    OK    OK  UNNEEDED, same version is already published