Back to Multiple platform build/check report for BioC 3.17 |
|
This page was generated on 2023-02-02 11:05:03 -0500 (Thu, 02 Feb 2023).
Hostname | OS | Arch (*) | R version | Installed pkgs |
---|---|---|---|---|
nebbiolo1 | Linux (Ubuntu 22.04.1 LTS) | x86_64 | R Under development (unstable) (2023-01-10 r83596) -- "Unsuffered Consequences" | 4483 |
palomino3 | Windows Server 2022 Datacenter | x64 | R Under development (unstable) (2023-01-10 r83596 ucrt) -- "Unsuffered Consequences" | 4249 |
merida1 | macOS 10.14.6 Mojave | x86_64 | R Under development (unstable) (2023-01-10 r83596) -- "Unsuffered Consequences" | 4272 |
Click on any hostname to see more info about the system (e.g. compilers) (*) as reported by 'uname -p', except on Windows and Mac OS X |
To the developers/maintainers of the rfaRm package: - Please allow up to 24 hours (and sometimes 48 hours) for your latest push to git@git.bioconductor.org:packages/rfaRm.git to reflect on this report. See How and When does the builder pull? When will my changes propagate? for more information. - Make sure to use the following settings in order to reproduce any error or warning you see on this page. |
Package 1645/2164 | Hostname | OS / Arch | INSTALL | BUILD | CHECK | BUILD BIN | ||||||||
rfaRm 1.11.2 (landing page) Lara Selles Vidal
| nebbiolo1 | Linux (Ubuntu 22.04.1 LTS) / x86_64 | OK | OK | OK | ![]() | ||||||||
palomino3 | Windows Server 2022 Datacenter / x64 | OK | OK | OK | OK | ![]() | ||||||||
merida1 | macOS 10.14.6 Mojave / x86_64 | OK | OK | OK | OK | ![]() | ||||||||