Back to Build/check report for BioC 3.17: simplified long |
|
This page was generated on 2023-03-30 12:33:47 -0400 (Thu, 30 Mar 2023).
Hostname | OS | Arch (*) | R version | Installed pkgs |
---|---|---|---|---|
nebbiolo1 | Linux (Ubuntu 22.04.1 LTS) | x86_64 | R Under development (unstable) (2023-03-16 r83996) -- "Unsuffered Consequences" | 4547 |
Click on any hostname to see more info about the system (e.g. compilers) (*) as reported by 'uname -p', except on Windows and Mac OS X |
To the developers/maintainers of the katdetectr package: - Allow up to 24 hours (and sometimes 48 hours) for your latest push to git@git.bioconductor.org:packages/katdetectr.git to reflect on this report. See Troubleshooting Build Report for more information. - Use the following Renviron settings to reproduce errors and warnings. Note: If "R CMD check" recently failed on the Linux builder over a missing dependency, add the missing dependency to "Suggests" in your DESCRIPTION file. See the Renviron.bioc for details. |
Package 1028/2195 | Hostname | OS / Arch | INSTALL | BUILD | CHECK | BUILD BIN | ||||||||
katdetectr 1.1.3 (landing page) Daan Hazelaar
| nebbiolo1 | Linux (Ubuntu 22.04.1 LTS) / x86_64 | OK | OK | ERROR | |||||||||
Package: katdetectr |
Version: 1.1.3 |
Command: /home/biocbuild/bbs-3.17-bioc/R/bin/R CMD build --keep-empty-dirs --no-resave-data katdetectr |
StartedAt: 2023-03-29 16:51:30 -0400 (Wed, 29 Mar 2023) |
EndedAt: 2023-03-29 16:52:54 -0400 (Wed, 29 Mar 2023) |
EllapsedTime: 84.2 seconds |
RetCode: 0 |
Status: OK |
PackageFile: katdetectr_1.1.3.tar.gz |
PackageFileSize: 1.275 MiB |
############################################################################## ############################################################################## ### ### Running command: ### ### /home/biocbuild/bbs-3.17-bioc/R/bin/R CMD build --keep-empty-dirs --no-resave-data katdetectr ### ############################################################################## ############################################################################## * checking for file ‘katdetectr/DESCRIPTION’ ... OK * preparing ‘katdetectr’: * checking DESCRIPTION meta-information ... OK * installing the package to build vignettes * creating vignettes ... OK * checking for LF line-endings in source and make files and shell scripts * checking for empty or unneeded directories * building ‘katdetectr_1.1.3.tar.gz’