Back to Multiple platform build/check report for BioC 3.17:   simplified   long
ABCDEFG[H]IJKLMNOPQRSTUVWXYZ

This page was generated on 2023-06-03 14:37:17 -0400 (Sat, 03 Jun 2023).

HostnameOSArch (*)R versionInstalled pkgs
nebbiolo1Linux (Ubuntu 22.04.2 LTS)x86_644.3.0 RC (2023-04-13 r84269) -- "Already Tomorrow" 4623
palomino3Windows Server 2022 Datacenterx644.3.0 RC (2023-04-13 r84269 ucrt) -- "Already Tomorrow" 4374
merida1macOS 12.6.4 Montereyx86_644.3.0 RC (2023-04-13 r84257) -- "Already Tomorrow" 4332
Click on any hostname to see more info about the system (e.g. compilers)      (*) as reported by 'uname -p', except on Windows and Mac OS X

BUILD results for HiCExperiment on palomino3


To the developers/maintainers of the HiCExperiment package:
- Allow up to 24 hours (and sometimes 48 hours) for your latest push to git@git.bioconductor.org:packages/HiCExperiment.git to reflect on this report. See Troubleshooting Build Report for more information.

- Use the following Renviron settings to reproduce errors and warnings.

Note: If "R CMD check" recently failed on the Linux builder over a missing dependency, add the missing dependency to "Suggests" in your DESCRIPTION file. See the Renviron.bioc for details.

raw results

Package 928/2229HostnameOS / ArchINSTALLBUILDCHECKBUILD BIN
HiCExperiment 1.0.0  (landing page)
Jacques Serizay
Snapshot Date: 2023-06-02 14:00:14 -0400 (Fri, 02 Jun 2023)
git_url: https://git.bioconductor.org/packages/HiCExperiment
git_branch: RELEASE_3_17
git_last_commit: 832e197
git_last_commit_date: 2023-04-25 11:42:38 -0400 (Tue, 25 Apr 2023)
nebbiolo1Linux (Ubuntu 22.04.2 LTS) / x86_64  OK    OK    OK  UNNEEDED, same version is already published
palomino3Windows Server 2022 Datacenter / x64  OK    OK    OK    OK  UNNEEDED, same version is already published
merida1macOS 12.6.4 Monterey / x86_64  OK    OK    OK    OK  UNNEEDED, same version is already published

Summary

Package: HiCExperiment
Version: 1.0.0
Command: chmod a+r HiCExperiment -R && F:\biocbuild\bbs-3.17-bioc\R\bin\R.exe CMD build --keep-empty-dirs --no-resave-data HiCExperiment
StartedAt: 2023-06-02 19:46:08 -0400 (Fri, 02 Jun 2023)
EndedAt: 2023-06-02 19:48:54 -0400 (Fri, 02 Jun 2023)
EllapsedTime: 165.7 seconds
RetCode: 0
Status:   OK  
PackageFile: HiCExperiment_1.0.0.tar.gz
PackageFileSize: 1005 KiB

Command output

##############################################################################
##############################################################################
###
### Running command:
###
###   chmod a+r HiCExperiment -R && F:\biocbuild\bbs-3.17-bioc\R\bin\R.exe CMD build --keep-empty-dirs --no-resave-data HiCExperiment
###
##############################################################################
##############################################################################


* checking for file 'HiCExperiment/DESCRIPTION' ... OK
* preparing 'HiCExperiment':
* checking DESCRIPTION meta-information ... OK
* installing the package to build vignettes
* creating vignettes ... OK
* checking for LF line-endings in source and make files and shell scripts
* checking for empty or unneeded directories
* looking to see if a 'data/datalist' file should be added
* building 'HiCExperiment_1.0.0.tar.gz'