Back to Multiple platform build/check report for BioC 3.17:   simplified   long
ABCDEFGHIJKL[M]NOPQRSTUVWXYZ

This page was generated on 2023-02-08 11:04:33 -0500 (Wed, 08 Feb 2023).

HostnameOSArch (*)R versionInstalled pkgs
nebbiolo1Linux (Ubuntu 22.04.1 LTS)x86_64R Under development (unstable) (2023-01-10 r83596) -- "Unsuffered Consequences" 4484
palomino3Windows Server 2022 Datacenterx64R Under development (unstable) (2023-01-10 r83596 ucrt) -- "Unsuffered Consequences" 4250
merida1macOS 10.14.6 Mojavex86_64R Under development (unstable) (2023-01-10 r83596) -- "Unsuffered Consequences" 4273
Click on any hostname to see more info about the system (e.g. compilers)      (*) as reported by 'uname -p', except on Windows and Mac OS X

All results for package metagenomeSeq


To the developers/maintainers of the metagenomeSeq package:
- Please allow up to 24 hours (and sometimes 48 hours) for your latest push to git@git.bioconductor.org:packages/metagenomeSeq.git to
reflect on this report. See How and When does the builder pull? When will my changes propagate? for more information.
- Make sure to use the following settings in order to reproduce any error or warning you see on this page.

raw results

Package 1136/2164HostnameOS / ArchINSTALLBUILDCHECKBUILD BIN
metagenomeSeq 1.41.0  (landing page)
Joseph N. Paulson
Snapshot Date: 2023-02-07 14:00:21 -0500 (Tue, 07 Feb 2023)
git_url: https://git.bioconductor.org/packages/metagenomeSeq
git_branch: master
git_last_commit: 706cc16
git_last_commit_date: 2022-11-01 11:08:06 -0500 (Tue, 01 Nov 2022)
nebbiolo1Linux (Ubuntu 22.04.1 LTS) / x86_64  OK    OK    OK  UNNEEDED, same version is already published
palomino3Windows Server 2022 Datacenter / x64  OK    OK    OK    OK  UNNEEDED, same version is already published
merida1macOS 10.14.6 Mojave / x86_64  OK    OK    OK    OK  UNNEEDED, same version is already published

Results for Bioconductor software packages that depend directly on package metagenomeSeq

QUICK STATSOS / ArchINSTALLBUILDCHECKBUILD BIN
nebbiolo1Linux (Ubuntu 22.04.1 LTS) / x86_64
006
015
0005
palomino3Windows Server 2022 Datacenter / x64
006
015
0005
005
merida1macOS 10.14.6 Mojave / x86_64
006
114
0004
004
Package 1/6HostnameOS / ArchINSTALLBUILDCHECKBUILD BIN
benchdamic 1.5.2  (landing page)
Matteo Calgaro
git_last_commit: 224bcad
git_last_commit_date: 2022-11-21 11:52:14 -0500
nebbiolo1Linux (Ubuntu 22.04.1 LTS) / x86_64  OK    OK    OK  UNNEEDED, same version is already published
palomino3Windows Server 2022 Datacenter / x64  OK    OK    OK    OK  UNNEEDED, same version is already published
merida1macOS 10.14.6 Mojave / x86_64  OK    TIMEOUT  skippedskipped
Package 2/6HostnameOS / ArchINSTALLBUILDCHECKBUILD BIN
Maaslin2 1.13.0  (landing page)
Lauren McIver
git_last_commit: 56c7729
git_last_commit_date: 2022-11-01 11:20:14 -0500
nebbiolo1Linux (Ubuntu 22.04.1 LTS) / x86_64  OK    OK    OK  UNNEEDED, same version is already published
palomino3Windows Server 2022 Datacenter / x64  OK    OK    OK    OK  UNNEEDED, same version is already published
merida1macOS 10.14.6 Mojave / x86_64  OK    OK    OK    OK  UNNEEDED, same version is already published
Package 3/6HostnameOS / ArchINSTALLBUILDCHECKBUILD BIN
metavizr 1.23.0  (landing page)
Hector Corrada Bravo
git_last_commit: 335f07f
git_last_commit_date: 2022-11-01 11:15:37 -0500
nebbiolo1Linux (Ubuntu 22.04.1 LTS) / x86_64  OK    ERROR  skipped
palomino3Windows Server 2022 Datacenter / x64  OK    ERROR  skippedskipped
merida1macOS 10.14.6 Mojave / x86_64  OK    ERROR  skippedskipped
Package 4/6HostnameOS / ArchINSTALLBUILDCHECKBUILD BIN
microbiomeDASim 1.13.0  (landing page)
Justin Williams
git_last_commit: 4a4c68a
git_last_commit_date: 2022-11-01 11:20:28 -0500
nebbiolo1Linux (Ubuntu 22.04.1 LTS) / x86_64  OK    OK    OK  UNNEEDED, same version is already published
palomino3Windows Server 2022 Datacenter / x64  OK    OK    OK    OK  UNNEEDED, same version is already published
merida1macOS 10.14.6 Mojave / x86_64  OK    OK    OK    OK  UNNEEDED, same version is already published
Package 5/6HostnameOS / ArchINSTALLBUILDCHECKBUILD BIN
microbiomeExplorer 1.9.0  (landing page)
Janina Reeder
git_last_commit: 487e400
git_last_commit_date: 2022-11-01 11:23:06 -0500
nebbiolo1Linux (Ubuntu 22.04.1 LTS) / x86_64  OK    OK    OK  UNNEEDED, same version is already published
palomino3Windows Server 2022 Datacenter / x64  OK    OK    OK    OK  UNNEEDED, same version is already published
merida1macOS 10.14.6 Mojave / x86_64  OK    OK    OK    OK  UNNEEDED, same version is already published
Package 6/6HostnameOS / ArchINSTALLBUILDCHECKBUILD BIN
microbiomeMarker 1.5.0  (landing page)
Yang Cao
git_last_commit: 9ef4bd2
git_last_commit_date: 2022-11-01 11:25:50 -0500
nebbiolo1Linux (Ubuntu 22.04.1 LTS) / x86_64  OK    OK    OK  UNNEEDED, same version is already published
palomino3Windows Server 2022 Datacenter / x64  OK    OK    OK    OK  UNNEEDED, same version is already published
merida1macOS 10.14.6 Mojave / x86_64  OK    OK    OK    OK  NO, package depends on 'ANCOMBC' which is not available