Back to Multiple platform build/check report for BioC 3.17:   simplified   long
ABC[D]EFGHIJKLMNOPQRSTUVWXYZ

This page was generated on 2023-03-27 11:05:00 -0400 (Mon, 27 Mar 2023).

HostnameOSArch (*)R versionInstalled pkgs
nebbiolo1Linux (Ubuntu 22.04.1 LTS)x86_64R Under development (unstable) (2023-03-16 r83996) -- "Unsuffered Consequences" 4547
palomino3Windows Server 2022 Datacenterx64R Under development (unstable) (2023-03-15 r83984 ucrt) -- "Unsuffered Consequences" 4308
merida1macOS 10.14.6 Mojavex86_64R Under development (unstable) (2023-03-16 r83985) -- "Unsuffered Consequences" 4300
Click on any hostname to see more info about the system (e.g. compilers)      (*) as reported by 'uname -p', except on Windows and Mac OS X

BUILD results for DEScan2 on nebbiolo1


To the developers/maintainers of the DEScan2 package:
- Please allow up to 24 hours (and sometimes 48 hours) for your latest push to git@git.bioconductor.org:packages/DEScan2.git to
reflect on this report. See How and When does the builder pull? When will my changes propagate? for more information.
- Make sure to use the following settings in order to reproduce any error or warning you see on this page.

raw results

Package 529/2195HostnameOS / ArchINSTALLBUILDCHECKBUILD BIN
DEScan2 1.19.1  (landing page)
Dario Righelli
Snapshot Date: 2023-03-26 14:00:09 -0400 (Sun, 26 Mar 2023)
git_url: https://git.bioconductor.org/packages/DEScan2
git_branch: devel
git_last_commit: fbe5e70
git_last_commit_date: 2023-03-09 06:22:49 -0400 (Thu, 09 Mar 2023)
nebbiolo1Linux (Ubuntu 22.04.1 LTS) / x86_64  OK    OK    WARNINGS  UNNEEDED, same version is already published
palomino3Windows Server 2022 Datacenter / x64  OK    OK    WARNINGS    OK  UNNEEDED, same version is already published
merida1macOS 10.14.6 Mojave / x86_64  OK    OK    WARNINGS    OK  UNNEEDED, same version is already published

Summary

Package: DEScan2
Version: 1.19.1
Command: /home/biocbuild/bbs-3.17-bioc/R/bin/R CMD build --keep-empty-dirs --no-resave-data DEScan2
StartedAt: 2023-03-26 16:25:24 -0400 (Sun, 26 Mar 2023)
EndedAt: 2023-03-26 16:27:12 -0400 (Sun, 26 Mar 2023)
EllapsedTime: 108.0 seconds
RetCode: 0
Status:   OK  
PackageFile: DEScan2_1.19.1.tar.gz
PackageFileSize: 2.459 MiB

Command output

##############################################################################
##############################################################################
###
### Running command:
###
###   /home/biocbuild/bbs-3.17-bioc/R/bin/R CMD build --keep-empty-dirs --no-resave-data DEScan2
###
##############################################################################
##############################################################################


* checking for file ‘DEScan2/DESCRIPTION’ ... OK
* preparing ‘DEScan2’:
* checking DESCRIPTION meta-information ... OK
* cleaning src
Warning: saveGRangesAsTsv.Rd:34: unknown macro '\t'
* installing the package to build vignettes
* creating vignettes ... OK
* cleaning src
* checking for LF line-endings in source and make files and shell scripts
* checking for empty or unneeded directories
Omitted ‘LazyData’ from DESCRIPTION
* building ‘DEScan2_1.19.1.tar.gz’