Back to Multiple platform build/check report for BioC 3.17:   simplified   long
ABCDEFGHIJKL[M]NOPQRSTUVWXYZ

This page was generated on 2023-03-16 11:06:13 -0400 (Thu, 16 Mar 2023).

HostnameOSArch (*)R versionInstalled pkgs
nebbiolo1Linux (Ubuntu 22.04.1 LTS)x86_64R Under development (unstable) (2023-01-10 r83596) -- "Unsuffered Consequences" 4540
palomino3Windows Server 2022 Datacenterx64R Under development (unstable) (2023-01-10 r83596 ucrt) -- "Unsuffered Consequences" 4302
merida1macOS 10.14.6 Mojavex86_64R Under development (unstable) (2023-01-10 r83596) -- "Unsuffered Consequences" 4330
Click on any hostname to see more info about the system (e.g. compilers)      (*) as reported by 'uname -p', except on Windows and Mac OS X

BUILD BIN results for Maaslin2 on palomino3


To the developers/maintainers of the Maaslin2 package:
- Please allow up to 24 hours (and sometimes 48 hours) for your latest push to git@git.bioconductor.org:packages/Maaslin2.git to
reflect on this report. See How and When does the builder pull? When will my changes propagate? for more information.
- Make sure to use the following settings in order to reproduce any error or warning you see on this page.

raw results

Package 1077/2189HostnameOS / ArchINSTALLBUILDCHECKBUILD BIN
Maaslin2 1.13.0  (landing page)
Lauren McIver
Snapshot Date: 2023-03-15 14:00:15 -0400 (Wed, 15 Mar 2023)
git_url: https://git.bioconductor.org/packages/Maaslin2
git_branch: master
git_last_commit: 56c7729
git_last_commit_date: 2022-11-01 11:20:14 -0400 (Tue, 01 Nov 2022)
nebbiolo1Linux (Ubuntu 22.04.1 LTS) / x86_64  OK    OK    OK  UNNEEDED, same version is already published
palomino3Windows Server 2022 Datacenter / x64  OK    OK    OK    OK  UNNEEDED, same version is already published
merida1macOS 10.14.6 Mojave / x86_64  OK    OK    OK    OK  UNNEEDED, same version is already published

Summary

Package: Maaslin2
Version: 1.13.0
Command: rm -rf Maaslin2.buildbin-libdir && mkdir Maaslin2.buildbin-libdir && F:\biocbuild\bbs-3.17-bioc\R\bin\R.exe CMD INSTALL --build --library=Maaslin2.buildbin-libdir Maaslin2_1.13.0.tar.gz
StartedAt: 2023-03-16 08:28:21 -0400 (Thu, 16 Mar 2023)
EndedAt: 2023-03-16 08:28:36 -0400 (Thu, 16 Mar 2023)
EllapsedTime: 14.8 seconds
RetCode: 0
Status:   OK  
PackageFile: Maaslin2_1.13.0.zip
PackageFileSize: 629.4 KiB

Command output

##############################################################################
##############################################################################
###
### Running command:
###
###   rm -rf Maaslin2.buildbin-libdir && mkdir Maaslin2.buildbin-libdir && F:\biocbuild\bbs-3.17-bioc\R\bin\R.exe CMD INSTALL --build --library=Maaslin2.buildbin-libdir Maaslin2_1.13.0.tar.gz
###
##############################################################################
##############################################################################


* installing *source* package 'Maaslin2' ...
** using staged installation
** R
** inst
** byte-compile and prepare package for lazy loading
Warning in checkDepPackageVersion(dep_pkg = "TMB") :
  Package version inconsistency detected.
glmmTMB was built with TMB version 1.9.1
Current TMB version is 1.9.2
Please re-install glmmTMB from source or restore original 'TMB' package (see '?reinstalling' for more information)
** help
*** installing help indices
** building package indices
** installing vignettes
** testing if installed package can be loaded from temporary location
** testing if installed package can be loaded from final location
** testing if installed package keeps a record of temporary installation path
* MD5 sums
packaged installation of 'Maaslin2' as Maaslin2_1.13.0.zip
* DONE (Maaslin2)