Back to Multiple platform build/check report for BioC 3.17:   simplified   long
ABCDEFGHIJKL[M]NOPQRSTUVWXYZ

This page was generated on 2023-03-29 11:06:23 -0400 (Wed, 29 Mar 2023).

HostnameOSArch (*)R versionInstalled pkgs
nebbiolo1Linux (Ubuntu 22.04.1 LTS)x86_64R Under development (unstable) (2023-03-16 r83996) -- "Unsuffered Consequences" 4547
palomino3Windows Server 2022 Datacenterx64R Under development (unstable) (2023-03-15 r83984 ucrt) -- "Unsuffered Consequences" 4308
merida1macOS 10.14.6 Mojavex86_64R Under development (unstable) (2023-03-16 r83985) -- "Unsuffered Consequences" 4301
Click on any hostname to see more info about the system (e.g. compilers)      (*) as reported by 'uname -p', except on Windows and Mac OS X

INSTALL results for MIGSA on merida1


To the developers/maintainers of the MIGSA package:
- Please allow up to 24 hours (and sometimes 48 hours) for your latest push to git@git.bioconductor.org:packages/MIGSA.git to
reflect on this report. See How and When does the builder pull? When will my changes propagate? for more information.
- Make sure to use the following settings in order to reproduce any error or warning you see on this page.

raw results

Package 1212/2195HostnameOS / ArchINSTALLBUILDCHECKBUILD BIN
MIGSA 1.23.1  (landing page)
Juan C. Rodriguez
Snapshot Date: 2023-03-28 14:00:22 -0400 (Tue, 28 Mar 2023)
git_url: https://git.bioconductor.org/packages/MIGSA
git_branch: devel
git_last_commit: 5439cca
git_last_commit_date: 2023-02-08 10:45:04 -0400 (Wed, 08 Feb 2023)
nebbiolo1Linux (Ubuntu 22.04.1 LTS) / x86_64  ERROR    ERROR  skipped
palomino3Windows Server 2022 Datacenter / x64  ERROR    ERROR  skippedskipped
merida1macOS 10.14.6 Mojave / x86_64  ERROR    ERROR  skippedskipped

Summary

Package: MIGSA
Version: 1.23.1
Command: /Library/Frameworks/R.framework/Resources/bin/R CMD INSTALL MIGSA
StartedAt: 2023-03-28 16:01:48 -0400 (Tue, 28 Mar 2023)
EndedAt: 2023-03-28 16:02:09 -0400 (Tue, 28 Mar 2023)
EllapsedTime: 20.8 seconds
RetCode: 1
Status:   ERROR  

Command output

##############################################################################
##############################################################################
###
### Running command:
###
###   /Library/Frameworks/R.framework/Resources/bin/R CMD INSTALL MIGSA
###
##############################################################################
##############################################################################


* installing to library ‘/Library/Frameworks/R.framework/Versions/4.3/Resources/library’
* installing *source* package ‘MIGSA’ ...
** using staged installation
** R
** data
** inst
** byte-compile and prepare package for lazy loading
Error: objects ‘rowSums’, ‘colSums’, ‘rowMeans’, ‘colMeans’ are not exported by 'namespace:BiocGenerics'
Execution halted
ERROR: lazy loading failed for package ‘MIGSA’
* removing ‘/Library/Frameworks/R.framework/Versions/4.3/Resources/library/MIGSA’
* restoring previous ‘/Library/Frameworks/R.framework/Versions/4.3/Resources/library/MIGSA’