Back to Multiple platform build/check report for BioC 3.17: simplified long |
|
This page was generated on 2023-03-17 13:23:05 -0400 (Fri, 17 Mar 2023).
Hostname | OS | Arch (*) | R version | Installed pkgs |
---|---|---|---|---|
nebbiolo1 | Linux (Ubuntu 22.04.1 LTS) | x86_64 | R Under development (unstable) (2023-03-15 r83984) -- "Unsuffered Consequences" | 3730 |
palomino3 | Windows Server 2022 Datacenter | x64 | R Under development (unstable) (2023-03-15 r83984 ucrt) -- "Unsuffered Consequences" | 4004 |
Click on any hostname to see more info about the system (e.g. compilers) (*) as reported by 'uname -p', except on Windows and Mac OS X |
To the developers/maintainers of the Pi package: - Please allow up to 24 hours (and sometimes 48 hours) for your latest push to git@git.bioconductor.org:packages/Pi.git to reflect on this report. See How and When does the builder pull? When will my changes propagate? for more information. - Make sure to use the following settings in order to reproduce any error or warning you see on this page. |
Package 1491/2189 | Hostname | OS / Arch | INSTALL | BUILD | CHECK | BUILD BIN | ||||||||
Pi 2.11.0 (landing page) Hai Fang
| nebbiolo1 | Linux (Ubuntu 22.04.1 LTS) / x86_64 | OK | OK | ERROR | |||||||||
palomino3 | Windows Server 2022 Datacenter / x64 | OK | OK | WARNINGS | OK | ![]() | ||||||||
Package: Pi |
Version: 2.11.0 |
Command: rm -rf Pi.buildbin-libdir && mkdir Pi.buildbin-libdir && F:\biocbuild\bbs-3.17-bioc\R\bin\R.exe CMD INSTALL --build --library=Pi.buildbin-libdir Pi_2.11.0.tar.gz |
StartedAt: 2023-03-17 06:45:44 -0400 (Fri, 17 Mar 2023) |
EndedAt: 2023-03-17 06:46:32 -0400 (Fri, 17 Mar 2023) |
EllapsedTime: 48.2 seconds |
RetCode: 0 |
Status: OK |
PackageFile: Pi_2.11.0.zip |
PackageFileSize: 2.9 MiB |
############################################################################## ############################################################################## ### ### Running command: ### ### rm -rf Pi.buildbin-libdir && mkdir Pi.buildbin-libdir && F:\biocbuild\bbs-3.17-bioc\R\bin\R.exe CMD INSTALL --build --library=Pi.buildbin-libdir Pi_2.11.0.tar.gz ### ############################################################################## ############################################################################## * installing *source* package 'Pi' ... ** using staged installation ** R ** inst ** byte-compile and prepare package for lazy loading Warning: replacing previous import 'ROCR::plot' by 'graphics::plot' when loading 'Pi' ** help *** installing help indices ** building package indices ** installing vignettes ** testing if installed package can be loaded from temporary location Warning: replacing previous import 'ROCR::plot' by 'graphics::plot' when loading 'Pi' ** testing if installed package can be loaded from final location Warning: replacing previous import 'ROCR::plot' by 'graphics::plot' when loading 'Pi' ** testing if installed package keeps a record of temporary installation path * MD5 sums packaged installation of 'Pi' as Pi_2.11.0.zip * DONE (Pi)