Back to Multiple platform build/check report for BioC 3.17:   simplified   long
ABCDEFGHIJKLMNO[P]QRSTUVWXYZ

This page was generated on 2023-06-03 14:37:32 -0400 (Sat, 03 Jun 2023).

HostnameOSArch (*)R versionInstalled pkgs
nebbiolo1Linux (Ubuntu 22.04.2 LTS)x86_644.3.0 RC (2023-04-13 r84269) -- "Already Tomorrow" 4623
palomino3Windows Server 2022 Datacenterx644.3.0 RC (2023-04-13 r84269 ucrt) -- "Already Tomorrow" 4374
merida1macOS 12.6.4 Montereyx86_644.3.0 RC (2023-04-13 r84257) -- "Already Tomorrow" 4332
Click on any hostname to see more info about the system (e.g. compilers)      (*) as reported by 'uname -p', except on Windows and Mac OS X

BUILD results for PureCN on palomino3


To the developers/maintainers of the PureCN package:
- Allow up to 24 hours (and sometimes 48 hours) for your latest push to git@git.bioconductor.org:packages/PureCN.git to reflect on this report. See Troubleshooting Build Report for more information.

- Use the following Renviron settings to reproduce errors and warnings.

Note: If "R CMD check" recently failed on the Linux builder over a missing dependency, add the missing dependency to "Suggests" in your DESCRIPTION file. See the Renviron.bioc for details.

raw results

Package 1585/2229HostnameOS / ArchINSTALLBUILDCHECKBUILD BIN
PureCN 2.6.1  (landing page)
Markus Riester
Snapshot Date: 2023-06-02 14:00:14 -0400 (Fri, 02 Jun 2023)
git_url: https://git.bioconductor.org/packages/PureCN
git_branch: RELEASE_3_17
git_last_commit: 19e844c
git_last_commit_date: 2023-05-20 14:14:36 -0400 (Sat, 20 May 2023)
nebbiolo1Linux (Ubuntu 22.04.2 LTS) / x86_64  OK    OK    OK  UNNEEDED, same version is already published
palomino3Windows Server 2022 Datacenter / x64  OK    OK    OK    OK  UNNEEDED, same version is already published
merida1macOS 12.6.4 Monterey / x86_64  OK    OK    TIMEOUT    OK  

Summary

Package: PureCN
Version: 2.6.1
Command: chmod a+r PureCN -R && F:\biocbuild\bbs-3.17-bioc\R\bin\R.exe CMD build --keep-empty-dirs --no-resave-data PureCN
StartedAt: 2023-06-02 21:27:08 -0400 (Fri, 02 Jun 2023)
EndedAt: 2023-06-02 21:31:51 -0400 (Fri, 02 Jun 2023)
EllapsedTime: 283.3 seconds
RetCode: 0
Status:   OK  
PackageFile: PureCN_2.6.1.tar.gz
PackageFileSize: 5.715 MiB

Command output

##############################################################################
##############################################################################
###
### Running command:
###
###   chmod a+r PureCN -R && F:\biocbuild\bbs-3.17-bioc\R\bin\R.exe CMD build --keep-empty-dirs --no-resave-data PureCN
###
##############################################################################
##############################################################################


* checking for file 'PureCN/DESCRIPTION' ... OK
* preparing 'PureCN':
* checking DESCRIPTION meta-information ... OK
* installing the package to build vignettes
* creating vignettes ... OK
* checking for LF line-endings in source and make files and shell scripts
* checking for empty or unneeded directories
* looking to see if a 'data/datalist' file should be added
* building 'PureCN_2.6.1.tar.gz'