Back to Multiple platform build/check report for BioC 3.17: simplified long |
|
This page was generated on 2023-03-20 11:06:06 -0400 (Mon, 20 Mar 2023).
Hostname | OS | Arch (*) | R version | Installed pkgs |
---|---|---|---|---|
nebbiolo1 | Linux (Ubuntu 22.04.1 LTS) | x86_64 | R Under development (unstable) (2023-03-16 r83996) -- "Unsuffered Consequences" | 4297 |
palomino3 | Windows Server 2022 Datacenter | x64 | R Under development (unstable) (2023-03-15 r83984 ucrt) -- "Unsuffered Consequences" | 4286 |
merida1 | macOS 10.14.6 Mojave | x86_64 | R Under development (unstable) (2023-03-16 r83985) -- "Unsuffered Consequences" | 4150 |
Click on any hostname to see more info about the system (e.g. compilers) (*) as reported by 'uname -p', except on Windows and Mac OS X |
To the developers/maintainers of the RMassBank package: - Please allow up to 24 hours (and sometimes 48 hours) for your latest push to git@git.bioconductor.org:packages/RMassBank.git to reflect on this report. See How and When does the builder pull? When will my changes propagate? for more information. - Make sure to use the following settings in order to reproduce any error or warning you see on this page. |
Package 1704/2189 | Hostname | OS / Arch | INSTALL | BUILD | CHECK | BUILD BIN | ||||||||
RMassBank 3.9.0 (landing page) RMassBank at Eawag
| nebbiolo1 | Linux (Ubuntu 22.04.1 LTS) / x86_64 | OK | OK | WARNINGS | ![]() | ||||||||
palomino3 | Windows Server 2022 Datacenter / x64 | OK | OK | WARNINGS | OK | ![]() | ||||||||
merida1 | macOS 10.14.6 Mojave / x86_64 | ERROR | ERROR | skipped | skipped | |||||||||
Package: RMassBank |
Version: 3.9.0 |
Command: rm -rf RMassBank.buildbin-libdir && mkdir RMassBank.buildbin-libdir && F:\biocbuild\bbs-3.17-bioc\R\bin\R.exe CMD INSTALL --build --library=RMassBank.buildbin-libdir RMassBank_3.9.0.tar.gz |
StartedAt: 2023-03-20 09:04:55 -0400 (Mon, 20 Mar 2023) |
EndedAt: 2023-03-20 09:05:40 -0400 (Mon, 20 Mar 2023) |
EllapsedTime: 45.3 seconds |
RetCode: 0 |
Status: OK |
PackageFile: RMassBank_3.9.0.zip |
PackageFileSize: 2.208 MiB |
############################################################################## ############################################################################## ### ### Running command: ### ### rm -rf RMassBank.buildbin-libdir && mkdir RMassBank.buildbin-libdir && F:\biocbuild\bbs-3.17-bioc\R\bin\R.exe CMD INSTALL --build --library=RMassBank.buildbin-libdir RMassBank_3.9.0.tar.gz ### ############################################################################## ############################################################################## * installing *source* package 'RMassBank' ... ** using staged installation ** R ** inst ** byte-compile and prepare package for lazy loading Warning: replacing previous import 'MSnbase::header' by 'R.utils::header' when loading 'RMassBank' Warning: replacing previous import 'R.utils::reset' by 'RCurl::reset' when loading 'RMassBank' Warning: replacing previous import 'R.utils::header' by 'mzR::header' when loading 'RMassBank' ** help *** installing help indices ** building package indices ** installing vignettes ** testing if installed package can be loaded from temporary location Warning: replacing previous import 'MSnbase::header' by 'R.utils::header' when loading 'RMassBank' Warning: replacing previous import 'R.utils::reset' by 'RCurl::reset' when loading 'RMassBank' Warning: replacing previous import 'R.utils::header' by 'mzR::header' when loading 'RMassBank' ** testing if installed package can be loaded from final location Warning: replacing previous import 'MSnbase::header' by 'R.utils::header' when loading 'RMassBank' Warning: replacing previous import 'R.utils::reset' by 'RCurl::reset' when loading 'RMassBank' Warning: replacing previous import 'R.utils::header' by 'mzR::header' when loading 'RMassBank' ** testing if installed package keeps a record of temporary installation path * MD5 sums packaged installation of 'RMassBank' as RMassBank_3.9.0.zip * DONE (RMassBank)