Back to Multiple platform build/check report for BioC 3.17:   simplified   long
AB[C]DEFGHIJKLMNOPQRSTUVWXYZ

This page was generated on 2023-03-27 11:06:28 -0400 (Mon, 27 Mar 2023).

HostnameOSArch (*)R versionInstalled pkgs
nebbiolo1Linux (Ubuntu 22.04.1 LTS)x86_64R Under development (unstable) (2023-03-16 r83996) -- "Unsuffered Consequences" 4547
palomino3Windows Server 2022 Datacenterx64R Under development (unstable) (2023-03-15 r83984 ucrt) -- "Unsuffered Consequences" 4308
merida1macOS 10.14.6 Mojavex86_64R Under development (unstable) (2023-03-16 r83985) -- "Unsuffered Consequences" 4300
Click on any hostname to see more info about the system (e.g. compilers)      (*) as reported by 'uname -p', except on Windows and Mac OS X

INSTALL results for CNVRanger on merida1


To the developers/maintainers of the CNVRanger package:
- Please allow up to 24 hours (and sometimes 48 hours) for your latest push to git@git.bioconductor.org:packages/CNVRanger.git to
reflect on this report. See How and When does the builder pull? When will my changes propagate? for more information.
- Make sure to use the following settings in order to reproduce any error or warning you see on this page.

raw results

Package 384/2195HostnameOS / ArchINSTALLBUILDCHECKBUILD BIN
CNVRanger 1.15.1  (landing page)
Ludwig Geistlinger
Snapshot Date: 2023-03-26 14:00:09 -0400 (Sun, 26 Mar 2023)
git_url: https://git.bioconductor.org/packages/CNVRanger
git_branch: devel
git_last_commit: 0308892
git_last_commit_date: 2023-02-25 14:33:56 -0400 (Sat, 25 Feb 2023)
nebbiolo1Linux (Ubuntu 22.04.1 LTS) / x86_64  OK    OK    OK  UNNEEDED, same version is already published
palomino3Windows Server 2022 Datacenter / x64  OK    OK    OK    OK  UNNEEDED, same version is already published
merida1macOS 10.14.6 Mojave / x86_64  OK    OK    OK    OK  UNNEEDED, same version is already published

Summary

Package: CNVRanger
Version: 1.15.1
Command: /Library/Frameworks/R.framework/Resources/bin/R CMD INSTALL CNVRanger
StartedAt: 2023-03-26 15:24:25 -0400 (Sun, 26 Mar 2023)
EndedAt: 2023-03-26 15:25:27 -0400 (Sun, 26 Mar 2023)
EllapsedTime: 61.3 seconds
RetCode: 0
Status:   OK  

Command output

##############################################################################
##############################################################################
###
### Running command:
###
###   /Library/Frameworks/R.framework/Resources/bin/R CMD INSTALL CNVRanger
###
##############################################################################
##############################################################################


* installing to library ‘/Library/Frameworks/R.framework/Versions/4.3/Resources/library’
* installing *source* package ‘CNVRanger’ ...
** using staged installation
** R
** inst
** byte-compile and prepare package for lazy loading
** help
*** installing help indices
** building package indices
** installing vignettes
** testing if installed package can be loaded from temporary location
** testing if installed package can be loaded from final location
** testing if installed package keeps a record of temporary installation path
* DONE (CNVRanger)