Back to Multiple platform build/check report for BioC 3.17: simplified long |
|
This page was generated on 2023-03-20 11:05:50 -0400 (Mon, 20 Mar 2023).
Hostname | OS | Arch (*) | R version | Installed pkgs |
---|---|---|---|---|
nebbiolo1 | Linux (Ubuntu 22.04.1 LTS) | x86_64 | R Under development (unstable) (2023-03-16 r83996) -- "Unsuffered Consequences" | 4297 |
palomino3 | Windows Server 2022 Datacenter | x64 | R Under development (unstable) (2023-03-15 r83984 ucrt) -- "Unsuffered Consequences" | 4286 |
merida1 | macOS 10.14.6 Mojave | x86_64 | R Under development (unstable) (2023-03-16 r83985) -- "Unsuffered Consequences" | 4150 |
Click on any hostname to see more info about the system (e.g. compilers) (*) as reported by 'uname -p', except on Windows and Mac OS X |
To the developers/maintainers of the lisaClust package: - Please allow up to 24 hours (and sometimes 48 hours) for your latest push to git@git.bioconductor.org:packages/lisaClust.git to reflect on this report. See How and When does the builder pull? When will my changes propagate? for more information. - Make sure to use the following settings in order to reproduce any error or warning you see on this page. |
Package 1056/2189 | Hostname | OS / Arch | INSTALL | BUILD | CHECK | BUILD BIN | ||||||||
lisaClust 1.7.3 (landing page) Ellis Patrick
| nebbiolo1 | Linux (Ubuntu 22.04.1 LTS) / x86_64 | OK | OK | OK | ![]() | ||||||||
palomino3 | Windows Server 2022 Datacenter / x64 | OK | OK | OK | OK | ![]() | ||||||||
merida1 | macOS 10.14.6 Mojave / x86_64 | ERROR | ERROR | skipped | skipped | |||||||||
Package: lisaClust |
Version: 1.7.3 |
Command: rm -rf lisaClust.buildbin-libdir && mkdir lisaClust.buildbin-libdir && F:\biocbuild\bbs-3.17-bioc\R\bin\R.exe CMD INSTALL --build --library=lisaClust.buildbin-libdir lisaClust_1.7.3.tar.gz |
StartedAt: 2023-03-20 08:40:51 -0400 (Mon, 20 Mar 2023) |
EndedAt: 2023-03-20 08:41:35 -0400 (Mon, 20 Mar 2023) |
EllapsedTime: 43.2 seconds |
RetCode: 0 |
Status: OK |
PackageFile: lisaClust_1.7.3.zip |
PackageFileSize: 907.2 KiB |
############################################################################## ############################################################################## ### ### Running command: ### ### rm -rf lisaClust.buildbin-libdir && mkdir lisaClust.buildbin-libdir && F:\biocbuild\bbs-3.17-bioc\R\bin\R.exe CMD INSTALL --build --library=lisaClust.buildbin-libdir lisaClust_1.7.3.tar.gz ### ############################################################################## ############################################################################## * installing *source* package 'lisaClust' ... ** using staged installation ** R ** inst ** byte-compile and prepare package for lazy loading ** help *** installing help indices ** building package indices ** installing vignettes ** testing if installed package can be loaded from temporary location ** testing if installed package can be loaded from final location ** testing if installed package keeps a record of temporary installation path * MD5 sums packaged installation of 'lisaClust' as lisaClust_1.7.3.zip * DONE (lisaClust)