Back to Multiple platform build/check report for BioC 3.17: simplified long | |
This page was generated on 2023-03-31 11:02:38 -0400 (Fri, 31 Mar 2023).
Hostname | OS | Arch (*) | R version | Installed pkgs |
nebbiolo1 | Linux (Ubuntu 22.04.1 LTS) | x86_64 | R Under development (unstable) (2023-03-16 r83996) -- "Unsuffered Consequences"
| 4547 |
palomino3 | Windows Server 2022 Datacenter | x64 | R Under development (unstable) (2023-03-15 r83984 ucrt) -- "Unsuffered Consequences"
| 4308 |
Click on any hostname to see more info about the system (e.g. compilers) (*) as reported by 'uname -p', except on Windows and Mac OS X |
INSTALL results for compEpiTools on nebbiolo1
To the developers/maintainers of the compEpiTools package:
- Allow up to 24 hours (and sometimes 48 hours) for your latest push to git@git.bioconductor.org:packages/compEpiTools.git to reflect on this report. See Troubleshooting Build Report for more information.
- Use the following Renviron settings to reproduce errors and warnings.
Note: If "R CMD check" recently failed on the Linux builder over a missing dependency, add the missing dependency to "Suggests" in your DESCRIPTION file. See the Renviron.bioc for details.
|
raw results
| compEpiTools 1.33.0 (landing page) Kamal Kishore
Snapshot Date: 2023-03-30 14:00:16 -0400 (Thu, 30 Mar 2023) |
git_url: https://git.bioconductor.org/packages/compEpiTools |
git_branch: devel |
git_last_commit: 5de0197 |
git_last_commit_date: 2022-11-01 11:10:09 -0400 (Tue, 01 Nov 2022) |
| nebbiolo1 | Linux (Ubuntu 22.04.1 LTS) / x86_64 | OK | OK | WARNINGS | |  | |
| palomino3 | Windows Server 2022 Datacenter / x64 | OK | OK | WARNINGS | OK |  | |
Summary
Command output