Back to Multiple platform build/check report for BioC 3.17:   simplified   long
ABCDEFGHIJKLMNOPQR[S]TUVWXYZ

This page was generated on 2023-09-29 11:37:49 -0400 (Fri, 29 Sep 2023).

HostnameOSArch (*)R versionInstalled pkgs
nebbiolo1Linux (Ubuntu 22.04.2 LTS)x86_644.3.1 (2023-06-16) -- "Beagle Scouts" 4626
palomino3Windows Server 2022 Datacenterx644.3.1 (2023-06-16 ucrt) -- "Beagle Scouts" 4379
merida1macOS 12.6.4 Montereyx86_644.3.1 (2023-06-16) -- "Beagle Scouts" 4395
Click on any hostname to see more info about the system (e.g. compilers)      (*) as reported by 'uname -p', except on Windows and Mac OS X

Package 1964/2230HostnameOS / ArchINSTALLBUILDCHECKBUILD BIN
sparrow 1.6.0  (landing page)
Steve Lianoglou
Snapshot Date: 2023-09-28 14:00:15 -0400 (Thu, 28 Sep 2023)
git_url: https://git.bioconductor.org/packages/sparrow
git_branch: RELEASE_3_17
git_last_commit: 4d622bb
git_last_commit_date: 2023-04-25 11:33:15 -0400 (Tue, 25 Apr 2023)
nebbiolo1Linux (Ubuntu 22.04.2 LTS) / x86_64  OK    OK    OK  UNNEEDED, same version is already published
palomino3Windows Server 2022 Datacenter / x64  OK    OK    OK    OK  UNNEEDED, same version is already published
merida1macOS 12.6.4 Monterey / x86_64  OK    OK    OK    OK  UNNEEDED, same version is already published

CHECK results for sparrow on merida1


To the developers/maintainers of the sparrow package:
- Allow up to 24 hours (and sometimes 48 hours) for your latest push to git@git.bioconductor.org:packages/sparrow.git to reflect on this report. See Troubleshooting Build Report for more information.
- Use the following Renviron settings to reproduce errors and warnings.
- If 'R CMD check' started to fail recently on the Linux builder(s) over a missing dependency, add the missing dependency to 'Suggests:' in your DESCRIPTION file. See Renviron.bioc for more information.

raw results


Summary

Package: sparrow
Version: 1.6.0
Command: /Library/Frameworks/R.framework/Resources/bin/R CMD check --install=check:sparrow.install-out.txt --library=/Library/Frameworks/R.framework/Resources/library --no-vignettes --timings sparrow_1.6.0.tar.gz
StartedAt: 2023-09-29 07:31:16 -0400 (Fri, 29 Sep 2023)
EndedAt: 2023-09-29 07:55:41 -0400 (Fri, 29 Sep 2023)
EllapsedTime: 1465.0 seconds
RetCode: 0
Status:   OK  
CheckDir: sparrow.Rcheck
Warnings: 0

Command output

##############################################################################
##############################################################################
###
### Running command:
###
###   /Library/Frameworks/R.framework/Resources/bin/R CMD check --install=check:sparrow.install-out.txt --library=/Library/Frameworks/R.framework/Resources/library --no-vignettes --timings sparrow_1.6.0.tar.gz
###
##############################################################################
##############################################################################


* using log directory ‘/Users/biocbuild/bbs-3.17-bioc/meat/sparrow.Rcheck’
* using R version 4.3.1 (2023-06-16)
* using platform: x86_64-apple-darwin20 (64-bit)
* R was compiled by
    Apple clang version 14.0.3 (clang-1403.0.22.14.1)
    GNU Fortran (GCC) 12.2.0
* running under: macOS Monterey 12.6.4
* using session charset: UTF-8
* using option ‘--no-vignettes’
* checking for file ‘sparrow/DESCRIPTION’ ... OK
* checking extension type ... Package
* this is package ‘sparrow’ version ‘1.6.0’
* package encoding: UTF-8
* checking package namespace information ... OK
* checking package dependencies ... OK
* checking if this is a source package ... OK
* checking if there is a namespace ... OK
* checking for hidden files and directories ... OK
* checking for portable file names ... OK
* checking for sufficient/correct file permissions ... OK
* checking whether package ‘sparrow’ can be installed ... OK
* checking installed package size ... OK
* checking package directory ... OK
* checking ‘build’ directory ... OK
* checking DESCRIPTION meta-information ... OK
* checking top-level files ... OK
* checking for left-over files ... OK
* checking index information ... OK
* checking package subdirectories ... OK
* checking R files for non-ASCII characters ... OK
* checking R files for syntax errors ... OK
* checking whether the package can be loaded ... OK
* checking whether the package can be loaded with stated dependencies ... OK
* checking whether the package can be unloaded cleanly ... OK
* checking whether the namespace can be loaded with stated dependencies ... OK
* checking whether the namespace can be unloaded cleanly ... OK
* checking startup messages can be suppressed ... OK
* checking dependencies in R code ... OK
* checking S3 generic/method consistency ... OK
* checking replacement functions ... OK
* checking foreign function calls ... OK
* checking R code for possible problems ... NOTE
geneSetsStats: no visible binding for global variable ‘direction’
Undefined global functions or variables:
  direction
* checking Rd files ... OK
* checking Rd metadata ... OK
* checking Rd cross-references ... OK
* checking for missing documentation entries ... OK
* checking for code/documentation mismatches ... OK
* checking Rd \usage sections ... OK
* checking Rd contents ... OK
* checking for unstated dependencies in examples ... OK
* checking line endings in Makefiles ... OK
* checking for GNU extensions in Makefiles ... OK
* checking include directives in Makefiles ... OK
* checking files in ‘vignettes’ ... OK
* checking examples ... OK
Examples with CPU (user + system) or elapsed time > 5s
                            user system elapsed
goseq                     15.132  0.473  20.802
seas                      12.711  0.473  16.697
geneSetsStats              9.318  0.094  12.205
scoreSingleSamples         8.587  0.348  11.562
annotateGeneSetMembership  8.729  0.162  11.660
SparrowResult-utilities    8.586  0.189  11.473
geneSetSummaryByGenes      7.398  0.099   9.645
logFC                      7.133  0.145   9.504
calculateIndividualLogFC   5.713  0.213   7.929
eigenWeightedMean          4.122  0.091   5.502
volcanoPlot                3.947  0.185   5.296
* checking for unstated dependencies in ‘tests’ ... OK
* checking tests ...
  Running ‘testthat.R’
 OK
* checking for unstated dependencies in vignettes ... OK
* checking package vignettes in ‘inst/doc’ ... OK
* checking running R code from vignettes ... SKIPPED
* checking re-building of vignette outputs ... SKIPPED
* checking PDF version of manual ... OK
* DONE

Status: 1 NOTE
See
  ‘/Users/biocbuild/bbs-3.17-bioc/meat/sparrow.Rcheck/00check.log’
for details.



Installation output

sparrow.Rcheck/00install.out

##############################################################################
##############################################################################
###
### Running command:
###
###   /Library/Frameworks/R.framework/Resources/bin/R CMD INSTALL sparrow
###
##############################################################################
##############################################################################


* installing to library ‘/Library/Frameworks/R.framework/Versions/4.3-x86_64/Resources/library’
* installing *source* package ‘sparrow’ ...
** using staged installation
** R
** inst
** byte-compile and prepare package for lazy loading
** help
*** installing help indices
*** copying figures
** building package indices
** installing vignettes
** testing if installed package can be loaded from temporary location
** testing if installed package can be loaded from final location
** testing if installed package keeps a record of temporary installation path
* DONE (sparrow)

Tests output

sparrow.Rcheck/tests/testthat.Rout


R version 4.3.1 (2023-06-16) -- "Beagle Scouts"
Copyright (C) 2023 The R Foundation for Statistical Computing
Platform: x86_64-apple-darwin20 (64-bit)

R is free software and comes with ABSOLUTELY NO WARRANTY.
You are welcome to redistribute it under certain conditions.
Type 'license()' or 'licence()' for distribution details.

R is a collaborative project with many contributors.
Type 'contributors()' for more information and
'citation()' on how to cite R or R packages in publications.

Type 'demo()' for some demos, 'help()' for on-line help, or
'help.start()' for an HTML browser interface to help.
Type 'q()' to quit R.

> library("sparrow")
> library("testthat")
> library("data.table")
> library("dplyr")

Attaching package: 'dplyr'

The following objects are masked from 'package:data.table':

    between, first, last

The following object is masked from 'package:testthat':

    matches

The following object is masked from 'package:sparrow':

    combine

The following objects are masked from 'package:stats':

    filter, lag

The following objects are masked from 'package:base':

    intersect, setdiff, setequal, union

> 
> test_check("sparrow")

Attaching package: 'magrittr'

The following objects are masked from 'package:testthat':

    equals, is_less_than, not

[1] "Calculating ranks..."
[1] "Calculating absolute values from ranks..."
[1] "Normalizing..."
[1] "Calculating ranks..."
[1] "Calculating absolute values from ranks..."
[1] "Normalizing..."
[1] "Calculating ranks..."
[1] "Calculating absolute values from ranks..."
[1] "Normalizing..."
[1] "Calculating ranks..."
[1] "Calculating absolute values from ranks..."
[1] "Normalizing..."
[1] "Calculating ranks..."
[1] "Calculating absolute values from ranks..."
[1] "Normalizing..."
[1] "Calculating ranks..."
[1] "Calculating absolute values from ranks..."
[1] "Normalizing..."
[1] "Calculating ranks..."
[1] "Calculating absolute values from ranks..."
[1] "Normalizing..."
[ FAIL 0 | WARN 0 | SKIP 1 | PASS 1479 ]

══ Skipped tests (1) ═══════════════════════════════════════════════════════════
• empty test (1): 'test-MultiGSEAResult.R:3:1'

[ FAIL 0 | WARN 0 | SKIP 1 | PASS 1479 ]
> 
> ## Remove temporary files that were generated
> test.dir <- system.file('tests', package = "sparrow")
> pdfs <- dir(test.dir, "\\.pdf$", full.names=TRUE)
> if (length(pdfs)) {
+   unlink(pdfs)
+ }
> 
> 
> proc.time()
   user  system elapsed 
658.528  29.494 835.615 

Example timings

sparrow.Rcheck/sparrow-Ex.timings

nameusersystemelapsed
GeneSetDb-class0.1420.0080.187
SparrowResult-utilities 8.586 0.18911.473
addGeneSetMetadata0.1150.0050.159
annotateGeneSetMembership 8.729 0.16211.660
calculateIndividualLogFC5.7130.2137.929
collectionMetadata0.1350.0090.195
combine-GeneSetDb-GeneSetDb-method0.1520.0060.207
combine-SparrowResult-SparrowResult-method0.2250.0080.307
conform0.8430.0291.163
conversion1.1330.0391.543
convertIdentifiers0.3190.0100.434
corplot0.1590.0080.215
eigenWeightedMean4.1220.0915.502
examples0.6180.1911.054
failWith0.0000.0010.001
featureIdMap0.8130.0201.072
featureIds0.8690.0241.169
geneSet0.1610.0050.214
geneSetCollectionURLfunction0.1070.0030.145
geneSetSummaryByGenes7.3980.0999.645
geneSets0.1040.0020.137
geneSetsStats 9.318 0.09412.205
getKeggCollection0.0000.0010.001
getMSigCollection0.0000.0010.000
getPantherCollection0.0000.0000.001
getReactomeCollection0.0010.0010.001
goseq15.132 0.47320.802
gsdScore1.8140.0272.406
gskey0.0050.0020.007
hasGeneSet0.1400.0170.218
hasGeneSetCollection0.1020.0010.130
incidenceMatrix2.1800.0452.891
iplot2.3430.2243.335
is.active0.6610.0870.975
logFC7.1330.1459.504
mgheatmap0.0000.0000.001
mgheatmap20.0000.0000.001
msg0.0010.0010.003
ora0.5230.0280.691
p.matrix0.1630.0030.211
randomGeneSetDb0.1500.0120.210
renameCollections0.1390.0030.182
renameRows0.7130.0120.926
results0.2070.0100.269
scale_rows0.0070.0010.010
scoreSingleSamples 8.587 0.34811.562
seas12.711 0.47316.697
sparrow_methods0.0060.0020.013
species_info0.0110.0050.019
subset.GeneSetDb0.1170.0030.150
subsetByFeatures0.1380.0050.198
validateInputs0.2340.0150.324
volcanoPlot3.9470.1855.296
volcanoStatsTable0.1210.0030.156
zScore1.7000.0452.236