Back to Multiple platform build/check report for BioC 3.17:   simplified   long
[A]BCDEFGHIJKLMNOPQRSTUVWXYZ

This page was generated on 2023-03-27 11:06:22 -0400 (Mon, 27 Mar 2023).

HostnameOSArch (*)R versionInstalled pkgs
nebbiolo1Linux (Ubuntu 22.04.1 LTS)x86_64R Under development (unstable) (2023-03-16 r83996) -- "Unsuffered Consequences" 4547
palomino3Windows Server 2022 Datacenterx64R Under development (unstable) (2023-03-15 r83984 ucrt) -- "Unsuffered Consequences" 4308
merida1macOS 10.14.6 Mojavex86_64R Under development (unstable) (2023-03-16 r83985) -- "Unsuffered Consequences" 4300
Click on any hostname to see more info about the system (e.g. compilers)      (*) as reported by 'uname -p', except on Windows and Mac OS X

BUILD results for AneuFinder on merida1


To the developers/maintainers of the AneuFinder package:
- Please allow up to 24 hours (and sometimes 48 hours) for your latest push to git@git.bioconductor.org:packages/AneuFinder.git to
reflect on this report. See How and When does the builder pull? When will my changes propagate? for more information.
- Make sure to use the following settings in order to reproduce any error or warning you see on this page.

raw results

Package 61/2195HostnameOS / ArchINSTALLBUILDCHECKBUILD BIN
AneuFinder 1.27.1  (landing page)
Aaron Taudt
Snapshot Date: 2023-03-26 14:00:09 -0400 (Sun, 26 Mar 2023)
git_url: https://git.bioconductor.org/packages/AneuFinder
git_branch: devel
git_last_commit: 02f3522
git_last_commit_date: 2023-03-26 08:18:29 -0400 (Sun, 26 Mar 2023)
nebbiolo1Linux (Ubuntu 22.04.1 LTS) / x86_64  OK    OK    WARNINGS  YES
palomino3Windows Server 2022 Datacenter / x64  OK    OK    WARNINGS    OK  YES
merida1macOS 10.14.6 Mojave / x86_64  OK    OK    WARNINGS    OK  YES

Summary

Package: AneuFinder
Version: 1.27.1
Command: /Library/Frameworks/R.framework/Resources/bin/R CMD build --keep-empty-dirs --no-resave-data AneuFinder
StartedAt: 2023-03-26 16:37:56 -0400 (Sun, 26 Mar 2023)
EndedAt: 2023-03-26 16:45:11 -0400 (Sun, 26 Mar 2023)
EllapsedTime: 435.2 seconds
RetCode: 0
Status:   OK  
PackageFile: AneuFinder_1.27.1.tar.gz
PackageFileSize: 2.009 MiB

Command output

##############################################################################
##############################################################################
###
### Running command:
###
###   /Library/Frameworks/R.framework/Resources/bin/R CMD build --keep-empty-dirs --no-resave-data AneuFinder
###
##############################################################################
##############################################################################


* checking for file ‘AneuFinder/DESCRIPTION’ ... OK
* preparing ‘AneuFinder’:
* checking DESCRIPTION meta-information ... OK
* cleaning src
* installing the package to build vignettes
* creating vignettes ... OK
* cleaning src
* checking for LF line-endings in source and make files and shell scripts
* checking for empty or unneeded directories
* building ‘AneuFinder_1.27.1.tar.gz’