Back to Multiple platform build/check report for BioC 3.17:   simplified   long
ABCDEF[G]HIJKLMNOPQRSTUVWXYZ

This page was generated on 2023-10-04 11:37:23 -0400 (Wed, 04 Oct 2023).

HostnameOSArch (*)R versionInstalled pkgs
nebbiolo1Linux (Ubuntu 22.04.2 LTS)x86_644.3.1 (2023-06-16) -- "Beagle Scouts" 4626
palomino3Windows Server 2022 Datacenterx644.3.1 (2023-06-16 ucrt) -- "Beagle Scouts" 4379
merida1macOS 12.6.4 Montereyx86_644.3.1 (2023-06-16) -- "Beagle Scouts" 4395
Click on any hostname to see more info about the system (e.g. compilers)      (*) as reported by 'uname -p', except on Windows and Mac OS X

Package 838/2230HostnameOS / ArchINSTALLBUILDCHECKBUILD BIN
ggtree 3.8.2  (landing page)
Guangchuang Yu
Snapshot Date: 2023-10-03 14:00:15 -0400 (Tue, 03 Oct 2023)
git_url: https://git.bioconductor.org/packages/ggtree
git_branch: RELEASE_3_17
git_last_commit: 36ae5e5
git_last_commit_date: 2023-07-24 00:00:37 -0400 (Mon, 24 Jul 2023)
nebbiolo1Linux (Ubuntu 22.04.2 LTS) / x86_64  OK    OK    OK  UNNEEDED, same version is already published
palomino3Windows Server 2022 Datacenter / x64  OK    OK    OK    OK  UNNEEDED, same version is already published
merida1macOS 12.6.4 Monterey / x86_64  OK    OK    OK    OK  UNNEEDED, same version is already published

BUILD BIN results for ggtree on merida1


To the developers/maintainers of the ggtree package:
- Allow up to 24 hours (and sometimes 48 hours) for your latest push to git@git.bioconductor.org:packages/ggtree.git to reflect on this report. See Troubleshooting Build Report for more information.
- Use the following Renviron settings to reproduce errors and warnings.
- If 'R CMD check' started to fail recently on the Linux builder(s) over a missing dependency, add the missing dependency to 'Suggests:' in your DESCRIPTION file. See Renviron.bioc for more information.

raw results


Summary

Package: ggtree
Version: 3.8.2
Command: rm -rf ggtree.buildbin-libdir && mkdir ggtree.buildbin-libdir && /Users/biocbuild/BBS/utils/build-universal.sh ggtree_3.8.2.tar.gz /Library/Frameworks/R.framework/Resources/bin/R ggtree.buildbin-libdir
StartedAt: 2023-10-04 09:28:56 -0400 (Wed, 04 Oct 2023)
EndedAt: 2023-10-04 09:29:38 -0400 (Wed, 04 Oct 2023)
EllapsedTime: 41.7 seconds
RetCode: 0
Status:   OK  
PackageFile: ggtree_3.8.2.tgz
PackageFileSize: 898.4 KiB

Command output

##############################################################################
##############################################################################
###
### Running command:
###
###   rm -rf ggtree.buildbin-libdir && mkdir ggtree.buildbin-libdir && /Users/biocbuild/BBS/utils/build-universal.sh ggtree_3.8.2.tar.gz /Library/Frameworks/R.framework/Resources/bin/R ggtree.buildbin-libdir
###
##############################################################################
##############################################################################


>>>>>>> 
>>>>>>> INSTALLATION WITH 'R CMD INSTALL --preclean --no-multiarch --library=ggtree.buildbin-libdir ggtree_3.8.2.tar.gz'
>>>>>>> 

* installing *source* package ‘ggtree’ ...
** using staged installation
** R
** inst
** byte-compile and prepare package for lazy loading
** help
*** installing help indices
** building package indices
** installing vignettes
** testing if installed package can be loaded from temporary location
** testing if installed package can be loaded from final location
** testing if installed package keeps a record of temporary installation path
* DONE (ggtree)