Back to Multiple platform build/check report for BioC 3.17:   simplified   long
ABCDEFGHIJKLMNOPQR[S]TUVWXYZ

This page was generated on 2023-03-23 11:06:23 -0400 (Thu, 23 Mar 2023).

HostnameOSArch (*)R versionInstalled pkgs
nebbiolo1Linux (Ubuntu 22.04.1 LTS)x86_64R Under development (unstable) (2023-03-16 r83996) -- "Unsuffered Consequences" 4536
palomino3Windows Server 2022 Datacenterx64R Under development (unstable) (2023-03-15 r83984 ucrt) -- "Unsuffered Consequences" 4298
merida1macOS 10.14.6 Mojavex86_64R Under development (unstable) (2023-03-16 r83985) -- "Unsuffered Consequences" 4290
Click on any hostname to see more info about the system (e.g. compilers)      (*) as reported by 'uname -p', except on Windows and Mac OS X

CHECK results for SparseSignatures on palomino3


To the developers/maintainers of the SparseSignatures package:
- Please allow up to 24 hours (and sometimes 48 hours) for your latest push to git@git.bioconductor.org:packages/SparseSignatures.git to
reflect on this report. See How and When does the builder pull? When will my changes propagate? for more information.
- Make sure to use the following settings in order to reproduce any error or warning you see on this page.

raw results

Package 1933/2189HostnameOS / ArchINSTALLBUILDCHECKBUILD BIN
SparseSignatures 2.9.0  (landing page)
Luca De Sano
Snapshot Date: 2023-03-22 14:00:17 -0400 (Wed, 22 Mar 2023)
git_url: https://git.bioconductor.org/packages/SparseSignatures
git_branch: devel
git_last_commit: 85afd62
git_last_commit_date: 2022-11-01 11:17:34 -0400 (Tue, 01 Nov 2022)
nebbiolo1Linux (Ubuntu 22.04.1 LTS) / x86_64  OK    OK    OK  UNNEEDED, same version is already published
palomino3Windows Server 2022 Datacenter / x64  OK    OK    OK    OK  UNNEEDED, same version is already published
merida1macOS 10.14.6 Mojave / x86_64  OK    OK    OK    OK  UNNEEDED, same version is already published

Summary

Package: SparseSignatures
Version: 2.9.0
Command: F:\biocbuild\bbs-3.17-bioc\R\bin\R.exe CMD check --no-multiarch --install=check:SparseSignatures.install-out.txt --library=F:\biocbuild\bbs-3.17-bioc\R\library --no-vignettes --timings SparseSignatures_2.9.0.tar.gz
StartedAt: 2023-03-23 08:06:39 -0400 (Thu, 23 Mar 2023)
EndedAt: 2023-03-23 08:14:06 -0400 (Thu, 23 Mar 2023)
EllapsedTime: 446.7 seconds
RetCode: 0
Status:   OK  
CheckDir: SparseSignatures.Rcheck
Warnings: 0

Command output

##############################################################################
##############################################################################
###
### Running command:
###
###   F:\biocbuild\bbs-3.17-bioc\R\bin\R.exe CMD check --no-multiarch --install=check:SparseSignatures.install-out.txt --library=F:\biocbuild\bbs-3.17-bioc\R\library --no-vignettes --timings SparseSignatures_2.9.0.tar.gz
###
##############################################################################
##############################################################################


* using log directory 'F:/biocbuild/bbs-3.17-bioc/meat/SparseSignatures.Rcheck'
* using R Under development (unstable) (2023-03-15 r83984 ucrt)
* using platform: x86_64-w64-mingw32 (64-bit)
* R was compiled by
    gcc.exe (GCC) 12.2.0
    GNU Fortran (GCC) 12.2.0
* running under: Windows Server 2022 x64 (build 20348)
* using session charset: UTF-8
* using option '--no-vignettes'
* checking for file 'SparseSignatures/DESCRIPTION' ... OK
* this is package 'SparseSignatures' version '2.9.0'
* package encoding: UTF-8
* checking package namespace information ... OK
* checking package dependencies ... OK
* checking if this is a source package ... OK
* checking if there is a namespace ... OK
* checking for hidden files and directories ... OK
* checking for portable file names ... OK
* checking whether package 'SparseSignatures' can be installed ... OK
* checking installed package size ... OK
* checking package directory ... OK
* checking 'build' directory ... OK
* checking DESCRIPTION meta-information ... OK
* checking top-level files ... OK
* checking for left-over files ... OK
* checking index information ... OK
* checking package subdirectories ... OK
* checking R files for non-ASCII characters ... OK
* checking R files for syntax errors ... OK
* checking whether the package can be loaded ... OK
* checking whether the package can be loaded with stated dependencies ... OK
* checking whether the package can be unloaded cleanly ... OK
* checking whether the namespace can be loaded with stated dependencies ... OK
* checking whether the namespace can be unloaded cleanly ... OK
* checking dependencies in R code ... OK
* checking S3 generic/method consistency ... OK
* checking replacement functions ... OK
* checking foreign function calls ... OK
* checking R code for possible problems ... NOTE
import.trinucleotides.counts: no visible global function definition for
  '.'
patients.plot: no visible binding for global variable 'Context'
patients.plot: no visible binding for global variable 'alt'
patients.plot: no visible binding for global variable 'patient'
patients.plot: no visible binding for global variable 'value'
signatures.plot: no visible binding for global variable 'Context'
signatures.plot: no visible binding for global variable 'alt'
signatures.plot: no visible binding for global variable 'value'
Undefined global functions or variables:
  . Context alt patient value
* checking Rd files ... OK
* checking Rd metadata ... OK
* checking Rd cross-references ... OK
* checking for missing documentation entries ... OK
* checking for code/documentation mismatches ... OK
* checking Rd \usage sections ... OK
* checking Rd contents ... OK
* checking for unstated dependencies in examples ... OK
* checking contents of 'data' directory ... OK
* checking data for non-ASCII characters ... OK
* checking data for ASCII and uncompressed saves ... OK
* checking sizes of PDF files under 'inst/doc' ... OK
* checking files in 'vignettes' ... OK
* checking examples ... OK
Examples with CPU (user + system) or elapsed time > 5s
                            user system elapsed
lambdaRangeBetaEvaluation  77.03   0.12   77.16
lambdaRangeAlphaEvaluation 71.60   0.19   71.79
nmfLassoBootstrap          12.04   0.59   12.64
nmfLassoCV                 10.63   0.03   10.65
* checking for unstated dependencies in 'tests' ... OK
* checking tests ...
  Running 'testthat.R'
 OK
* checking for unstated dependencies in vignettes ... OK
* checking package vignettes in 'inst/doc' ... OK
* checking running R code from vignettes ... SKIPPED
* checking re-building of vignette outputs ... SKIPPED
* checking PDF version of manual ... OK
* DONE

Status: 1 NOTE
See
  'F:/biocbuild/bbs-3.17-bioc/meat/SparseSignatures.Rcheck/00check.log'
for details.



Installation output

SparseSignatures.Rcheck/00install.out

##############################################################################
##############################################################################
###
### Running command:
###
###   F:\biocbuild\bbs-3.17-bioc\R\bin\R.exe CMD INSTALL SparseSignatures
###
##############################################################################
##############################################################################


* installing to library 'F:/biocbuild/bbs-3.17-bioc/R/library'
* installing *source* package 'SparseSignatures' ...
** using staged installation
** R
** data
** inst
** byte-compile and prepare package for lazy loading
** help
*** installing help indices
** building package indices
** installing vignettes
** testing if installed package can be loaded from temporary location
** testing if installed package can be loaded from final location
** testing if installed package keeps a record of temporary installation path
* DONE (SparseSignatures)

Tests output

SparseSignatures.Rcheck/tests/testthat.Rout


R Under development (unstable) (2023-03-15 r83984 ucrt) -- "Unsuffered Consequences"
Copyright (C) 2023 The R Foundation for Statistical Computing
Platform: x86_64-w64-mingw32/x64 (64-bit)

R is free software and comes with ABSOLUTELY NO WARRANTY.
You are welcome to redistribute it under certain conditions.
Type 'license()' or 'licence()' for distribution details.

R is a collaborative project with many contributors.
Type 'contributors()' for more information and
'citation()' on how to cite R or R packages in publications.

Type 'demo()' for some demos, 'help()' for on-line help, or
'help.start()' for an HTML browser interface to help.
Type 'q()' to quit R.

> Sys.setenv("R_TESTS" = "")
> 
> library("testthat")
> library("SparseSignatures")
Loading required package: NMF
Loading required package: registry
Loading required package: rngtools
Loading required package: cluster
NMF - BioConductor layer [OK] | Shared memory capabilities [NO: windows] | Cores 2/2

Attaching package: 'NMF'

The following object is masked from 'package:testthat':

    compare

> 
> test_check("SparseSignatures")
[ FAIL 0 | WARN 0 | SKIP 0 | PASS 1 ]
> 
> proc.time()
   user  system elapsed 
  10.98    0.85   12.01 

Example timings

SparseSignatures.Rcheck/SparseSignatures-Ex.timings

nameusersystemelapsed
import.trinucleotides.counts2.250.442.74
lambdaRangeAlphaEvaluation71.60 0.1971.79
lambdaRangeBetaEvaluation77.03 0.1277.16
nmfLasso4.750.054.80
nmfLassoBootstrap12.04 0.5912.64
nmfLassoCV10.63 0.0310.65
patients.plot1.060.021.08
sigAssignmentCV0.060.010.08
sigAssignmentEvaluation1.600.051.64
sigAssignmentLasso0.470.020.48
signatures.plot2.070.032.11
startingBetaEstimation3.720.013.74