Back to Multiple platform build/check report for BioC 3.17: simplified long |
|
This page was generated on 2023-06-05 11:04:43 -0400 (Mon, 05 Jun 2023).
Hostname | OS | Arch (*) | R version | Installed pkgs |
---|---|---|---|---|
nebbiolo1 | Linux (Ubuntu 22.04.2 LTS) | x86_64 | 4.3.0 RC (2023-04-13 r84269) -- "Already Tomorrow" | 4623 |
palomino3 | Windows Server 2022 Datacenter | x64 | 4.3.0 RC (2023-04-13 r84269 ucrt) -- "Already Tomorrow" | 4374 |
merida1 | macOS 12.6.4 Monterey | x86_64 | 4.3.0 RC (2023-04-13 r84257) -- "Already Tomorrow" | 4332 |
Click on any hostname to see more info about the system (e.g. compilers) (*) as reported by 'uname -p', except on Windows and Mac OS X |
To the developers/maintainers of the groHMM package: - Allow up to 24 hours (and sometimes 48 hours) for your latest push to git@git.bioconductor.org:packages/groHMM.git to reflect on this report. See Troubleshooting Build Report for more information. - Use the following Renviron settings to reproduce errors and warnings. Note: If "R CMD check" recently failed on the Linux builder over a missing dependency, add the missing dependency to "Suggests" in your DESCRIPTION file. See the Renviron.bioc for details. |
Package 883/2229 | Hostname | OS / Arch | INSTALL | BUILD | CHECK | BUILD BIN | ||||||||
groHMM 1.34.0 (landing page) Tulip Nandu
| nebbiolo1 | Linux (Ubuntu 22.04.2 LTS) / x86_64 | OK | OK | OK | ![]() | ||||||||
palomino3 | Windows Server 2022 Datacenter / x64 | OK | OK | OK | OK | ![]() | ||||||||
merida1 | macOS 12.6.4 Monterey / x86_64 | OK | OK | OK | NA | |||||||||
Package: groHMM |
Version: 1.34.0 |
Command: rm -rf groHMM.buildbin-libdir && mkdir groHMM.buildbin-libdir && F:\biocbuild\bbs-3.17-bioc\R\bin\R.exe CMD INSTALL --build --library=groHMM.buildbin-libdir groHMM_1.34.0.tar.gz |
StartedAt: 2023-06-05 08:59:43 -0400 (Mon, 05 Jun 2023) |
EndedAt: 2023-06-05 09:00:32 -0400 (Mon, 05 Jun 2023) |
EllapsedTime: 49.6 seconds |
RetCode: 0 |
Status: OK |
PackageFile: groHMM_1.34.0.zip |
PackageFileSize: 4.257 MiB |
############################################################################## ############################################################################## ### ### Running command: ### ### rm -rf groHMM.buildbin-libdir && mkdir groHMM.buildbin-libdir && F:\biocbuild\bbs-3.17-bioc\R\bin\R.exe CMD INSTALL --build --library=groHMM.buildbin-libdir groHMM_1.34.0.tar.gz ### ############################################################################## ############################################################################## * installing *source* package 'groHMM' ... ** using staged installation ** libs using C compiler: 'gcc.exe (GCC) 12.2.0' gcc -I"F:/biocbuild/bbs-3.17-bioc/R/include" -DNDEBUG -I"C:/rtools43/x86_64-w64-mingw32.static.posix/include" -O2 -Wall -mfpmath=sse -msse2 -mstackrealign -c AnnotateProbes.c -o AnnotateProbes.o gcc -I"F:/biocbuild/bbs-3.17-bioc/R/include" -DNDEBUG -I"C:/rtools43/x86_64-w64-mingw32.static.posix/include" -O2 -Wall -mfpmath=sse -msse2 -mstackrealign -c DecayAlgorithm.c -o DecayAlgorithm.o gcc -I"F:/biocbuild/bbs-3.17-bioc/R/include" -DNDEBUG -I"C:/rtools43/x86_64-w64-mingw32.static.posix/include" -O2 -Wall -mfpmath=sse -msse2 -mstackrealign -c MLEfit.c -o MLEfit.o In file included from MLEfit.c:43: hmmHeader.h:301:16: warning: 'expSum' defined but not used [-Wunused-function] 301 | static double expSum(double *logValues, int length) { | ^~~~~~ hmmHeader.h:281:16: warning: 'MargainalizeSumLogProbOver' defined but not used [-Wunused-function] 281 | static double MargainalizeSumLogProbOver(int state, int position, | ^~~~~~~~~~~~~~~~~~~~~~~~~~ gcc -I"F:/biocbuild/bbs-3.17-bioc/R/include" -DNDEBUG -I"C:/rtools43/x86_64-w64-mingw32.static.posix/include" -O2 -Wall -mfpmath=sse -msse2 -mstackrealign -c RegisterRRoutines.c -o RegisterRRoutines.o gcc -I"F:/biocbuild/bbs-3.17-bioc/R/include" -DNDEBUG -I"C:/rtools43/x86_64-w64-mingw32.static.posix/include" -O2 -Wall -mfpmath=sse -msse2 -mstackrealign -c Windowing.c -o Windowing.o Windowing.c: In function 'WindowAnalysis': Windowing.c:146:13: warning: unused variable 'II' [-Wunused-variable] 146 | int II = 0; | ^~ gcc -I"F:/biocbuild/bbs-3.17-bioc/R/include" -DNDEBUG -I"C:/rtools43/x86_64-w64-mingw32.static.posix/include" -O2 -Wall -mfpmath=sse -msse2 -mstackrealign -c hmmEM.c -o hmmEM.o In file included from hmmEM.c:50: hmmHeader.h:301:16: warning: 'expSum' defined but not used [-Wunused-function] 301 | static double expSum(double *logValues, int length) { | ^~~~~~ hmmHeader.h:281:16: warning: 'MargainalizeSumLogProbOver' defined but not used [-Wunused-function] 281 | static double MargainalizeSumLogProbOver(int state, int position, | ^~~~~~~~~~~~~~~~~~~~~~~~~~ In file included from hmmHeader.h:36: UsefulValues.h:39:15: warning: 'VERY_LARGE_DOUBLE_VALUE' defined but not used [-Wunused-variable] 39 | static double VERY_LARGE_DOUBLE_VALUE = 1e20; | ^~~~~~~~~~~~~~~~~~~~~~~ gcc -I"F:/biocbuild/bbs-3.17-bioc/R/include" -DNDEBUG -I"C:/rtools43/x86_64-w64-mingw32.static.posix/include" -O2 -Wall -mfpmath=sse -msse2 -mstackrealign -c hmmFwBw.c -o hmmFwBw.o hmmFwBw.c: In function 'forward': hmmFwBw.c:142:7: warning: this 'for' clause does not guard... [-Wmisleading-indentation] 142 | for(k=1; k<n; k++) | ^~~ hmmFwBw.c:145:9: note: ...this statement, but the latter is misleadingly indented as if it were guarded by the 'for' 145 | for (k = 0; k<n; k++) { | ^~~ In file included from hmmFwBw.c:45: hmmHeader.h: At top level: hmmHeader.h:301:16: warning: 'expSum' defined but not used [-Wunused-function] 301 | static double expSum(double *logValues, int length) { | ^~~~~~ hmmHeader.h:281:16: warning: 'MargainalizeSumLogProbOver' defined but not used [-Wunused-function] 281 | static double MargainalizeSumLogProbOver(int state, int position, | ^~~~~~~~~~~~~~~~~~~~~~~~~~ In file included from hmmHeader.h:36: UsefulValues.h:39:15: warning: 'VERY_LARGE_DOUBLE_VALUE' defined but not used [-Wunused-variable] 39 | static double VERY_LARGE_DOUBLE_VALUE = 1e20; | ^~~~~~~~~~~~~~~~~~~~~~~ gcc -I"F:/biocbuild/bbs-3.17-bioc/R/include" -DNDEBUG -I"C:/rtools43/x86_64-w64-mingw32.static.posix/include" -O2 -Wall -mfpmath=sse -msse2 -mstackrealign -c hmmMiscFunctions.c -o hmmMiscFunctions.o hmmMiscFunctions.c: In function 'SStatsNormExp': hmmMiscFunctions.c:384:10: warning: unused variable 'wi' [-Wunused-variable] 384 | double wi, *newEx; | ^~ hmmMiscFunctions.c: In function 'UpdateNormExp': hmmMiscFunctions.c:417:10: warning: unused variable 'epsilon' [-Wunused-variable] 417 | double epsilon=0.00001; | ^~~~~~~ In file included from hmmHeader.h:36, from hmmMiscFunctions.c:43: UsefulValues.h: At top level: UsefulValues.h:39:15: warning: 'VERY_LARGE_DOUBLE_VALUE' defined but not used [-Wunused-variable] 39 | static double VERY_LARGE_DOUBLE_VALUE = 1e20; | ^~~~~~~~~~~~~~~~~~~~~~~ gcc -I"F:/biocbuild/bbs-3.17-bioc/R/include" -DNDEBUG -I"C:/rtools43/x86_64-w64-mingw32.static.posix/include" -O2 -Wall -mfpmath=sse -msse2 -mstackrealign -c hmmViterbi.c -o hmmViterbi.o In file included from hmmViterbi.c:48: hmmHeader.h:301:16: warning: 'expSum' defined but not used [-Wunused-function] 301 | static double expSum(double *logValues, int length) { | ^~~~~~ hmmHeader.h:281:16: warning: 'MargainalizeSumLogProbOver' defined but not used [-Wunused-function] 281 | static double MargainalizeSumLogProbOver(int state, int position, | ^~~~~~~~~~~~~~~~~~~~~~~~~~ In file included from hmmHeader.h:36: UsefulValues.h:39:15: warning: 'VERY_LARGE_DOUBLE_VALUE' defined but not used [-Wunused-variable] 39 | static double VERY_LARGE_DOUBLE_VALUE = 1e20; | ^~~~~~~~~~~~~~~~~~~~~~~ gcc -shared -s -static-libgcc -o groHMM.dll tmp.def AnnotateProbes.o DecayAlgorithm.o MLEfit.o RegisterRRoutines.o Windowing.o hmmEM.o hmmFwBw.o hmmMiscFunctions.o hmmViterbi.o -LC:/rtools43/x86_64-w64-mingw32.static.posix/lib/x64 -LC:/rtools43/x86_64-w64-mingw32.static.posix/lib -LF:/biocbuild/bbs-3.17-bioc/R/bin/x64 -lR installing to F:/biocbuild/bbs-3.17-bioc/meat/groHMM.buildbin-libdir/00LOCK-groHMM/00new/groHMM/libs/x64 ** R ** inst ** byte-compile and prepare package for lazy loading ** help *** installing help indices ** building package indices ** installing vignettes ** testing if installed package can be loaded from temporary location ** testing if installed package can be loaded from final location ** testing if installed package keeps a record of temporary installation path * MD5 sums packaged installation of 'groHMM' as groHMM_1.34.0.zip * DONE (groHMM)