Back to Multiple platform build/check report for BioC 3.17:   simplified   long
ABCDEF[G]HIJKLMNOPQRSTUVWXYZ

This page was generated on 2023-06-07 11:04:38 -0400 (Wed, 07 Jun 2023).

HostnameOSArch (*)R versionInstalled pkgs
nebbiolo1Linux (Ubuntu 22.04.2 LTS)x86_644.3.0 RC (2023-04-13 r84269) -- "Already Tomorrow" 4628
palomino3Windows Server 2022 Datacenterx644.3.0 RC (2023-04-13 r84269 ucrt) -- "Already Tomorrow" 4379
merida1macOS 12.6.4 Montereyx86_644.3.0 RC (2023-04-13 r84257) -- "Already Tomorrow" 4385
Click on any hostname to see more info about the system (e.g. compilers)      (*) as reported by 'uname -p', except on Windows and Mac OS X

All results for package ggtree


To the developers/maintainers of the ggtree package:
- Allow up to 24 hours (and sometimes 48 hours) for your latest push to git@git.bioconductor.org:packages/ggtree.git to reflect on this report. See Troubleshooting Build Report for more information.
- Use the following Renviron settings to reproduce errors and warnings.
- If 'R CMD check' started to fail recently on the Linux builder(s) over a missing dependency, add the missing dependency to 'Suggests:' in your DESCRIPTION file. See Renviron.bioc for more information.

raw results

Package 837/2229HostnameOS / ArchINSTALLBUILDCHECKBUILD BIN
ggtree 3.8.0  (landing page)
Guangchuang Yu
Snapshot Date: 2023-06-06 14:00:07 -0400 (Tue, 06 Jun 2023)
git_url: https://git.bioconductor.org/packages/ggtree
git_branch: RELEASE_3_17
git_last_commit: e7c9890
git_last_commit_date: 2023-04-25 10:37:21 -0400 (Tue, 25 Apr 2023)
nebbiolo1Linux (Ubuntu 22.04.2 LTS) / x86_64  OK    OK    OK  UNNEEDED, same version is already published
palomino3Windows Server 2022 Datacenter / x64  OK    OK    OK    OK  UNNEEDED, same version is already published
merida1macOS 12.6.4 Monterey / x86_64  OK    OK    OK    OK  UNNEEDED, same version is already published

Results for Bioconductor software packages that depend directly on package ggtree

QUICK STATSOS / ArchINSTALLBUILDCHECKBUILD BIN
nebbiolo1Linux (Ubuntu 22.04.2 LTS) / x86_64
0019
0019
01216
palomino3Windows Server 2022 Datacenter / x64
0019
0019
01216
0019
merida1macOS 12.6.4 Monterey / x86_64
0019
0019
01216
0019
Package 1/19HostnameOS / ArchINSTALLBUILDCHECKBUILD BIN
cardelino 1.2.0  (landing page)
Davis McCarthy
git_last_commit: ec1afd9
git_last_commit_date: 2023-04-25 11:40:59 -0400
nebbiolo1Linux (Ubuntu 22.04.2 LTS) / x86_64  OK    OK    OK  UNNEEDED, same version is already published
palomino3Windows Server 2022 Datacenter / x64  OK    OK    OK    OK  UNNEEDED, same version is already published
merida1macOS 12.6.4 Monterey / x86_64  OK    OK    OK    OK  UNNEEDED, same version is already published
Package 2/19HostnameOS / ArchINSTALLBUILDCHECKBUILD BIN
cogeqc 1.4.0  (landing page)
Fabrício Almeida-Silva
git_last_commit: 01cccb5
git_last_commit_date: 2023-04-25 11:37:54 -0400
nebbiolo1Linux (Ubuntu 22.04.2 LTS) / x86_64  OK    OK    OK  UNNEEDED, same version is already published
palomino3Windows Server 2022 Datacenter / x64  OK    OK    OK    OK  UNNEEDED, same version is already published
merida1macOS 12.6.4 Monterey / x86_64  OK    OK    OK    OK  UNNEEDED, same version is already published
Package 3/19HostnameOS / ArchINSTALLBUILDCHECKBUILD BIN
enrichplot 1.20.0  (landing page)
Guangchuang Yu
git_last_commit: ae72efe
git_last_commit_date: 2023-04-25 10:59:24 -0400
nebbiolo1Linux (Ubuntu 22.04.2 LTS) / x86_64  OK    OK    WARNINGS  UNNEEDED, same version is already published
palomino3Windows Server 2022 Datacenter / x64  OK    OK    WARNINGS    OK  UNNEEDED, same version is already published
merida1macOS 12.6.4 Monterey / x86_64  OK    OK    WARNINGS    OK  UNNEEDED, same version is already published
Package 4/19HostnameOS / ArchINSTALLBUILDCHECKBUILD BIN
ggmsa 1.6.0  (landing page)
Lang Zhou
git_last_commit: 2488b5d
git_last_commit_date: 2023-04-25 11:32:57 -0400
nebbiolo1Linux (Ubuntu 22.04.2 LTS) / x86_64  OK    OK    OK  UNNEEDED, same version is already published
palomino3Windows Server 2022 Datacenter / x64  OK    OK    OK    OK  UNNEEDED, same version is already published
merida1macOS 12.6.4 Monterey / x86_64  OK    OK    OK    OK  UNNEEDED, same version is already published
Package 5/19HostnameOS / ArchINSTALLBUILDCHECKBUILD BIN
ggtreeDendro 1.2.0  (landing page)
Guangchuang Yu
git_last_commit: 58132ce
git_last_commit_date: 2023-04-25 11:40:43 -0400
nebbiolo1Linux (Ubuntu 22.04.2 LTS) / x86_64  OK    OK    OK  UNNEEDED, same version is already published
palomino3Windows Server 2022 Datacenter / x64  OK    OK    OK    OK  UNNEEDED, same version is already published
merida1macOS 12.6.4 Monterey / x86_64  OK    OK    OK    OK  UNNEEDED, same version is already published
Package 6/19HostnameOS / ArchINSTALLBUILDCHECKBUILD BIN
ggtreeExtra 1.10.0  (landing page)
Shuangbin Xu
git_last_commit: 24d7c9e
git_last_commit_date: 2023-04-25 11:21:23 -0400
nebbiolo1Linux (Ubuntu 22.04.2 LTS) / x86_64  OK    OK    OK  UNNEEDED, same version is already published
palomino3Windows Server 2022 Datacenter / x64  OK    OK    OK    OK  UNNEEDED, same version is already published
merida1macOS 12.6.4 Monterey / x86_64  OK    OK    OK    OK  UNNEEDED, same version is already published
Package 7/19HostnameOS / ArchINSTALLBUILDCHECKBUILD BIN
LinTInd 1.4.0  (landing page)
Luyue Wang
git_last_commit: c540418
git_last_commit_date: 2023-04-25 11:35:50 -0400
nebbiolo1Linux (Ubuntu 22.04.2 LTS) / x86_64  OK    OK    OK  UNNEEDED, same version is already published
palomino3Windows Server 2022 Datacenter / x64  OK    OK    OK    OK  UNNEEDED, same version is already published
merida1macOS 12.6.4 Monterey / x86_64  OK    OK    OK    OK  UNNEEDED, same version is already published
Package 8/19HostnameOS / ArchINSTALLBUILDCHECKBUILD BIN
LymphoSeq 1.28.0  (landing page)
David Coffey
git_last_commit: 6173b0b
git_last_commit_date: 2023-04-25 10:46:30 -0400
nebbiolo1Linux (Ubuntu 22.04.2 LTS) / x86_64  OK    OK    OK  UNNEEDED, same version is already published
palomino3Windows Server 2022 Datacenter / x64  OK    OK    OK    OK  UNNEEDED, same version is already published
merida1macOS 12.6.4 Monterey / x86_64  OK    OK    OK    OK  UNNEEDED, same version is already published
Package 9/19HostnameOS / ArchINSTALLBUILDCHECKBUILD BIN
miaViz 1.8.0  (landing page)
Tuomas Borman
git_last_commit: 77c0151
git_last_commit_date: 2023-04-25 11:28:01 -0400
nebbiolo1Linux (Ubuntu 22.04.2 LTS) / x86_64  OK    OK    OK  UNNEEDED, same version is already published
palomino3Windows Server 2022 Datacenter / x64  OK    OK    OK    OK  UNNEEDED, same version is already published
merida1macOS 12.6.4 Monterey / x86_64  OK    OK    OK    OK  NO, package depends on 'mia' which is not available
Package 10/19HostnameOS / ArchINSTALLBUILDCHECKBUILD BIN
microbiomeMarker 1.6.0  (landing page)
Yang Cao
git_last_commit: 63594b2
git_last_commit_date: 2023-04-25 11:33:28 -0400
nebbiolo1Linux (Ubuntu 22.04.2 LTS) / x86_64  OK    OK    OK  UNNEEDED, same version is already published
palomino3Windows Server 2022 Datacenter / x64  OK    OK    OK    OK  UNNEEDED, same version is already published
merida1macOS 12.6.4 Monterey / x86_64  OK    OK    OK    OK  NO, package depends on 'metagenomeSeq' which is not available
Package 11/19HostnameOS / ArchINSTALLBUILDCHECKBUILD BIN
MicrobiotaProcess 1.12.2  (landing page)
Shuangbin Xu
git_last_commit: 894fdc7
git_last_commit_date: 2023-05-30 07:42:20 -0400
nebbiolo1Linux (Ubuntu 22.04.2 LTS) / x86_64  OK    OK    OK  UNNEEDED, same version is already published
palomino3Windows Server 2022 Datacenter / x64  OK    OK    OK    OK  UNNEEDED, same version is already published
merida1macOS 12.6.4 Monterey / x86_64  OK    OK    OK    OK  UNNEEDED, same version is already published
Package 12/19HostnameOS / ArchINSTALLBUILDCHECKBUILD BIN
orthogene 1.6.0  (landing page)
Brian Schilder
git_last_commit: 559316a
git_last_commit_date: 2023-04-25 11:32:46 -0400
nebbiolo1Linux (Ubuntu 22.04.2 LTS) / x86_64  OK    OK    OK  UNNEEDED, same version is already published
palomino3Windows Server 2022 Datacenter / x64  OK    OK    OK    OK  UNNEEDED, same version is already published
merida1macOS 12.6.4 Monterey / x86_64  OK    OK    OK    OK  UNNEEDED, same version is already published
Package 13/19HostnameOS / ArchINSTALLBUILDCHECKBUILD BIN
philr 1.26.0  (landing page)
Justin Silverman
git_last_commit: d7e556c
git_last_commit_date: 2023-04-25 10:49:19 -0400
nebbiolo1Linux (Ubuntu 22.04.2 LTS) / x86_64  OK    OK    OK  UNNEEDED, same version is already published
palomino3Windows Server 2022 Datacenter / x64  OK    OK    OK    OK  UNNEEDED, same version is already published
merida1macOS 12.6.4 Monterey / x86_64  OK    OK    OK    OK  UNNEEDED, same version is already published
Package 14/19HostnameOS / ArchINSTALLBUILDCHECKBUILD BIN
scBubbletree 1.2.0  (landing page)
Simo Kitanovski
git_last_commit: 3e6c37a
git_last_commit_date: 2023-04-25 11:40:26 -0400
nebbiolo1Linux (Ubuntu 22.04.2 LTS) / x86_64  OK    OK    OK  UNNEEDED, same version is already published
palomino3Windows Server 2022 Datacenter / x64  OK    OK    OK    OK  UNNEEDED, same version is already published
merida1macOS 12.6.4 Monterey / x86_64  OK    OK    OK    OK  UNNEEDED, same version is already published
Package 15/19HostnameOS / ArchINSTALLBUILDCHECKBUILD BIN
singleCellTK 2.10.0  (landing page)
Yichen Wang
git_last_commit: 277e675
git_last_commit_date: 2023-04-25 11:01:21 -0400
nebbiolo1Linux (Ubuntu 22.04.2 LTS) / x86_64  OK    OK    ERROR  
palomino3Windows Server 2022 Datacenter / x64  OK    OK    ERROR    OK  
merida1macOS 12.6.4 Monterey / x86_64  OK    OK    ERROR    OK  
Package 16/19HostnameOS / ArchINSTALLBUILDCHECKBUILD BIN
sitePath 1.16.0  (landing page)
Chengyang Ji
git_last_commit: a060045
git_last_commit_date: 2023-04-25 11:09:09 -0400
nebbiolo1Linux (Ubuntu 22.04.2 LTS) / x86_64  OK    OK    OK  UNNEEDED, same version is already published
palomino3Windows Server 2022 Datacenter / x64  OK    OK    OK    OK  UNNEEDED, same version is already published
merida1macOS 12.6.4 Monterey / x86_64  OK    OK    OK    OK  UNNEEDED, same version is already published
Package 17/19HostnameOS / ArchINSTALLBUILDCHECKBUILD BIN
systemPipeTools 1.8.0  (landing page)
Daniela Cassol
git_last_commit: f1616bc
git_last_commit_date: 2023-04-25 11:30:32 -0400
nebbiolo1Linux (Ubuntu 22.04.2 LTS) / x86_64  OK    OK    WARNINGS  UNNEEDED, same version is already published
palomino3Windows Server 2022 Datacenter / x64  OK    OK    WARNINGS    OK  UNNEEDED, same version is already published
merida1macOS 12.6.4 Monterey / x86_64  OK    OK    WARNINGS    OK  UNNEEDED, same version is already published
Package 18/19HostnameOS / ArchINSTALLBUILDCHECKBUILD BIN
tanggle 1.6.0  (landing page)
Klaus Schliep
git_last_commit: 3d94960
git_last_commit_date: 2023-04-25 11:32:20 -0400
nebbiolo1Linux (Ubuntu 22.04.2 LTS) / x86_64  OK    OK    OK  UNNEEDED, same version is already published
palomino3Windows Server 2022 Datacenter / x64  OK    OK    OK    OK  UNNEEDED, same version is already published
merida1macOS 12.6.4 Monterey / x86_64  OK    OK    OK    OK  UNNEEDED, same version is already published
Package 19/19HostnameOS / ArchINSTALLBUILDCHECKBUILD BIN
treekoR 1.8.0  (landing page)
Adam Chan
git_last_commit: fd46758
git_last_commit_date: 2023-04-25 11:28:47 -0400
nebbiolo1Linux (Ubuntu 22.04.2 LTS) / x86_64  OK    OK    OK  UNNEEDED, same version is already published
palomino3Windows Server 2022 Datacenter / x64  OK    OK    OK    OK  UNNEEDED, same version is already published
merida1macOS 12.6.4 Monterey / x86_64  OK    OK    OK    OK  UNNEEDED, same version is already published