Back to Multiple platform build/check report for BioC 3.17:   simplified   long
ABCDEFGHIJKL[M]NOPQRSTUVWXYZ

This page was generated on 2023-03-22 11:04:38 -0400 (Wed, 22 Mar 2023).

HostnameOSArch (*)R versionInstalled pkgs
nebbiolo1Linux (Ubuntu 22.04.1 LTS)x86_64R Under development (unstable) (2023-03-16 r83996) -- "Unsuffered Consequences" 4508
palomino3Windows Server 2022 Datacenterx64R Under development (unstable) (2023-03-15 r83984 ucrt) -- "Unsuffered Consequences" 4293
merida1macOS 10.14.6 Mojavex86_64R Under development (unstable) (2023-03-16 r83985) -- "Unsuffered Consequences" 4290
Click on any hostname to see more info about the system (e.g. compilers)      (*) as reported by 'uname -p', except on Windows and Mac OS X

All results for package minfi


To the developers/maintainers of the minfi package:
- Please allow up to 24 hours (and sometimes 48 hours) for your latest push to git@git.bioconductor.org:packages/minfi.git to
reflect on this report. See How and When does the builder pull? When will my changes propagate? for more information.
- Make sure to use the following settings in order to reproduce any error or warning you see on this page.

raw results

Package 1215/2189HostnameOS / ArchINSTALLBUILDCHECKBUILD BIN
minfi 1.45.0  (landing page)
Kasper Daniel Hansen
Snapshot Date: 2023-03-21 14:00:22 -0400 (Tue, 21 Mar 2023)
git_url: https://git.bioconductor.org/packages/minfi
git_branch: master
git_last_commit: 748572d
git_last_commit_date: 2022-11-01 11:06:23 -0400 (Tue, 01 Nov 2022)
nebbiolo1Linux (Ubuntu 22.04.1 LTS) / x86_64  OK    OK    OK  UNNEEDED, same version is already published
palomino3Windows Server 2022 Datacenter / x64  OK    OK    OK    OK  UNNEEDED, same version is already published
merida1macOS 10.14.6 Mojave / x86_64  OK    OK    OK    OK  UNNEEDED, same version is already published

Results for Bioconductor software packages that depend directly on package minfi

QUICK STATSOS / ArchINSTALLBUILDCHECKBUILD BIN
nebbiolo1Linux (Ubuntu 22.04.1 LTS) / x86_64
0020
0119
00514
palomino3Windows Server 2022 Datacenter / x64
0019
0118
10512
0018
merida1macOS 10.14.6 Mojave / x86_64
0020
0119
30511
0019
Package 1/20HostnameOS / ArchINSTALLBUILDCHECKBUILD BIN
bigmelon 1.25.1  (landing page)
Tyler J. Gorrie-Stone
git_last_commit: 83428d7
git_last_commit_date: 2022-12-13 06:26:43 -0400
nebbiolo1Linux (Ubuntu 22.04.1 LTS) / x86_64  OK    OK    OK  UNNEEDED, same version is already published
palomino3Windows Server 2022 Datacenter / x64  OK    OK    OK    OK  UNNEEDED, same version is already published
merida1macOS 10.14.6 Mojave / x86_64  OK    OK    OK    OK  UNNEEDED, same version is already published
Package 2/20HostnameOS / ArchINSTALLBUILDCHECKBUILD BIN
ChAMP 2.29.0  (landing page)
Yuan Tian
git_last_commit: 1adbf9a
git_last_commit_date: 2022-11-01 11:08:56 -0400
nebbiolo1Linux (Ubuntu 22.04.1 LTS) / x86_64  OK    OK    WARNINGS  UNNEEDED, same version is already published
palomino3Windows Server 2022 Datacenter / x64  OK    OK    WARNINGS    OK  NO, package depends on 'DMRcate' which is not available
merida1macOS 10.14.6 Mojave / x86_64  OK    OK    WARNINGS    OK  NO, package depends on 'DMRcate' which is not available
Package 3/20HostnameOS / ArchINSTALLBUILDCHECKBUILD BIN
conumee 1.33.0  (landing page)
Volker Hovestadt
git_last_commit: d818c3e
git_last_commit_date: 2022-11-01 11:11:32 -0400
nebbiolo1Linux (Ubuntu 22.04.1 LTS) / x86_64  OK    OK    OK  UNNEEDED, same version is already published
palomino3Windows Server 2022 Datacenter / x64... NOT SUPPORTED ...
merida1macOS 10.14.6 Mojave / x86_64  OK    OK    TIMEOUT    OK  
Package 4/20HostnameOS / ArchINSTALLBUILDCHECKBUILD BIN
DMRcate 2.13.0  (landing page)
Tim Peters
git_last_commit: 1da4c5d
git_last_commit_date: 2022-11-01 11:09:16 -0400
nebbiolo1Linux (Ubuntu 22.04.1 LTS) / x86_64  OK    OK    OK  UNNEEDED, same version is already published
palomino3Windows Server 2022 Datacenter / x64  OK    OK    TIMEOUT    OK  
merida1macOS 10.14.6 Mojave / x86_64  OK    OK    TIMEOUT    OK  
Package 5/20HostnameOS / ArchINSTALLBUILDCHECKBUILD BIN
ENmix 1.35.02  (landing page)
Zongli Xu
git_last_commit: 4ab959a
git_last_commit_date: 2023-03-07 15:22:44 -0400
nebbiolo1Linux (Ubuntu 22.04.1 LTS) / x86_64  OK    OK    OK  UNNEEDED, same version is already published
palomino3Windows Server 2022 Datacenter / x64  OK    OK    OK    OK  UNNEEDED, same version is already published
merida1macOS 10.14.6 Mojave / x86_64  OK    OK    OK    OK  UNNEEDED, same version is already published
Package 6/20HostnameOS / ArchINSTALLBUILDCHECKBUILD BIN
epimutacions 1.3.0  (landing page)
Dolors Pelegri-Siso
git_last_commit: 4b983d2
git_last_commit_date: 2022-11-01 11:26:53 -0400
nebbiolo1Linux (Ubuntu 22.04.1 LTS) / x86_64  OK    ERROR  skipped
palomino3Windows Server 2022 Datacenter / x64  OK    ERROR  skippedskipped
merida1macOS 10.14.6 Mojave / x86_64  OK    ERROR  skippedskipped
Package 7/20HostnameOS / ArchINSTALLBUILDCHECKBUILD BIN
funtooNorm 1.23.0  (landing page)
Kathleen Klein
git_last_commit: 9901b89
git_last_commit_date: 2022-11-01 11:15:04 -0400
nebbiolo1Linux (Ubuntu 22.04.1 LTS) / x86_64  OK    OK    WARNINGS  UNNEEDED, same version is already published
palomino3Windows Server 2022 Datacenter / x64  OK    OK    WARNINGS    OK  UNNEEDED, same version is already published
merida1macOS 10.14.6 Mojave / x86_64  OK    OK    WARNINGS    OK  UNNEEDED, same version is already published
Package 8/20HostnameOS / ArchINSTALLBUILDCHECKBUILD BIN
MEAL 1.29.0  (landing page)
Xavier EscribĂ  Montagut
git_last_commit: 1a43140
git_last_commit_date: 2022-11-01 11:12:19 -0400
nebbiolo1Linux (Ubuntu 22.04.1 LTS) / x86_64  OK    OK    WARNINGS  UNNEEDED, same version is already published
palomino3Windows Server 2022 Datacenter / x64  OK    OK    WARNINGS    OK  UNNEEDED, same version is already published
merida1macOS 10.14.6 Mojave / x86_64  OK    OK    WARNINGS    OK  NO, package depends on 'missMethyl' which is not available
Package 9/20HostnameOS / ArchINSTALLBUILDCHECKBUILD BIN
MEAT 1.11.0  (landing page)
Sarah Voisin
git_last_commit: 9e49073
git_last_commit_date: 2022-11-01 11:21:18 -0400
nebbiolo1Linux (Ubuntu 22.04.1 LTS) / x86_64  OK    OK    WARNINGS  UNNEEDED, same version is already published
palomino3Windows Server 2022 Datacenter / x64  OK    OK    WARNINGS    OK  UNNEEDED, same version is already published
merida1macOS 10.14.6 Mojave / x86_64  OK    OK    WARNINGS    OK  UNNEEDED, same version is already published
Package 10/20HostnameOS / ArchINSTALLBUILDCHECKBUILD BIN
MethylAid 1.33.0  (landing page)
L.J.Sinke
git_last_commit: 6e50aa8
git_last_commit_date: 2022-11-01 11:09:45 -0400
nebbiolo1Linux (Ubuntu 22.04.1 LTS) / x86_64  OK    OK    OK  UNNEEDED, same version is already published
palomino3Windows Server 2022 Datacenter / x64  OK    OK    OK    OK  UNNEEDED, same version is already published
merida1macOS 10.14.6 Mojave / x86_64  OK    OK    OK    OK  UNNEEDED, same version is already published
Package 11/20HostnameOS / ArchINSTALLBUILDCHECKBUILD BIN
methylCC 1.13.1  (landing page)
Stephanie C. Hicks
git_last_commit: d106ccb
git_last_commit_date: 2022-11-04 21:44:20 -0400
nebbiolo1Linux (Ubuntu 22.04.1 LTS) / x86_64  OK    OK    OK  UNNEEDED, same version is already published
palomino3Windows Server 2022 Datacenter / x64  OK    OK    OK    OK  NO, package depends on 'bsseq' which is not available
merida1macOS 10.14.6 Mojave / x86_64  OK    OK    OK    OK  NO, package depends on 'bsseq' which is not available
Package 12/20HostnameOS / ArchINSTALLBUILDCHECKBUILD BIN
methylclock 1.5.0  (landing page)
Dolors Pelegri-Siso
git_last_commit: 19203ba
git_last_commit_date: 2022-11-01 11:25:16 -0400
nebbiolo1Linux (Ubuntu 22.04.1 LTS) / x86_64  OK    OK    OK  UNNEEDED, same version is already published
palomino3Windows Server 2022 Datacenter / x64  OK    OK    OK    OK  UNNEEDED, same version is already published
merida1macOS 10.14.6 Mojave / x86_64  OK    OK    OK    OK  UNNEEDED, same version is already published
Package 13/20HostnameOS / ArchINSTALLBUILDCHECKBUILD BIN
methylumi 2.45.0  (landing page)
Sean Davis
git_last_commit: bd20f4e
git_last_commit_date: 2022-11-01 11:04:28 -0400
nebbiolo1Linux (Ubuntu 22.04.1 LTS) / x86_64  OK    OK    OK  UNNEEDED, same version is already published
palomino3Windows Server 2022 Datacenter / x64  OK    OK    OK    OK  UNNEEDED, same version is already published
merida1macOS 10.14.6 Mojave / x86_64  OK    OK    OK    OK  UNNEEDED, same version is already published
Package 14/20HostnameOS / ArchINSTALLBUILDCHECKBUILD BIN
missMethyl 1.33.1  (landing page)
Belinda Phipson
git_last_commit: 1993940
git_last_commit_date: 2023-03-16 12:23:07 -0400
nebbiolo1Linux (Ubuntu 22.04.1 LTS) / x86_64  OK    OK    OK  UNNEEDED, same version is already published
palomino3Windows Server 2022 Datacenter / x64  OK    OK    OK    OK  UNNEEDED, same version is already published
merida1macOS 10.14.6 Mojave / x86_64  OK    OK    TIMEOUT    OK  
Package 15/20HostnameOS / ArchINSTALLBUILDCHECKBUILD BIN
quantro 1.33.1  (landing page)
Stephanie Hicks
git_last_commit: 1af71d9
git_last_commit_date: 2022-11-04 21:33:37 -0400
nebbiolo1Linux (Ubuntu 22.04.1 LTS) / x86_64  OK    OK    OK  UNNEEDED, same version is already published
palomino3Windows Server 2022 Datacenter / x64  OK    OK    OK    OK  UNNEEDED, same version is already published
merida1macOS 10.14.6 Mojave / x86_64  OK    OK    OK    OK  UNNEEDED, same version is already published
Package 16/20HostnameOS / ArchINSTALLBUILDCHECKBUILD BIN
recountmethylation 1.9.0  (landing page)
Sean K Maden
git_last_commit: 362fce0
git_last_commit_date: 2022-11-01 11:22:45 -0400
nebbiolo1Linux (Ubuntu 22.04.1 LTS) / x86_64  OK    OK    WARNINGS  UNNEEDED, same version is already published
palomino3Windows Server 2022 Datacenter / x64  OK    OK    WARNINGS    OK  UNNEEDED, same version is already published
merida1macOS 10.14.6 Mojave / x86_64  OK    OK    WARNINGS    OK  UNNEEDED, same version is already published
Package 17/20HostnameOS / ArchINSTALLBUILDCHECKBUILD BIN
REMP 1.23.0  (landing page)
Yinan Zheng
git_last_commit: d2728d0
git_last_commit_date: 2022-11-01 11:15:10 -0400
nebbiolo1Linux (Ubuntu 22.04.1 LTS) / x86_64  OK    OK    OK  UNNEEDED, same version is already published
palomino3Windows Server 2022 Datacenter / x64  OK    OK    OK    OK  UNNEEDED, same version is already published
merida1macOS 10.14.6 Mojave / x86_64  OK    OK    OK    OK  UNNEEDED, same version is already published
Package 18/20HostnameOS / ArchINSTALLBUILDCHECKBUILD BIN
shinyepico 1.7.1  (landing page)
Octavio Morante-Palacios
git_last_commit: 8bffea8
git_last_commit_date: 2022-12-06 15:06:04 -0400
nebbiolo1Linux (Ubuntu 22.04.1 LTS) / x86_64  OK    OK    OK  UNNEEDED, same version is already published
palomino3Windows Server 2022 Datacenter / x64  OK    OK    OK    OK  UNNEEDED, same version is already published
merida1macOS 10.14.6 Mojave / x86_64  OK    OK    OK    OK  UNNEEDED, same version is already published
Package 19/20HostnameOS / ArchINSTALLBUILDCHECKBUILD BIN
shinyMethyl 1.35.7  (landing page)
Jean-Philippe Fortin
git_last_commit: a315b08
git_last_commit_date: 2022-11-30 13:04:03 -0400
nebbiolo1Linux (Ubuntu 22.04.1 LTS) / x86_64  OK    OK    OK  UNNEEDED, same version is already published
palomino3Windows Server 2022 Datacenter / x64  OK    OK    OK    OK  UNNEEDED, same version is already published
merida1macOS 10.14.6 Mojave / x86_64  OK    OK    OK    OK  UNNEEDED, same version is already published
Package 20/20HostnameOS / ArchINSTALLBUILDCHECKBUILD BIN
skewr 1.31.0  (landing page)
Ryan Putney
git_last_commit: 2c5c43d
git_last_commit_date: 2022-11-01 11:11:10 -0400
nebbiolo1Linux (Ubuntu 22.04.1 LTS) / x86_64  OK    OK    OK  UNNEEDED, same version is already published
palomino3Windows Server 2022 Datacenter / x64  OK    OK    OK    OK  UNNEEDED, same version is already published
merida1macOS 10.14.6 Mojave / x86_64  OK    OK    OK    OK  UNNEEDED, same version is already published