Back to Multiple platform build/check report for BioC 3.17:   simplified   long
A[B]CDEFGHIJKLMNOPQRSTUVWXYZ

This page was generated on 2023-04-01 11:05:46 -0400 (Sat, 01 Apr 2023).

HostnameOSArch (*)R versionInstalled pkgs
nebbiolo1Linux (Ubuntu 22.04.1 LTS)x86_64R Under development (unstable) (2023-03-16 r83996) -- "Unsuffered Consequences" 4551
palomino3Windows Server 2022 Datacenterx64R Under development (unstable) (2023-03-15 r83984 ucrt) -- "Unsuffered Consequences" 4312
merida1macOS 10.14.6 Mojavex86_64R Under development (unstable) (2023-03-16 r83985) -- "Unsuffered Consequences" 4309
Click on any hostname to see more info about the system (e.g. compilers)      (*) as reported by 'uname -p', except on Windows and Mac OS X

BUILD BIN results for BRGenomics on merida1


To the developers/maintainers of the BRGenomics package:
- Allow up to 24 hours (and sometimes 48 hours) for your latest push to git@git.bioconductor.org:packages/BRGenomics.git to reflect on this report. See Troubleshooting Build Report for more information.

- Use the following Renviron settings to reproduce errors and warnings.

Note: If "R CMD check" recently failed on the Linux builder over a missing dependency, add the missing dependency to "Suggests" in your DESCRIPTION file. See the Renviron.bioc for details.

raw results

Package 237/2199HostnameOS / ArchINSTALLBUILDCHECKBUILD BIN
BRGenomics 1.11.0  (landing page)
Mike DeBerardine
Snapshot Date: 2023-03-31 14:00:12 -0400 (Fri, 31 Mar 2023)
git_url: https://git.bioconductor.org/packages/BRGenomics
git_branch: devel
git_last_commit: 7287b3d
git_last_commit_date: 2022-11-01 11:21:40 -0400 (Tue, 01 Nov 2022)
nebbiolo1Linux (Ubuntu 22.04.1 LTS) / x86_64  OK    OK    WARNINGS  UNNEEDED, same version is already published
palomino3Windows Server 2022 Datacenter / x64  OK    OK    WARNINGS    OK  UNNEEDED, same version is already published
merida1macOS 10.14.6 Mojave / x86_64  OK    OK    WARNINGS    OK  UNNEEDED, same version is already published

Summary

Package: BRGenomics
Version: 1.11.0
Command: rm -rf BRGenomics.buildbin-libdir && mkdir BRGenomics.buildbin-libdir && /Users/biocbuild/BBS/utils/build-universal.sh BRGenomics_1.11.0.tar.gz /Library/Frameworks/R.framework/Resources/bin/R BRGenomics.buildbin-libdir
StartedAt: 2023-04-01 08:36:22 -0400 (Sat, 01 Apr 2023)
EndedAt: 2023-04-01 08:38:44 -0400 (Sat, 01 Apr 2023)
EllapsedTime: 142.0 seconds
RetCode: 0
Status:   OK  
PackageFile: BRGenomics_1.11.0.tgz
PackageFileSize: 3.841 MiB

Command output

##############################################################################
##############################################################################
###
### Running command:
###
###   rm -rf BRGenomics.buildbin-libdir && mkdir BRGenomics.buildbin-libdir && /Users/biocbuild/BBS/utils/build-universal.sh BRGenomics_1.11.0.tar.gz /Library/Frameworks/R.framework/Resources/bin/R BRGenomics.buildbin-libdir
###
##############################################################################
##############################################################################


>>>>>>> 
>>>>>>> INSTALLATION WITH 'R CMD INSTALL --preclean --no-multiarch --library=BRGenomics.buildbin-libdir BRGenomics_1.11.0.tar.gz'
>>>>>>> 

* installing *source* package ‘BRGenomics’ ...
** using staged installation
** R
** data
** inst
** byte-compile and prepare package for lazy loading
** help
*** installing help indices
** building package indices
** installing vignettes
** testing if installed package can be loaded from temporary location
** testing if installed package can be loaded from final location
** testing if installed package keeps a record of temporary installation path
* DONE (BRGenomics)