Back to Multiple platform build/check report for BioC 3.17:   simplified   long
ABCDEFGHIJKLMNOPQR[S]TUVWXYZ

This page was generated on 2023-06-05 11:04:21 -0400 (Mon, 05 Jun 2023).

HostnameOSArch (*)R versionInstalled pkgs
nebbiolo1Linux (Ubuntu 22.04.2 LTS)x86_644.3.0 RC (2023-04-13 r84269) -- "Already Tomorrow" 4623
palomino3Windows Server 2022 Datacenterx644.3.0 RC (2023-04-13 r84269 ucrt) -- "Already Tomorrow" 4374
merida1macOS 12.6.4 Montereyx86_644.3.0 RC (2023-04-13 r84257) -- "Already Tomorrow" 4332
Click on any hostname to see more info about the system (e.g. compilers)      (*) as reported by 'uname -p', except on Windows and Mac OS X

CHECK results for SpliceWiz on nebbiolo1


To the developers/maintainers of the SpliceWiz package:
- Allow up to 24 hours (and sometimes 48 hours) for your latest push to git@git.bioconductor.org:packages/SpliceWiz.git to reflect on this report. See Troubleshooting Build Report for more information.

- Use the following Renviron settings to reproduce errors and warnings.

Note: If "R CMD check" recently failed on the Linux builder over a missing dependency, add the missing dependency to "Suggests" in your DESCRIPTION file. See the Renviron.bioc for details.

raw results

Package 1992/2229HostnameOS / ArchINSTALLBUILDCHECKBUILD BIN
SpliceWiz 1.2.1  (landing page)
Alex Chit Hei Wong
Snapshot Date: 2023-06-04 14:00:14 -0400 (Sun, 04 Jun 2023)
git_url: https://git.bioconductor.org/packages/SpliceWiz
git_branch: RELEASE_3_17
git_last_commit: d3a2512
git_last_commit_date: 2023-05-20 02:32:04 -0400 (Sat, 20 May 2023)
nebbiolo1Linux (Ubuntu 22.04.2 LTS) / x86_64  OK    OK    OK  UNNEEDED, same version is already published
palomino3Windows Server 2022 Datacenter / x64  OK    OK    OK    OK  UNNEEDED, same version is already published
merida1macOS 12.6.4 Monterey / x86_64  OK    OK    TIMEOUT    NA  

Summary

Package: SpliceWiz
Version: 1.2.1
Command: /home/biocbuild/bbs-3.17-bioc/R/bin/R CMD check --install=check:SpliceWiz.install-out.txt --library=/home/biocbuild/bbs-3.17-bioc/R/site-library --timings SpliceWiz_1.2.1.tar.gz
StartedAt: 2023-06-05 01:06:37 -0400 (Mon, 05 Jun 2023)
EndedAt: 2023-06-05 01:23:22 -0400 (Mon, 05 Jun 2023)
EllapsedTime: 1005.1 seconds
RetCode: 0
Status:   OK  
CheckDir: SpliceWiz.Rcheck
Warnings: 0

Command output

##############################################################################
##############################################################################
###
### Running command:
###
###   /home/biocbuild/bbs-3.17-bioc/R/bin/R CMD check --install=check:SpliceWiz.install-out.txt --library=/home/biocbuild/bbs-3.17-bioc/R/site-library --timings SpliceWiz_1.2.1.tar.gz
###
##############################################################################
##############################################################################


* using log directory ‘/home/biocbuild/bbs-3.17-bioc/meat/SpliceWiz.Rcheck’
* using R version 4.3.0 RC (2023-04-13 r84269)
* using platform: x86_64-pc-linux-gnu (64-bit)
* R was compiled by
    gcc (Ubuntu 11.3.0-1ubuntu1~22.04) 11.3.0
    GNU Fortran (Ubuntu 11.3.0-1ubuntu1~22.04) 11.3.0
* running under: Ubuntu 22.04.2 LTS
* using session charset: UTF-8
* checking for file ‘SpliceWiz/DESCRIPTION’ ... OK
* this is package ‘SpliceWiz’ version ‘1.2.1’
* package encoding: UTF-8
* checking package namespace information ... OK
* checking package dependencies ... OK
* checking if this is a source package ... OK
* checking if there is a namespace ... OK
* checking for hidden files and directories ... OK
* checking for portable file names ... OK
* checking for sufficient/correct file permissions ... OK
* checking whether package ‘SpliceWiz’ can be installed ... OK
* used C++ compiler: ‘g++ (Ubuntu 11.3.0-1ubuntu1~22.04.1) 11.3.0’
* checking C++ specification ... NOTE
  Specified C++11: please drop specification unless essential
* checking installed package size ... NOTE
  installed size is  8.2Mb
  sub-directories of 1Mb or more:
    R      2.2Mb
    libs   4.9Mb
* checking package directory ... OK
* checking ‘build’ directory ... OK
* checking DESCRIPTION meta-information ... OK
* checking top-level files ... OK
* checking for left-over files ... OK
* checking index information ... OK
* checking package subdirectories ... OK
* checking R files for non-ASCII characters ... OK
* checking R files for syntax errors ... OK
* checking whether the package can be loaded ... OK
* checking whether the package can be loaded with stated dependencies ... OK
* checking whether the package can be unloaded cleanly ... OK
* checking whether the namespace can be loaded with stated dependencies ... OK
* checking whether the namespace can be unloaded cleanly ... OK
* checking loading without being on the library search path ... OK
* checking startup messages can be suppressed ... OK
* checking dependencies in R code ... OK
* checking S3 generic/method consistency ... OK
* checking replacement functions ... OK
* checking foreign function calls ... OK
* checking R code for possible problems ... OK
* checking Rd files ... OK
* checking Rd metadata ... OK
* checking Rd cross-references ... OK
* checking for missing documentation entries ... OK
* checking for code/documentation mismatches ... OK
* checking Rd \usage sections ... OK
* checking Rd contents ... OK
* checking for unstated dependencies in examples ... OK
* checking line endings in shell scripts ... OK
* checking line endings in C/C++/Fortran sources/headers ... OK
* checking line endings in Makefiles ... OK
* checking compilation flags in Makevars ... OK
* checking for GNU extensions in Makefiles ... OK
* checking for portable use of $(BLAS_LIBS) and $(LAPACK_LIBS) ... OK
* checking use of PKG_*FLAGS in Makefiles ... OK
* checking compiled code ... NOTE
Note: information on .o files is not available
* checking files in ‘vignettes’ ... OK
* checking examples ... OK
Examples with CPU (user + system) or elapsed time > 5s
                          user system elapsed
Build-Reference-methods 66.340  4.616  71.943
NxtSE-class             52.897  0.970  53.953
ASE-methods             29.742  2.150  31.928
covPlotObject-class     16.813  1.028  17.653
plotCoverage            11.734  0.752  12.416
Run_SpliceWiz_Filters    6.795  0.036   6.832
* checking for unstated dependencies in ‘tests’ ... OK
* checking tests ...
  Running ‘testthat.R’
 OK
* checking for unstated dependencies in vignettes ... OK
* checking package vignettes in ‘inst/doc’ ... OK
* checking running R code from vignettes ...
  ‘SW_Cookbook.Rmd’ using ‘UTF-8’... OK
  ‘SW_QuickStart.Rmd’ using ‘UTF-8’... OK
 NONE
* checking re-building of vignette outputs ... OK
* checking PDF version of manual ... OK
* DONE

Status: 3 NOTEs
See
  ‘/home/biocbuild/bbs-3.17-bioc/meat/SpliceWiz.Rcheck/00check.log’
for details.



Installation output

SpliceWiz.Rcheck/00install.out

##############################################################################
##############################################################################
###
### Running command:
###
###   /home/biocbuild/bbs-3.17-bioc/R/bin/R CMD INSTALL SpliceWiz
###
##############################################################################
##############################################################################


* installing to library ‘/home/biocbuild/bbs-3.17-bioc/R/site-library’
* installing *source* package ‘SpliceWiz’ ...
** using staged installation
** libs
using C++ compiler: ‘g++ (Ubuntu 11.3.0-1ubuntu1~22.04.1) 11.3.0’
using C++11
g++ -std=gnu++11 -I"/home/biocbuild/bbs-3.17-bioc/R/include" -DNDEBUG  -I'/home/biocbuild/bbs-3.17-bioc/R/site-library/ompBAM/include' -I'/home/biocbuild/bbs-3.17-bioc/R/site-library/Rcpp/include' -I'/home/biocbuild/bbs-3.17-bioc/R/site-library/zlibbioc/include' -I'/home/biocbuild/bbs-3.17-bioc/R/site-library/RcppProgress/include' -I/usr/local/include   -fopenmp -DSPLICEWIZ -fpic  -g -O2  -Wall -c BAM2blocks.cpp -o BAM2blocks.o
g++ -std=gnu++11 -I"/home/biocbuild/bbs-3.17-bioc/R/include" -DNDEBUG  -I'/home/biocbuild/bbs-3.17-bioc/R/site-library/ompBAM/include' -I'/home/biocbuild/bbs-3.17-bioc/R/site-library/Rcpp/include' -I'/home/biocbuild/bbs-3.17-bioc/R/site-library/zlibbioc/include' -I'/home/biocbuild/bbs-3.17-bioc/R/site-library/RcppProgress/include' -I/usr/local/include   -fopenmp -DSPLICEWIZ -fpic  -g -O2  -Wall -c FastaReader.cpp -o FastaReader.o
g++ -std=gnu++11 -I"/home/biocbuild/bbs-3.17-bioc/R/include" -DNDEBUG  -I'/home/biocbuild/bbs-3.17-bioc/R/site-library/ompBAM/include' -I'/home/biocbuild/bbs-3.17-bioc/R/site-library/Rcpp/include' -I'/home/biocbuild/bbs-3.17-bioc/R/site-library/zlibbioc/include' -I'/home/biocbuild/bbs-3.17-bioc/R/site-library/RcppProgress/include' -I/usr/local/include   -fopenmp -DSPLICEWIZ -fpic  -g -O2  -Wall -c FragmentBlocks.cpp -o FragmentBlocks.o
g++ -std=gnu++11 -I"/home/biocbuild/bbs-3.17-bioc/R/include" -DNDEBUG  -I'/home/biocbuild/bbs-3.17-bioc/R/site-library/ompBAM/include' -I'/home/biocbuild/bbs-3.17-bioc/R/site-library/Rcpp/include' -I'/home/biocbuild/bbs-3.17-bioc/R/site-library/zlibbioc/include' -I'/home/biocbuild/bbs-3.17-bioc/R/site-library/RcppProgress/include' -I/usr/local/include   -fopenmp -DSPLICEWIZ -fpic  -g -O2  -Wall -c GZTools.cpp -o GZTools.o
g++ -std=gnu++11 -I"/home/biocbuild/bbs-3.17-bioc/R/include" -DNDEBUG  -I'/home/biocbuild/bbs-3.17-bioc/R/site-library/ompBAM/include' -I'/home/biocbuild/bbs-3.17-bioc/R/site-library/Rcpp/include' -I'/home/biocbuild/bbs-3.17-bioc/R/site-library/zlibbioc/include' -I'/home/biocbuild/bbs-3.17-bioc/R/site-library/RcppProgress/include' -I/usr/local/include   -fopenmp -DSPLICEWIZ -fpic  -g -O2  -Wall -c RcppExports.cpp -o RcppExports.o
g++ -std=gnu++11 -I"/home/biocbuild/bbs-3.17-bioc/R/include" -DNDEBUG  -I'/home/biocbuild/bbs-3.17-bioc/R/site-library/ompBAM/include' -I'/home/biocbuild/bbs-3.17-bioc/R/site-library/Rcpp/include' -I'/home/biocbuild/bbs-3.17-bioc/R/site-library/zlibbioc/include' -I'/home/biocbuild/bbs-3.17-bioc/R/site-library/RcppProgress/include' -I/usr/local/include   -fopenmp -DSPLICEWIZ -fpic  -g -O2  -Wall -c ReadBlockProcessor.cpp -o ReadBlockProcessor.o
g++ -std=gnu++11 -I"/home/biocbuild/bbs-3.17-bioc/R/include" -DNDEBUG  -I'/home/biocbuild/bbs-3.17-bioc/R/site-library/ompBAM/include' -I'/home/biocbuild/bbs-3.17-bioc/R/site-library/Rcpp/include' -I'/home/biocbuild/bbs-3.17-bioc/R/site-library/zlibbioc/include' -I'/home/biocbuild/bbs-3.17-bioc/R/site-library/RcppProgress/include' -I/usr/local/include   -fopenmp -DSPLICEWIZ -fpic  -g -O2  -Wall -c ReadBlockProcessor_CoverageBlocks.cpp -o ReadBlockProcessor_CoverageBlocks.o
g++ -std=gnu++11 -I"/home/biocbuild/bbs-3.17-bioc/R/include" -DNDEBUG  -I'/home/biocbuild/bbs-3.17-bioc/R/site-library/ompBAM/include' -I'/home/biocbuild/bbs-3.17-bioc/R/site-library/Rcpp/include' -I'/home/biocbuild/bbs-3.17-bioc/R/site-library/zlibbioc/include' -I'/home/biocbuild/bbs-3.17-bioc/R/site-library/RcppProgress/include' -I/usr/local/include   -fopenmp -DSPLICEWIZ -fpic  -g -O2  -Wall -c ReadBlockProcessor_FragmentsMap.cpp -o ReadBlockProcessor_FragmentsMap.o
g++ -std=gnu++11 -I"/home/biocbuild/bbs-3.17-bioc/R/include" -DNDEBUG  -I'/home/biocbuild/bbs-3.17-bioc/R/site-library/ompBAM/include' -I'/home/biocbuild/bbs-3.17-bioc/R/site-library/Rcpp/include' -I'/home/biocbuild/bbs-3.17-bioc/R/site-library/zlibbioc/include' -I'/home/biocbuild/bbs-3.17-bioc/R/site-library/RcppProgress/include' -I/usr/local/include   -fopenmp -DSPLICEWIZ -fpic  -g -O2  -Wall -c ReadBlockProcessor_TandemJunctions.cpp -o ReadBlockProcessor_TandemJunctions.o
g++ -std=gnu++11 -I"/home/biocbuild/bbs-3.17-bioc/R/include" -DNDEBUG  -I'/home/biocbuild/bbs-3.17-bioc/R/site-library/ompBAM/include' -I'/home/biocbuild/bbs-3.17-bioc/R/site-library/Rcpp/include' -I'/home/biocbuild/bbs-3.17-bioc/R/site-library/zlibbioc/include' -I'/home/biocbuild/bbs-3.17-bioc/R/site-library/RcppProgress/include' -I/usr/local/include   -fopenmp -DSPLICEWIZ -fpic  -g -O2  -Wall -c covTools.cpp -o covTools.o
g++ -std=gnu++11 -I"/home/biocbuild/bbs-3.17-bioc/R/include" -DNDEBUG  -I'/home/biocbuild/bbs-3.17-bioc/R/site-library/ompBAM/include' -I'/home/biocbuild/bbs-3.17-bioc/R/site-library/Rcpp/include' -I'/home/biocbuild/bbs-3.17-bioc/R/site-library/zlibbioc/include' -I'/home/biocbuild/bbs-3.17-bioc/R/site-library/RcppProgress/include' -I/usr/local/include   -fopenmp -DSPLICEWIZ -fpic  -g -O2  -Wall -c main.cpp -o main.o
g++ -std=gnu++11 -I"/home/biocbuild/bbs-3.17-bioc/R/include" -DNDEBUG  -I'/home/biocbuild/bbs-3.17-bioc/R/site-library/ompBAM/include' -I'/home/biocbuild/bbs-3.17-bioc/R/site-library/Rcpp/include' -I'/home/biocbuild/bbs-3.17-bioc/R/site-library/zlibbioc/include' -I'/home/biocbuild/bbs-3.17-bioc/R/site-library/RcppProgress/include' -I/usr/local/include   -fopenmp -DSPLICEWIZ -fpic  -g -O2  -Wall -c swEngine.cpp -o swEngine.o
g++ -std=gnu++11 -I"/home/biocbuild/bbs-3.17-bioc/R/include" -DNDEBUG  -I'/home/biocbuild/bbs-3.17-bioc/R/site-library/ompBAM/include' -I'/home/biocbuild/bbs-3.17-bioc/R/site-library/Rcpp/include' -I'/home/biocbuild/bbs-3.17-bioc/R/site-library/zlibbioc/include' -I'/home/biocbuild/bbs-3.17-bioc/R/site-library/RcppProgress/include' -I/usr/local/include   -fopenmp -DSPLICEWIZ -fpic  -g -O2  -Wall -c synthReadGenerator.cpp -o synthReadGenerator.o
g++ -std=gnu++11 -shared -L/home/biocbuild/bbs-3.17-bioc/R/lib -L/usr/local/lib -o SpliceWiz.so BAM2blocks.o FastaReader.o FragmentBlocks.o GZTools.o RcppExports.o ReadBlockProcessor.o ReadBlockProcessor_CoverageBlocks.o ReadBlockProcessor_FragmentsMap.o ReadBlockProcessor_TandemJunctions.o covTools.o main.o swEngine.o synthReadGenerator.o -fopenmp -DSPLICEWIZ -L/home/biocbuild/bbs-3.17-bioc/R/lib -lR
installing to /home/biocbuild/bbs-3.17-bioc/R/site-library/00LOCK-SpliceWiz/00new/SpliceWiz/libs
** R
** inst
** byte-compile and prepare package for lazy loading
** help
*** installing help indices
** building package indices
** installing vignettes
** testing if installed package can be loaded from temporary location
** checking absolute paths in shared objects and dynamic libraries
** testing if installed package can be loaded from final location
** testing if installed package keeps a record of temporary installation path
* DONE (SpliceWiz)

Tests output

SpliceWiz.Rcheck/tests/testthat.Rout


R version 4.3.0 RC (2023-04-13 r84269) -- "Already Tomorrow"
Copyright (C) 2023 The R Foundation for Statistical Computing
Platform: x86_64-pc-linux-gnu (64-bit)

R is free software and comes with ABSOLUTELY NO WARRANTY.
You are welcome to redistribute it under certain conditions.
Type 'license()' or 'licence()' for distribution details.

R is a collaborative project with many contributors.
Type 'contributors()' for more information and
'citation()' on how to cite R or R packages in publications.

Type 'demo()' for some demos, 'help()' for on-line help, or
'help.start()' for an HTML browser interface to help.
Type 'q()' to quit R.

> library(testthat)
> library(SpliceWiz)
Loading required package: NxtIRFdata
SpliceWiz package loaded with 2 threads
Use setSWthreads() to set the number of SpliceWiz threads
> 
> test_check("SpliceWiz")
Loading required package: Rsubread
Jun 05 01:15:48 Converting FASTA to local TwoBitFile...done
Jun 05 01:15:49 Connecting to genome TwoBitFile...done
Jun 05 01:15:49 Making local copy of GTF file...done
Jun 05 01:15:49 Extracting temp genome FASTA from TwoBit file
Jun 05 01:15:50 Generating synthetic reads, saving to /tmp/RtmptFLHF9/refWithMapExcl/Mappability/Reads.fa
0%   10   20   30   40   50   60   70   80   90   100%
[----|----|----|----|----|----|----|----|----|----|
**************************************************|
10145 synthetic reads generated
Jun 05 01:15:50 Cleaning temp genome / gene annotation files

        ==========     _____ _    _ ____  _____  ______          _____  
        =====         / ____| |  | |  _ \|  __ \|  ____|   /\   |  __ \ 
          =====      | (___ | |  | | |_) | |__) | |__     /  \  | |  | |
            ====      \___ \| |  | |  _ <|  _  /|  __|   / /\ \ | |  | |
              ====    ____) | |__| | |_) | | \ \| |____ / ____ \| |__| |
        ==========   |_____/ \____/|____/|_|  \_\______/_/    \_\_____/
       Rsubread 2.14.2

//================================= setting ==================================\\
||                                                                            ||
||                Index name : reference_index                                ||
||               Index space : base space                                     ||
||               Index split : no-split                                       ||
||          Repeat threshold : 100 repeats                                    ||
||              Gapped index : no                                             ||
||                                                                            ||
||       Free / total memory : 60.0GB / 125.4GB                               ||
||                                                                            ||
||               Input files : 1 file in total                                ||
||                             o genome.fa                                    ||
||                                                                            ||
\\============================================================================//

//================================= Running ==================================\\
||                                                                            ||
|| Check the integrity of provided reference sequences ...                    ||
|| No format issues were found                                                ||
|| Scan uninformative subreads in reference sequences ...                     ||
|| Estimate the index size...                                                 ||
||    8%,   0 mins elapsed, rate=43.4k bps/s                                  ||
||   16%,   0 mins elapsed, rate=86.1k bps/s                                  ||
||   24%,   0 mins elapsed, rate=128.1k bps/s                                 ||
||   33%,   0 mins elapsed, rate=169.5k bps/s                                 ||
||   41%,   0 mins elapsed, rate=210.3k bps/s                                 ||
||   49%,   0 mins elapsed, rate=250.6k bps/s                                 ||
||   58%,   0 mins elapsed, rate=290.2k bps/s                                 ||
||   66%,   0 mins elapsed, rate=329.3k bps/s                                 ||
||   74%,   0 mins elapsed, rate=367.9k bps/s                                 ||
||   83%,   0 mins elapsed, rate=406.1k bps/s                                 ||
||   91%,   0 mins elapsed, rate=443.7k bps/s                                 ||
|| 3.0 GB of memory is needed for index building.                             ||
|| Build the index...                                                         ||
||    8%,   0 mins elapsed, rate=4.5k bps/s                                   ||
||   16%,   0 mins elapsed, rate=8.9k bps/s                                   ||
||   24%,   0 mins elapsed, rate=13.3k bps/s                                  ||
||   33%,   0 mins elapsed, rate=17.7k bps/s                                  ||
||   41%,   0 mins elapsed, rate=22.0k bps/s                                  ||
||   49%,   0 mins elapsed, rate=26.4k bps/s                                  ||
||   58%,   0 mins elapsed, rate=30.7k bps/s                                  ||
||   66%,   0 mins elapsed, rate=35.0k bps/s                                  ||
||   74%,   0 mins elapsed, rate=39.3k bps/s                                  ||
||   83%,   0 mins elapsed, rate=43.6k bps/s                                  ||
||   91%,   0 mins elapsed, rate=47.8k bps/s                                  ||
|| Save current index block...                                                ||
||  [ 0.0% finished ]                                                         ||
||  [ 10.0% finished ]                                                        ||
||  [ 20.0% finished ]                                                        ||
||  [ 30.0% finished ]                                                        ||
||  [ 40.0% finished ]                                                        ||
||  [ 50.0% finished ]                                                        ||
||  [ 60.0% finished ]                                                        ||
||  [ 70.0% finished ]                                                        ||
||  [ 80.0% finished ]                                                        ||
||  [ 90.0% finished ]                                                        ||
||  [ 100.0% finished ]                                                       ||
||                                                                            ||
||                      Total running time: 0.2 minutes.                      ||
||              Index ./reference_index was successfully built.               ||
||                                                                            ||
\\============================================================================//


        ==========     _____ _    _ ____  _____  ______          _____  
        =====         / ____| |  | |  _ \|  __ \|  ____|   /\   |  __ \ 
          =====      | (___ | |  | | |_) | |__) | |__     /  \  | |  | |
            ====      \___ \| |  | |  _ <|  _  /|  __|   / /\ \ | |  | |
              ====    ____) | |__| | |_) | | \ \| |____ / ____ \| |__| |
        ==========   |_____/ \____/|____/|_|  \_\______/_/    \_\_____/
       Rsubread 2.14.2

//================================= setting ==================================\\
||                                                                            ||
|| Function      : Read alignment + Junction detection (RNA-Seq)              ||
|| Input file    : Reads.fa                                                   ||
|| Output file   : AlignedReads.bam (BAM)                                     ||
|| Index name    : reference_index                                            ||
||                                                                            ||
||                    ------------------------------------                    ||
||                                                                            ||
||                               Threads : 1                                  ||
||                          Phred offset : 33                                 ||
||                             Min votes : 1 / 14                             ||
||                        Max mismatches : 3                                  ||
||                      Max indel length : 5                                  ||
||            Report multi-mapping reads : yes                                ||
|| Max alignments per multi-mapping read : 1                                  ||
||                           Annotations : transcripts.gtf (GTF)              ||
||                                                                            ||
\\============================================================================//

//=============== Running (05-Jun-2023 01:16:00, pid=1920964) ================\\
||                                                                            ||
|| Check the input reads.                                                     ||
|| The input file contains base space reads.                                  ||
|| Initialise the memory objects.                                             ||
|| Estimate the mean read length.                                             ||
|| Create the output BAM file.                                                ||
|| Check the index.                                                           ||
|| Init the voting space.                                                     ||
|| Load the annotation file.                                                  ||
|| 538 annotation records were loaded.                                        ||
|| Global environment is initialised.                                         ||
|| Load the 1-th index block...                                               ||
|| The index block has been loaded.                                           ||
|| Start read mapping in chunk.                                               ||
||   65% completed, 0.5 mins elapsed, rate=44.1k reads per second             ||
||   83% completed, 0.5 mins elapsed, rate=0.3k reads per second              ||
||   99% completed, 0.5 mins elapsed, rate=0.3k reads per second              ||
||                                                                            ||
||                           Completed successfully.                          ||
||                                                                            ||
\\====================================    ====================================//

//================================   Summary =================================\\
||                                                                            ||
||                 Total reads : 10,145                                       ||
||                      Mapped : 10,145 (100.0%)                              ||
||             Uniquely mapped : 10,145                                       ||
||               Multi-mapping : 0                                            ||
||                                                                            ||
||                    Unmapped : 0                                            ||
||                                                                            ||
||                   Junctions : 0                                            ||
||                      Indels : 1                                            ||
||                                                                            ||
||                Running time : 0.5 minutes                                  ||
||                                                                            ||
\\============================================================================//

Jun 05 01:16:32 Calculating Mappability Exclusion regions from: /tmp/RtmptFLHF9/refWithMapExcl/Mappability/AlignedReads.bam
Calculating Mappability Exclusions: /tmp/RtmptFLHF9/refWithMapExcl/Mappability/AlignedReads.bam
0%   10   20   30   40   50   60   70   80   90   100%
[----|----|----|----|----|----|----|----|----|----|
**************************************************|
Performing final sort of fragment maps
Writing Mappability Exclusions
**************************************************|
0%   10   20   30   40   50   60   70   80   90   100%
[----|----|----|----|----|----|----|----|----|----|
**************************************************|
Jun 05 01:16:35 Reference generated without non-polyA reference
Jun 05 01:16:35 Reference generated without Mappability reference
Jun 05 01:16:35 Reference generated without Blacklist exclusion
Jun 05 01:16:35 Converting FASTA to local TwoBitFile...done
Jun 05 01:16:36 Connecting to genome TwoBitFile...done
Jun 05 01:16:36 Making local copy of GTF file...done
Jun 05 01:16:36 Reading source GTF file...done
Jun 05 01:16:37 Processing gtf file...
...genes
...transcripts
...CDS
...exons
done
Jun 05 01:16:38 Gene ontology not prepared for this reference
Jun 05 01:16:40 Processing introns...
...data
...basic annotations
...splice motifs
...other info
...defining flanking exon clusters
done
Jun 05 01:16:44 Generating processBAM reference
...prepping data
...determining measurable introns (directional)
...determining measurable introns (non-directional)
...writing ref-cover.bed
...writing ref-ROI.bed
...writing ref-read-continues.ref
...writing ref-sj.ref
...writing ref-tj.ref
processBAM reference generated
Jun 05 01:16:50 Predicting NMD transcripts from genome sequence
...exonic transcripts
...retained introns

  |                                                                            
  |                                                                      |   0%
  |                                                                            
  |======================================================================| 100%
done
Jun 05 01:16:52 Annotating Splice Events
Annotating Mutually-Exclusive-Exon Splice Events...done
Annotating Skipped-Exon Splice Events...done
Annotating Alternate 5' / 3' Splice Site Splice Events...done
Annotating Alternate First / Last Exon Splice Events...done
Annotating known retained introns...done
Jun 05 01:16:54 Splice Annotations Filtered
Jun 05 01:16:55 Translating Alternate Splice Peptides...done
Jun 05 01:16:55 Splice Annotations finished

Reference build finished
Jun 05 01:16:56 Running SpliceWiz processBAM
Reading reference file
Allocating memory to 1 threads for SpliceWiz (ompBAM)...initialized (0 milliseconds)
Processing BAM file /tmp/RtmptFLHF9/02H003.bam
0%   10   20   30   40   50   60   70   80   90   100%
[----|----|----|----|----|----|----|----|----|----|
**************************************************|
Performing final sort of fragment maps
Writing COV file
**************************************************|
0%   10   20   30   40   50   60   70   80   90   100%
[----|----|----|----|----|----|----|----|----|----|
**************************************************|
Writing output file
/tmp/RtmptFLHF9/02H003.bam processed (421 milliseconds)
Jun 05 01:16:57 Running SpliceWiz processBAM
Reading reference file
Allocating memory to 2 threads for SpliceWiz (ompBAM)...initialized (0 milliseconds)
Processing BAM file /tmp/RtmptFLHF9/02H003.bam
0%   10   20   30   40   50   60   70   80   90   100%
[----|----|----|----|----|----|----|----|----|----|
**************************************************|
Compiling data from threads
Performing final sort of fragment maps
Writing COV file
**************************************************|
0%   10   20   30   40   50   60   70   80   90   100%
[----|----|----|----|----|----|----|----|----|----|
**************************************************|
Writing output file
/tmp/RtmptFLHF9/02H003.bam processed (261 milliseconds)
Jun 05 01:16:57 SpliceWiz reference already exists in given directory
Jun 05 01:16:57 Running SpliceWiz processBAM
Allocating memory to 1 threads for SpliceWiz (ompBAM)...initialized (0 milliseconds)
/tmp/RtmptFLHF9/02H003.bam processed (409 milliseconds)
/tmp/RtmptFLHF9/02H025.bam processed (332 milliseconds)
/tmp/RtmptFLHF9/02H026.bam processed (516 milliseconds)
/tmp/RtmptFLHF9/02H033.bam processed (505 milliseconds)
/tmp/RtmptFLHF9/02H043.bam processed (310 milliseconds)
/tmp/RtmptFLHF9/02H046.bam processed (450 milliseconds)
Jun 05 01:17:01 Using MulticoreParam 1 threads
Jun 05 01:17:01 Validating Experiment; checking COV files...
Jun 05 01:17:01 Compiling Sample Stats
Jun 05 01:17:01 Compiling Junction List...merging...done
Jun 05 01:17:02 Compiling Junction Stats...merging...done
Jun 05 01:17:09 Compiling Intron Retention List...done
Jun 05 01:17:10 Compiling Tandem Junction List...merging...done
Jun 05 01:17:11 Tidying up splice junctions and intron retentions...
...annotating splice junctions
...looking for novel exons
Jun 05 01:17:14 Assembling novel splicing reference:
...loading reference FASTA/GTF
...injecting novel transcripts to GTF
...processing GTF
...processing introns from GTF
...annotating alternative splicing events
done
Jun 05 01:17:25 Tidying up splice junctions and intron retentions (part 2)...
...grouping splice junctions
...grouping introns
...loading splice events
...compiling rowEvents
done

Jun 05 01:17:32 Generating NxtSE assays
Jun 05 01:17:34 Using MulticoreParam 1 threads

  |                                                                            
  |                                                                      |   0%
  |                                                                            
  |============                                                          |  17%
  |                                                                            
  |=======================                                               |  33%
  |                                                                            
  |===================================                                   |  50%
  |                                                                            
  |===============================================                       |  67%
  |                                                                            
  |==========================================================            |  83%
  |                                                                            
  |======================================================================| 100%

Jun 05 01:17:48 Building Final NxtSE Object
Jun 05 01:17:48 ...consolidating assays to H5 file
Jun 05 01:17:50 ...packaging reference
Jun 05 01:17:50 ...synthesising NxtSE
Jun 05 01:17:50 ...determining how overlapping introns should be removed
Jun 05 01:17:55 SpliceWiz (NxtSE) Collation Finished
Jun 05 01:17:55 Loading NxtSE object from file...
Jun 05 01:17:55 ...loading reference (NxtSE)
Jun 05 01:17:55 ...linking assays
Jun 05 01:17:55 ...linking COV files
Jun 05 01:17:55 ...loading rowData
Jun 05 01:17:55 ...removing overlapping introns...
Jun 05 01:17:55 NxtSE loaded
Jun 05 01:17:55 SpliceWiz reference already exists in given directory
Jun 05 01:17:55 Running SpliceWiz processBAM
Allocating memory to 1 threads for SpliceWiz (ompBAM)...initialized (0 milliseconds)
/tmp/RtmptFLHF9/02H003.bam processed (396 milliseconds)
/tmp/RtmptFLHF9/02H025.bam processed (314 milliseconds)
/tmp/RtmptFLHF9/02H026.bam processed (488 milliseconds)
/tmp/RtmptFLHF9/02H033.bam processed (485 milliseconds)
/tmp/RtmptFLHF9/02H043.bam processed (307 milliseconds)
/tmp/RtmptFLHF9/02H046.bam processed (449 milliseconds)
Jun 05 01:17:59 Using MulticoreParam 1 threads
Jun 05 01:17:59 Validating Experiment; checking COV files...
Jun 05 01:17:59 Compiling Sample Stats
Jun 05 01:17:59 Compiling Junction List...merging...done
Jun 05 01:18:00 Compiling Junction Stats...merging...done
Jun 05 01:18:07 Compiling Intron Retention List...done
Jun 05 01:18:08 Tidying up splice junctions and intron retentions...
...annotating splice junctions
...copying splicing reference
...grouping splice junctions
...grouping introns
...loading splice events
...compiling rowEvents
done

Jun 05 01:18:18 Generating NxtSE assays
Jun 05 01:18:19 Using MulticoreParam 1 threads

  |                                                                            
  |                                                                      |   0%
  |                                                                            
  |============                                                          |  17%
  |                                                                            
  |=======================                                               |  33%
  |                                                                            
  |===================================                                   |  50%
  |                                                                            
  |===============================================                       |  67%
  |                                                                            
  |==========================================================            |  83%
  |                                                                            
  |======================================================================| 100%

Jun 05 01:18:33 Building Final NxtSE Object
Jun 05 01:18:33 ...consolidating assays to H5 file
Jun 05 01:18:35 ...packaging reference
Jun 05 01:18:35 ...synthesising NxtSE
Jun 05 01:18:35 ...determining how overlapping introns should be removed
Jun 05 01:18:41 SpliceWiz (NxtSE) Collation Finished
Jun 05 01:18:41 Loading NxtSE object from file...
Jun 05 01:18:41 ...loading reference (NxtSE)
Jun 05 01:18:41 ...linking assays
Jun 05 01:18:41 ...linking COV files
Jun 05 01:18:41 ...loading rowData
Jun 05 01:18:41 ...removing overlapping introns...
Jun 05 01:18:41 NxtSE loaded
[ FAIL 0 | WARN 0 | SKIP 0 | PASS 29 ]
> 
> # bump to trigger r cmd check
> 
> proc.time()
   user  system elapsed 
164.311  23.433 187.796 

Example timings

SpliceWiz.Rcheck/SpliceWiz-Ex.timings

nameusersystemelapsed
ASE-GLM-edgeR2.2790.0922.371
ASE-methods29.742 2.15031.928
ASEFilter-class0.0440.0050.049
Build-Reference-methods66.340 4.61671.943
Coverage0.8120.0360.842
Gene-ontology-methods1.0810.0561.125
Graphics-User-Interface0.0010.0000.001
Mappability-methods2.4210.1042.525
NxtSE-class52.897 0.97053.953
Run_SpliceWiz_Filters6.7950.0366.832
STAR-methods0.0040.0000.005
View-Reference-methods0.1280.0240.151
collateData2.7260.1512.919
coord2GR0.0210.0000.021
covDataObject-class1.3760.1321.502
covPlotObject-class16.813 1.02817.653
covPlotly-class2.1020.1592.256
example-SpliceWiz-data0.0120.0000.012
findSamples0.0020.0040.006
isCOV0.0120.0000.011
makeSE1.6790.1611.857
make_plot_data0.0440.0000.044
plotCoverage11.734 0.75212.416
processBAM2.4810.2341.599
setSWthreads0.0040.0030.028
theme_white0.1390.0320.171