Back to Multiple platform build/check report for BioC 3.17:   simplified   long
ABCDEFGHIJKLMNOPQ[R]STUVWXYZ

This page was generated on 2023-06-07 11:06:26 -0400 (Wed, 07 Jun 2023).

HostnameOSArch (*)R versionInstalled pkgs
nebbiolo1Linux (Ubuntu 22.04.2 LTS)x86_644.3.0 RC (2023-04-13 r84269) -- "Already Tomorrow" 4628
palomino3Windows Server 2022 Datacenterx644.3.0 RC (2023-04-13 r84269 ucrt) -- "Already Tomorrow" 4379
merida1macOS 12.6.4 Montereyx86_644.3.0 RC (2023-04-13 r84257) -- "Already Tomorrow" 4385
Click on any hostname to see more info about the system (e.g. compilers)      (*) as reported by 'uname -p', except on Windows and Mac OS X

BUILD BIN results for RIPAT on palomino3


To the developers/maintainers of the RIPAT package:
- Allow up to 24 hours (and sometimes 48 hours) for your latest push to git@git.bioconductor.org:packages/RIPAT.git to reflect on this report. See Troubleshooting Build Report for more information.
- Use the following Renviron settings to reproduce errors and warnings.
- If 'R CMD check' started to fail recently on the Linux builder(s) over a missing dependency, add the missing dependency to 'Suggests:' in your DESCRIPTION file. See Renviron.bioc for more information.

raw results

Package 1723/2229HostnameOS / ArchINSTALLBUILDCHECKBUILD BIN
RIPAT 1.10.0  (landing page)
Min-Jeong Baek
Snapshot Date: 2023-06-06 14:00:07 -0400 (Tue, 06 Jun 2023)
git_url: https://git.bioconductor.org/packages/RIPAT
git_branch: RELEASE_3_17
git_last_commit: 711cf3d
git_last_commit_date: 2023-04-25 11:22:02 -0400 (Tue, 25 Apr 2023)
nebbiolo1Linux (Ubuntu 22.04.2 LTS) / x86_64  OK    OK    ERROR  
palomino3Windows Server 2022 Datacenter / x64  OK    OK    OK    OK  UNNEEDED, same version is already published
merida1macOS 12.6.4 Monterey / x86_64  OK    OK    OK    OK  UNNEEDED, same version is already published

Summary

Package: RIPAT
Version: 1.10.0
Command: rm -rf RIPAT.buildbin-libdir && mkdir RIPAT.buildbin-libdir && F:\biocbuild\bbs-3.17-bioc\R\bin\R.exe CMD INSTALL --build --library=RIPAT.buildbin-libdir RIPAT_1.10.0.tar.gz
StartedAt: 2023-06-07 09:56:13 -0400 (Wed, 07 Jun 2023)
EndedAt: 2023-06-07 09:56:21 -0400 (Wed, 07 Jun 2023)
EllapsedTime: 7.0 seconds
RetCode: 0
Status:   OK  
PackageFile: RIPAT_1.10.0.zip
PackageFileSize: 2.547 MiB

Command output

##############################################################################
##############################################################################
###
### Running command:
###
###   rm -rf RIPAT.buildbin-libdir && mkdir RIPAT.buildbin-libdir && F:\biocbuild\bbs-3.17-bioc\R\bin\R.exe CMD INSTALL --build --library=RIPAT.buildbin-libdir RIPAT_1.10.0.tar.gz
###
##############################################################################
##############################################################################


* installing *source* package 'RIPAT' ...
** using staged installation
** R
** data
** inst
** byte-compile and prepare package for lazy loading
** help
*** installing help indices
** building package indices
** installing vignettes
** testing if installed package can be loaded from temporary location
** testing if installed package can be loaded from final location
** testing if installed package keeps a record of temporary installation path
* MD5 sums
packaged installation of 'RIPAT' as RIPAT_1.10.0.zip
* DONE (RIPAT)