Back to Multiple platform build/check report for BioC 3.17:   simplified   long
ABCDEFGHIJKL[M]NOPQRSTUVWXYZ

This page was generated on 2023-03-28 11:05:22 -0400 (Tue, 28 Mar 2023).

HostnameOSArch (*)R versionInstalled pkgs
nebbiolo1Linux (Ubuntu 22.04.1 LTS)x86_64R Under development (unstable) (2023-03-16 r83996) -- "Unsuffered Consequences" 4547
palomino3Windows Server 2022 Datacenterx64R Under development (unstable) (2023-03-15 r83984 ucrt) -- "Unsuffered Consequences" 4308
merida1macOS 10.14.6 Mojavex86_64R Under development (unstable) (2023-03-16 r83985) -- "Unsuffered Consequences" 4301
Click on any hostname to see more info about the system (e.g. compilers)      (*) as reported by 'uname -p', except on Windows and Mac OS X

INSTALL results for methylKit on nebbiolo1


To the developers/maintainers of the methylKit package:
- Please allow up to 24 hours (and sometimes 48 hours) for your latest push to git@git.bioconductor.org:packages/methylKit.git to
reflect on this report. See How and When does the builder pull? When will my changes propagate? for more information.
- Make sure to use the following settings in order to reproduce any error or warning you see on this page.

raw results

Package 1184/2195HostnameOS / ArchINSTALLBUILDCHECKBUILD BIN
methylKit 1.25.0  (landing page)
Altuna Akalin , Alexander Gosdschan
Snapshot Date: 2023-03-27 14:00:21 -0400 (Mon, 27 Mar 2023)
git_url: https://git.bioconductor.org/packages/methylKit
git_branch: devel
git_last_commit: 9fdb2d6
git_last_commit_date: 2022-11-01 11:14:04 -0400 (Tue, 01 Nov 2022)
nebbiolo1Linux (Ubuntu 22.04.1 LTS) / x86_64  OK    OK    WARNINGS  UNNEEDED, same version is already published
palomino3Windows Server 2022 Datacenter / x64  OK    OK    WARNINGS    OK  UNNEEDED, same version is already published
merida1macOS 10.14.6 Mojave / x86_64  OK    OK    WARNINGS    OK  UNNEEDED, same version is already published

Summary

Package: methylKit
Version: 1.25.0
Command: /home/biocbuild/bbs-3.17-bioc/R/bin/R CMD INSTALL methylKit
StartedAt: 2023-03-27 15:14:16 -0400 (Mon, 27 Mar 2023)
EndedAt: 2023-03-27 15:15:12 -0400 (Mon, 27 Mar 2023)
EllapsedTime: 56.3 seconds
RetCode: 0
Status:   OK  

Command output

##############################################################################
##############################################################################
###
### Running command:
###
###   /home/biocbuild/bbs-3.17-bioc/R/bin/R CMD INSTALL methylKit
###
##############################################################################
##############################################################################


* installing to library ‘/home/biocbuild/bbs-3.17-bioc/R/site-library’
* installing *source* package ‘methylKit’ ...
** using staged installation
** libs
using C++ compiler: ‘g++ (Ubuntu 11.3.0-1ubuntu1~22.04) 11.3.0’
using C++11
g++ -std=gnu++11 -I"/home/biocbuild/bbs-3.17-bioc/R/include" -DNDEBUG -D_FILE_OFFSET_BITS=64 -I'/home/biocbuild/bbs-3.17-bioc/R/site-library/Rcpp/include' -I'/home/biocbuild/bbs-3.17-bioc/R/site-library/Rhtslib/include' -I'/home/biocbuild/bbs-3.17-bioc/R/site-library/zlibbioc/include' -I/usr/local/include    -fpic  -g -O2  -Wall -c RcppExports.cpp -o RcppExports.o
g++ -std=gnu++11 -I"/home/biocbuild/bbs-3.17-bioc/R/include" -DNDEBUG -D_FILE_OFFSET_BITS=64 -I'/home/biocbuild/bbs-3.17-bioc/R/site-library/Rcpp/include' -I'/home/biocbuild/bbs-3.17-bioc/R/site-library/Rhtslib/include' -I'/home/biocbuild/bbs-3.17-bioc/R/site-library/zlibbioc/include' -I/usr/local/include    -fpic  -g -O2  -Wall -c methCall.cpp -o methCall.o
methCall.cpp: In function ‘int process_sam(std::istream*, std::string&, std::string&, std::string&, int&, int&, int&, int, int, size_t&)’:
methCall.cpp:687:39: warning: ‘CHGout’ may be used uninitialized in this function [-Wmaybe-uninitialized]
  687 |       if(CHGstatus){ processCHmethHash(CHGmethHash,CHGout,mincov);}
      |                      ~~~~~~~~~~~~~~~~~^~~~~~~~~~~~~~~~~~~~~~~~~~~
methCall.cpp:686:39: warning: ‘CHHout’ may be used uninitialized in this function [-Wmaybe-uninitialized]
  686 |       if(CHHstatus){ processCHmethHash(CHHmethHash,CHHout,mincov); }
      |                      ~~~~~~~~~~~~~~~~~^~~~~~~~~~~~~~~~~~~~~~~~~~~
methCall.cpp:685:39: warning: ‘out’ may be used uninitialized in this function [-Wmaybe-uninitialized]
  685 |       if(CpGstatus){ processCGmethHash(CGmethHash,out,mincov);}
      |                      ~~~~~~~~~~~~~~~~~^~~~~~~~~~~~~~~~~~~~~~~
methCall.cpp: In function ‘int process_bam(std::string&, std::string&, std::string&, std::string&, int&, int&, int&, int, size_t&)’:
methCall.cpp:1014:39: warning: ‘CHGout’ may be used uninitialized in this function [-Wmaybe-uninitialized]
 1014 |       if(CHGstatus){ processCHmethHash(CHGmethHash,CHGout,mincov);}
      |                      ~~~~~~~~~~~~~~~~~^~~~~~~~~~~~~~~~~~~~~~~~~~~
methCall.cpp:1013:39: warning: ‘CHHout’ may be used uninitialized in this function [-Wmaybe-uninitialized]
 1013 |       if(CHHstatus){ processCHmethHash(CHHmethHash,CHHout,mincov); }
      |                      ~~~~~~~~~~~~~~~~~^~~~~~~~~~~~~~~~~~~~~~~~~~~
methCall.cpp:1012:39: warning: ‘out’ may be used uninitialized in this function [-Wmaybe-uninitialized]
 1012 |       if(CpGstatus){ processCGmethHash(CGmethHash,out,mincov);}
      |                      ~~~~~~~~~~~~~~~~~^~~~~~~~~~~~~~~~~~~~~~~
methCall.cpp: In function ‘int process_single_bismark(std::istream*, std::string&, std::string&, std::string&, int&, int&, int&, size_t&)’:
methCall.cpp:1244:39: warning: ‘CHGout’ may be used uninitialized in this function [-Wmaybe-uninitialized]
 1244 |       if(CHGstatus){ processCHmethHash(CHGmethHash,CHGout,mincov);}
      |                      ~~~~~~~~~~~~~~~~~^~~~~~~~~~~~~~~~~~~~~~~~~~~
methCall.cpp:1243:39: warning: ‘CHHout’ may be used uninitialized in this function [-Wmaybe-uninitialized]
 1243 |       if(CHHstatus){ processCHmethHash(CHHmethHash,CHHout,mincov); }
      |                      ~~~~~~~~~~~~~~~~~^~~~~~~~~~~~~~~~~~~~~~~~~~~
methCall.cpp:1242:39: warning: ‘out’ may be used uninitialized in this function [-Wmaybe-uninitialized]
 1242 |       if(CpGstatus){ processCGmethHash(CGmethHash,out,mincov);}
      |                      ~~~~~~~~~~~~~~~~~^~~~~~~~~~~~~~~~~~~~~~~
g++ -std=gnu++11 -shared -L/home/biocbuild/bbs-3.17-bioc/R/lib -L/usr/local/lib -o methylKit.so RcppExports.o methCall.o /home/biocbuild/bbs-3.17-bioc/R/site-library/Rhtslib/usrlib/libhts.a -lcurl -L/home/biocbuild/bbs-3.17-bioc/R/lib -lR
installing to /home/biocbuild/bbs-3.17-bioc/R/site-library/00LOCK-methylKit/00new/methylKit/libs
** R
** data
** inst
** byte-compile and prepare package for lazy loading
** help
*** installing help indices
** building package indices
** installing vignettes
** testing if installed package can be loaded from temporary location
** checking absolute paths in shared objects and dynamic libraries
** testing if installed package can be loaded from final location
** testing if installed package keeps a record of temporary installation path
* DONE (methylKit)