Back to Multiple platform build/check report for BioC 3.17:   simplified   long
ABCDE[F]GHIJKLMNOPQRSTUVWXYZ

This page was generated on 2023-03-31 11:03:05 -0400 (Fri, 31 Mar 2023).

HostnameOSArch (*)R versionInstalled pkgs
nebbiolo1Linux (Ubuntu 22.04.1 LTS)x86_64R Under development (unstable) (2023-03-16 r83996) -- "Unsuffered Consequences" 4547
palomino3Windows Server 2022 Datacenterx64R Under development (unstable) (2023-03-15 r83984 ucrt) -- "Unsuffered Consequences" 4308
Click on any hostname to see more info about the system (e.g. compilers)      (*) as reported by 'uname -p', except on Windows and Mac OS X

BUILD results for FLAMES on palomino3


To the developers/maintainers of the FLAMES package:
- Allow up to 24 hours (and sometimes 48 hours) for your latest push to git@git.bioconductor.org:packages/FLAMES.git to reflect on this report. See Troubleshooting Build Report for more information.

- Use the following Renviron settings to reproduce errors and warnings.

Note: If "R CMD check" recently failed on the Linux builder over a missing dependency, add the missing dependency to "Suggests" in your DESCRIPTION file. See the Renviron.bioc for details.

raw results

Package 691/2195HostnameOS / ArchINSTALLBUILDCHECKBUILD BIN
FLAMES 1.5.5  (landing page)
Oliver Voogd
Snapshot Date: 2023-03-30 14:00:16 -0400 (Thu, 30 Mar 2023)
git_url: https://git.bioconductor.org/packages/FLAMES
git_branch: devel
git_last_commit: 602a271
git_last_commit_date: 2023-03-06 01:05:53 -0400 (Mon, 06 Mar 2023)
nebbiolo1Linux (Ubuntu 22.04.1 LTS) / x86_64  OK    OK    WARNINGS  UNNEEDED, same version is already published
palomino3Windows Server 2022 Datacenter / x64  OK    OK    OK    OK  UNNEEDED, same version is already published

Summary

Package: FLAMES
Version: 1.5.5
Command: chmod a+r FLAMES -R && F:\biocbuild\bbs-3.17-bioc\R\bin\R.exe CMD build --keep-empty-dirs --no-resave-data FLAMES
StartedAt: 2023-03-30 18:57:31 -0400 (Thu, 30 Mar 2023)
EndedAt: 2023-03-30 19:04:59 -0400 (Thu, 30 Mar 2023)
EllapsedTime: 448.1 seconds
RetCode: 0
Status:   OK  
PackageFile: FLAMES_1.5.5.tar.gz
PackageFileSize: 1.908 MiB

Command output

##############################################################################
##############################################################################
###
### Running command:
###
###   chmod a+r FLAMES -R && F:\biocbuild\bbs-3.17-bioc\R\bin\R.exe CMD build --keep-empty-dirs --no-resave-data FLAMES
###
##############################################################################
##############################################################################


* checking for file 'FLAMES/DESCRIPTION' ... OK
* preparing 'FLAMES':
* checking DESCRIPTION meta-information ... OK
* cleaning src
* installing the package to build vignettes
* creating vignettes ... OK
* cleaning src
* checking for LF line-endings in source and make files and shell scripts
* checking for empty or unneeded directories
* building 'FLAMES_1.5.5.tar.gz'
Warning: file 'FLAMES/configure' did not have execute permissions: corrected