Back to Multiple platform build/check report for BioC 3.17: simplified long |
|
This page was generated on 2023-03-23 11:05:43 -0400 (Thu, 23 Mar 2023).
Hostname | OS | Arch (*) | R version | Installed pkgs |
---|---|---|---|---|
nebbiolo1 | Linux (Ubuntu 22.04.1 LTS) | x86_64 | R Under development (unstable) (2023-03-16 r83996) -- "Unsuffered Consequences" | 4536 |
palomino3 | Windows Server 2022 Datacenter | x64 | R Under development (unstable) (2023-03-15 r83984 ucrt) -- "Unsuffered Consequences" | 4298 |
merida1 | macOS 10.14.6 Mojave | x86_64 | R Under development (unstable) (2023-03-16 r83985) -- "Unsuffered Consequences" | 4290 |
Click on any hostname to see more info about the system (e.g. compilers) (*) as reported by 'uname -p', except on Windows and Mac OS X |
To the developers/maintainers of the bsseq package: - Please allow up to 24 hours (and sometimes 48 hours) for your latest push to git@git.bioconductor.org:packages/bsseq.git to reflect on this report. See How and When does the builder pull? When will my changes propagate? for more information. - Make sure to use the following settings in order to reproduce any error or warning you see on this page. |
Package 240/2189 | Hostname | OS / Arch | INSTALL | BUILD | CHECK | BUILD BIN | ||||||||
bsseq 1.35.0 (landing page) Kasper Daniel Hansen
| nebbiolo1 | Linux (Ubuntu 22.04.1 LTS) / x86_64 | OK | OK | ERROR | |||||||||
palomino3 | Windows Server 2022 Datacenter / x64 | OK | OK | ERROR | OK | |||||||||
merida1 | macOS 10.14.6 Mojave / x86_64 | OK | OK | ERROR | OK | |||||||||
Package: bsseq |
Version: 1.35.0 |
Command: chmod a+r bsseq -R && F:\biocbuild\bbs-3.17-bioc\R\bin\R.exe CMD build --keep-empty-dirs --no-resave-data bsseq |
StartedAt: 2023-03-22 18:43:12 -0400 (Wed, 22 Mar 2023) |
EndedAt: 2023-03-22 18:46:16 -0400 (Wed, 22 Mar 2023) |
EllapsedTime: 184.0 seconds |
RetCode: 0 |
Status: OK |
PackageFile: bsseq_1.35.0.tar.gz |
PackageFileSize: 2.621 MiB |
############################################################################## ############################################################################## ### ### Running command: ### ### chmod a+r bsseq -R && F:\biocbuild\bbs-3.17-bioc\R\bin\R.exe CMD build --keep-empty-dirs --no-resave-data bsseq ### ############################################################################## ############################################################################## * checking for file 'bsseq/DESCRIPTION' ... OK * preparing 'bsseq': * checking DESCRIPTION meta-information ... OK * cleaning src * installing the package to build vignettes * creating vignettes ... OK * cleaning src * checking for LF line-endings in source and make files and shell scripts * checking for empty or unneeded directories * looking to see if a 'data/datalist' file should be added * building 'bsseq_1.35.0.tar.gz'