Back to Multiple platform build/check report for BioC 3.17:   simplified   long
ABCDEFGH[I]JKLMNOPQRSTUVWXYZ

This page was generated on 2023-09-22 11:35:43 -0400 (Fri, 22 Sep 2023).

HostnameOSArch (*)R versionInstalled pkgs
nebbiolo1Linux (Ubuntu 22.04.2 LTS)x86_644.3.1 (2023-06-16) -- "Beagle Scouts" 4625
palomino3Windows Server 2022 Datacenterx644.3.1 (2023-06-16 ucrt) -- "Beagle Scouts" 4378
merida1macOS 12.6.4 Montereyx86_644.3.1 (2023-06-16) -- "Beagle Scouts" 4394
Click on any hostname to see more info about the system (e.g. compilers)      (*) as reported by 'uname -p', except on Windows and Mac OS X

Package 987/2230HostnameOS / ArchINSTALLBUILDCHECKBUILD BIN
imcRtools 1.6.5  (landing page)
Nils Eling
Snapshot Date: 2023-09-21 14:00:15 -0400 (Thu, 21 Sep 2023)
git_url: https://git.bioconductor.org/packages/imcRtools
git_branch: RELEASE_3_17
git_last_commit: 3a14957
git_last_commit_date: 2023-09-15 07:45:06 -0400 (Fri, 15 Sep 2023)
nebbiolo1Linux (Ubuntu 22.04.2 LTS) / x86_64  OK    OK    OK  UNNEEDED, same version is already published
palomino3Windows Server 2022 Datacenter / x64  OK    OK    OK    OK  UNNEEDED, same version is already published
merida1macOS 12.6.4 Monterey / x86_64  OK    OK    OK    OK  UNNEEDED, same version is already published

CHECK results for imcRtools on nebbiolo1


To the developers/maintainers of the imcRtools package:
- Allow up to 24 hours (and sometimes 48 hours) for your latest push to git@git.bioconductor.org:packages/imcRtools.git to reflect on this report. See Troubleshooting Build Report for more information.
- Use the following Renviron settings to reproduce errors and warnings.
- If 'R CMD check' started to fail recently on the Linux builder(s) over a missing dependency, add the missing dependency to 'Suggests:' in your DESCRIPTION file. See Renviron.bioc for more information.

raw results


Summary

Package: imcRtools
Version: 1.6.5
Command: /home/biocbuild/bbs-3.17-bioc/R/bin/R CMD check --install=check:imcRtools.install-out.txt --library=/home/biocbuild/bbs-3.17-bioc/R/site-library --timings imcRtools_1.6.5.tar.gz
StartedAt: 2023-09-21 22:08:06 -0400 (Thu, 21 Sep 2023)
EndedAt: 2023-09-21 22:19:28 -0400 (Thu, 21 Sep 2023)
EllapsedTime: 681.5 seconds
RetCode: 0
Status:   OK  
CheckDir: imcRtools.Rcheck
Warnings: 0

Command output

##############################################################################
##############################################################################
###
### Running command:
###
###   /home/biocbuild/bbs-3.17-bioc/R/bin/R CMD check --install=check:imcRtools.install-out.txt --library=/home/biocbuild/bbs-3.17-bioc/R/site-library --timings imcRtools_1.6.5.tar.gz
###
##############################################################################
##############################################################################


* using log directory ‘/home/biocbuild/bbs-3.17-bioc/meat/imcRtools.Rcheck’
* using R version 4.3.1 (2023-06-16)
* using platform: x86_64-pc-linux-gnu (64-bit)
* R was compiled by
    gcc (Ubuntu 11.3.0-1ubuntu1~22.04.1) 11.3.0
    GNU Fortran (Ubuntu 11.3.0-1ubuntu1~22.04.1) 11.3.0
* running under: Ubuntu 22.04.3 LTS
* using session charset: UTF-8
* checking for file ‘imcRtools/DESCRIPTION’ ... OK
* this is package ‘imcRtools’ version ‘1.6.5’
* package encoding: UTF-8
* checking package namespace information ... OK
* checking package dependencies ... OK
* checking if this is a source package ... OK
* checking if there is a namespace ... OK
* checking for hidden files and directories ... NOTE
Found the following hidden files and directories:
  .BBSoptions
These were most likely included in error. See section ‘Package
structure’ in the ‘Writing R Extensions’ manual.
* checking for portable file names ... OK
* checking for sufficient/correct file permissions ... OK
* checking whether package ‘imcRtools’ can be installed ... OK
* checking installed package size ... OK
* checking package directory ... OK
* checking ‘build’ directory ... OK
* checking DESCRIPTION meta-information ... OK
* checking top-level files ... OK
* checking for left-over files ... OK
* checking index information ... OK
* checking package subdirectories ... OK
* checking R files for non-ASCII characters ... OK
* checking R files for syntax errors ... OK
* checking whether the package can be loaded ... OK
* checking whether the package can be loaded with stated dependencies ... OK
* checking whether the package can be unloaded cleanly ... OK
* checking whether the namespace can be loaded with stated dependencies ... OK
* checking whether the namespace can be unloaded cleanly ... OK
* checking loading without being on the library search path ... OK
* checking dependencies in R code ... OK
* checking S3 generic/method consistency ... OK
* checking replacement functions ... OK
* checking foreign function calls ... OK
* checking R code for possible problems ... OK
* checking Rd files ... OK
* checking Rd metadata ... OK
* checking Rd cross-references ... OK
* checking for missing documentation entries ... OK
* checking for code/documentation mismatches ... OK
* checking Rd \usage sections ... OK
* checking Rd contents ... OK
* checking for unstated dependencies in examples ... OK
* checking files in ‘vignettes’ ... OK
* checking examples ... OK
Examples with CPU (user + system) or elapsed time > 5s
                     user system elapsed
testInteractions  194.475  3.756 146.918
read_steinbock     24.561  5.581  23.465
buildSpatialGraph  12.394  1.362  13.479
plotSpatial         5.544  0.328   5.872
* checking for unstated dependencies in vignettes ... OK
* checking package vignettes in ‘inst/doc’ ... OK
* checking running R code from vignettes ...
  ‘imcRtools.Rmd’ using ‘UTF-8’... OK
 NONE
* checking re-building of vignette outputs ... OK
* checking PDF version of manual ... OK
* DONE

Status: 1 NOTE
See
  ‘/home/biocbuild/bbs-3.17-bioc/meat/imcRtools.Rcheck/00check.log’
for details.



Installation output

imcRtools.Rcheck/00install.out

##############################################################################
##############################################################################
###
### Running command:
###
###   /home/biocbuild/bbs-3.17-bioc/R/bin/R CMD INSTALL imcRtools
###
##############################################################################
##############################################################################


* installing to library ‘/home/biocbuild/bbs-3.17-bioc/R/site-library’
* installing *source* package ‘imcRtools’ ...
** using staged installation
** R
** inst
** byte-compile and prepare package for lazy loading
** help
*** installing help indices
** building package indices
** installing vignettes
** testing if installed package can be loaded from temporary location
** testing if installed package can be loaded from final location
** testing if installed package keeps a record of temporary installation path
* DONE (imcRtools)

Tests output


Example timings

imcRtools.Rcheck/imcRtools-Ex.timings

nameusersystemelapsed
aggregateNeighbors1.0840.1051.168
binAcrossPixels1.1520.1721.303
buildSpatialGraph12.394 1.36213.479
countInteractions0.7880.0190.769
detectCommunity2.1270.0322.158
detectSpatialContext2.1030.1002.177
filterPixels3.2140.4353.612
filterSpatialContext3.0580.0603.090
findBorderCells0.4210.0080.429
minDistToCells2.3270.0602.389
patchDetection2.6390.0922.728
patchSize1.2720.0161.279
plotSpatial5.5440.3285.872
plotSpatialContext3.3400.0763.396
plotSpotHeatmap0.7280.0970.780
readImagefromTXT0.3310.2540.395
readSCEfromTXT0.4300.1230.508
read_cpout1.2560.5261.554
read_steinbock24.561 5.58123.465
show_cpout_features0.1750.0400.211
testInteractions194.475 3.756146.918