Back to Multiple platform build/check report for BioC 3.17:   simplified   long
ABCDEF[G]HIJKLMNOPQRSTUVWXYZ

This page was generated on 2023-03-20 11:05:45 -0400 (Mon, 20 Mar 2023).

HostnameOSArch (*)R versionInstalled pkgs
nebbiolo1Linux (Ubuntu 22.04.1 LTS)x86_64R Under development (unstable) (2023-03-16 r83996) -- "Unsuffered Consequences" 4297
palomino3Windows Server 2022 Datacenterx64R Under development (unstable) (2023-03-15 r83984 ucrt) -- "Unsuffered Consequences" 4286
merida1macOS 10.14.6 Mojavex86_64R Under development (unstable) (2023-03-16 r83985) -- "Unsuffered Consequences" 4150
Click on any hostname to see more info about the system (e.g. compilers)      (*) as reported by 'uname -p', except on Windows and Mac OS X

BUILD BIN results for GenomicOZone on palomino3


To the developers/maintainers of the GenomicOZone package:
- Please allow up to 24 hours (and sometimes 48 hours) for your latest push to git@git.bioconductor.org:packages/GenomicOZone.git to
reflect on this report. See How and When does the builder pull? When will my changes propagate? for more information.
- Make sure to use the following settings in order to reproduce any error or warning you see on this page.

raw results

Package 795/2189HostnameOS / ArchINSTALLBUILDCHECKBUILD BIN
GenomicOZone 1.13.0  (landing page)
Hua Zhong, Mingzhou Song
Snapshot Date: 2023-03-19 14:00:12 -0400 (Sun, 19 Mar 2023)
git_url: https://git.bioconductor.org/packages/GenomicOZone
git_branch: master
git_last_commit: e628f5b
git_last_commit_date: 2022-11-01 11:20:20 -0400 (Tue, 01 Nov 2022)
nebbiolo1Linux (Ubuntu 22.04.1 LTS) / x86_64  OK    OK    OK  UNNEEDED, same version is already published
palomino3Windows Server 2022 Datacenter / x64  OK    OK    OK    OK  UNNEEDED, same version is already published
merida1macOS 10.14.6 Mojave / x86_64  OK    OK    OK    OK  UNNEEDED, same version is already published

Summary

Package: GenomicOZone
Version: 1.13.0
Command: rm -rf GenomicOZone.buildbin-libdir && mkdir GenomicOZone.buildbin-libdir && F:\biocbuild\bbs-3.17-bioc\R\bin\R.exe CMD INSTALL --build --library=GenomicOZone.buildbin-libdir GenomicOZone_1.13.0.tar.gz
StartedAt: 2023-03-20 08:31:36 -0400 (Mon, 20 Mar 2023)
EndedAt: 2023-03-20 08:32:29 -0400 (Mon, 20 Mar 2023)
EllapsedTime: 52.9 seconds
RetCode: 0
Status:   OK  
PackageFile: GenomicOZone_1.13.0.zip
PackageFileSize: 984.5 KiB

Command output

##############################################################################
##############################################################################
###
### Running command:
###
###   rm -rf GenomicOZone.buildbin-libdir && mkdir GenomicOZone.buildbin-libdir && F:\biocbuild\bbs-3.17-bioc\R\bin\R.exe CMD INSTALL --build --library=GenomicOZone.buildbin-libdir GenomicOZone_1.13.0.tar.gz
###
##############################################################################
##############################################################################


* installing *source* package 'GenomicOZone' ...
** using staged installation
** R
** inst
** byte-compile and prepare package for lazy loading
** help
*** installing help indices
** building package indices
** installing vignettes
** testing if installed package can be loaded from temporary location
** testing if installed package can be loaded from final location
** testing if installed package keeps a record of temporary installation path
* MD5 sums
packaged installation of 'GenomicOZone' as GenomicOZone_1.13.0.zip
* DONE (GenomicOZone)