Back to Multiple platform build/check report for BioC 3.17:   simplified   long
ABCDEFGHIJKLMNOPQ[R]STUVWXYZ

This page was generated on 2023-09-25 11:37:35 -0400 (Mon, 25 Sep 2023).

HostnameOSArch (*)R versionInstalled pkgs
nebbiolo1Linux (Ubuntu 22.04.2 LTS)x86_644.3.1 (2023-06-16) -- "Beagle Scouts" 4625
palomino3Windows Server 2022 Datacenterx644.3.1 (2023-06-16 ucrt) -- "Beagle Scouts" 4378
merida1macOS 12.6.4 Montereyx86_644.3.1 (2023-06-16) -- "Beagle Scouts" 4394
Click on any hostname to see more info about the system (e.g. compilers)      (*) as reported by 'uname -p', except on Windows and Mac OS X

Package 1681/2230HostnameOS / ArchINSTALLBUILDCHECKBUILD BIN
regionReport 1.34.0  (landing page)
Leonardo Collado-Torres
Snapshot Date: 2023-09-24 14:00:11 -0400 (Sun, 24 Sep 2023)
git_url: https://git.bioconductor.org/packages/regionReport
git_branch: RELEASE_3_17
git_last_commit: 34353ff
git_last_commit_date: 2023-04-25 10:35:11 -0400 (Tue, 25 Apr 2023)
nebbiolo1Linux (Ubuntu 22.04.2 LTS) / x86_64  OK    OK    OK  UNNEEDED, same version is already published
palomino3Windows Server 2022 Datacenter / x64  OK    OK    OK    OK  UNNEEDED, same version is already published
merida1macOS 12.6.4 Monterey / x86_64  OK    OK    OK    OK  UNNEEDED, same version is already published

BUILD results for regionReport on merida1


To the developers/maintainers of the regionReport package:
- Allow up to 24 hours (and sometimes 48 hours) for your latest push to git@git.bioconductor.org:packages/regionReport.git to reflect on this report. See Troubleshooting Build Report for more information.
- Use the following Renviron settings to reproduce errors and warnings.
- If 'R CMD check' started to fail recently on the Linux builder(s) over a missing dependency, add the missing dependency to 'Suggests:' in your DESCRIPTION file. See Renviron.bioc for more information.

raw results


Summary

Package: regionReport
Version: 1.34.0
Command: /Library/Frameworks/R.framework/Resources/bin/R CMD build --keep-empty-dirs --no-resave-data regionReport
StartedAt: 2023-09-24 21:02:53 -0400 (Sun, 24 Sep 2023)
EndedAt: 2023-09-24 21:05:16 -0400 (Sun, 24 Sep 2023)
EllapsedTime: 143.8 seconds
RetCode: 0
Status:   OK  
PackageFile: regionReport_1.34.0.tar.gz
PackageFileSize: 643.9 KiB

Command output

##############################################################################
##############################################################################
###
### Running command:
###
###   /Library/Frameworks/R.framework/Resources/bin/R CMD build --keep-empty-dirs --no-resave-data regionReport
###
##############################################################################
##############################################################################


* checking for file ‘regionReport/DESCRIPTION’ ... OK
* preparing ‘regionReport’:
* checking DESCRIPTION meta-information ... OK
* installing the package to build vignettes
* creating vignettes ... OK
* checking for LF line-endings in source and make files and shell scripts
* checking for empty or unneeded directories
Omitted ‘LazyData’ from DESCRIPTION
* building ‘regionReport_1.34.0.tar.gz’