Back to Mac ARM64 build report for BioC 3.17
ABCDEFGHIJKLMNOPQR[S]TUVWXYZ

This page was generated on 2023-10-20 09:37:56 -0400 (Fri, 20 Oct 2023).

HostnameOSArch (*)R versionInstalled pkgs
kjohnson2macOS 12.6.1 Montereyarm644.3.1 (2023-06-16) -- "Beagle Scouts" 4347
Click on any hostname to see more info about the system (e.g. compilers)      (*) as reported by 'uname -p', except on Windows and Mac OS X

All results for package SplicingGraphs


To the developers/maintainers of the SplicingGraphs package:
- Use the following Renviron settings to reproduce errors and warnings.
- If 'R CMD check' started to fail recently on the Linux builder(s) over a missing dependency, add the missing dependency to 'Suggests:' in your DESCRIPTION file. See Renviron.bioc for more information.

raw results

Package 1995/2230HostnameOS / ArchINSTALLBUILDCHECKBUILD BIN
SplicingGraphs 1.40.0  (landing page)
H. Pag├Ęs
Snapshot Date: 2023-10-15 14:00:07 -0400 (Sun, 15 Oct 2023)
git_url: https://git.bioconductor.org/packages/SplicingGraphs
git_branch: RELEASE_3_17
git_last_commit: f5cc79e
git_last_commit_date: 2023-04-25 10:27:02 -0400 (Tue, 25 Apr 2023)
kjohnson2macOS 12.6.1 Monterey / arm64  OK    OK    WARNINGS    OK  UNNEEDED, same version is already published