Back to Multiple platform build/check report for BioC 3.17:   simplified   long
ABCDEFGH[I]JKLMNOPQRSTUVWXYZ

This page was generated on 2023-03-18 11:04:47 -0400 (Sat, 18 Mar 2023).

HostnameOSArch (*)R versionInstalled pkgs
nebbiolo1Linux (Ubuntu 22.04.1 LTS)x86_64R Under development (unstable) (2023-03-16 r83996) -- "Unsuffered Consequences" 4282
palomino3Windows Server 2022 Datacenterx64R Under development (unstable) (2023-03-15 r83984 ucrt) -- "Unsuffered Consequences" 4279
merida1macOS 10.14.6 Mojavex86_64R Under development (unstable) (2023-03-16 r83985) -- "Unsuffered Consequences" 4145
Click on any hostname to see more info about the system (e.g. compilers)      (*) as reported by 'uname -p', except on Windows and Mac OS X

CHECK results for INSPEcT on nebbiolo1


To the developers/maintainers of the INSPEcT package:
- Please allow up to 24 hours (and sometimes 48 hours) for your latest push to git@git.bioconductor.org:packages/INSPEcT.git to
reflect on this report. See How and When does the builder pull? When will my changes propagate? for more information.
- Make sure to use the following settings in order to reproduce any error or warning you see on this page.

raw results

Package 983/2189HostnameOS / ArchINSTALLBUILDCHECKBUILD BIN
INSPEcT 1.29.0  (landing page)
Stefano de Pretis
Snapshot Date: 2023-03-17 14:27:35 -0400 (Fri, 17 Mar 2023)
git_url: https://git.bioconductor.org/packages/INSPEcT
git_branch: master
git_last_commit: 5409025
git_last_commit_date: 2022-11-01 11:11:51 -0400 (Tue, 01 Nov 2022)
nebbiolo1Linux (Ubuntu 22.04.1 LTS) / x86_64  OK    OK    OK  UNNEEDED, same version is already published
palomino3Windows Server 2022 Datacenter / x64  OK    OK    OK    NA  
merida1macOS 10.14.6 Mojave / x86_64  OK    OK    OK    OK  UNNEEDED, same version is already published

Summary

Package: INSPEcT
Version: 1.29.0
Command: /home/biocbuild/bbs-3.17-bioc/R/bin/R CMD check --install=check:INSPEcT.install-out.txt --library=/home/biocbuild/bbs-3.17-bioc/R/site-library --timings INSPEcT_1.29.0.tar.gz
StartedAt: 2023-03-17 21:47:52 -0400 (Fri, 17 Mar 2023)
EndedAt: 2023-03-17 22:06:40 -0400 (Fri, 17 Mar 2023)
EllapsedTime: 1127.5 seconds
RetCode: 0
Status:   OK  
CheckDir: INSPEcT.Rcheck
Warnings: 0

Command output

##############################################################################
##############################################################################
###
### Running command:
###
###   /home/biocbuild/bbs-3.17-bioc/R/bin/R CMD check --install=check:INSPEcT.install-out.txt --library=/home/biocbuild/bbs-3.17-bioc/R/site-library --timings INSPEcT_1.29.0.tar.gz
###
##############################################################################
##############################################################################


* using log directory ‘/home/biocbuild/bbs-3.17-bioc/meat/INSPEcT.Rcheck’
* using R Under development (unstable) (2023-03-16 r83996)
* using platform: x86_64-pc-linux-gnu (64-bit)
* R was compiled by
    gcc (Ubuntu 11.3.0-1ubuntu1~22.04) 11.3.0
    GNU Fortran (Ubuntu 11.3.0-1ubuntu1~22.04) 11.3.0
* running under: Ubuntu 22.04.2 LTS
* using session charset: UTF-8
* checking for file ‘INSPEcT/DESCRIPTION’ ... OK
* checking extension type ... Package
* this is package ‘INSPEcT’ version ‘1.29.0’
* checking package namespace information ... OK
* checking package dependencies ... OK
* checking if this is a source package ... OK
* checking if there is a namespace ... OK
* checking for hidden files and directories ... OK
* checking for portable file names ... OK
* checking for sufficient/correct file permissions ... OK
* checking whether package ‘INSPEcT’ can be installed ... OK
* checking installed package size ... NOTE
  installed size is  6.9Mb
  sub-directories of 1Mb or more:
    R      1.5Mb
    data   2.9Mb
* checking package directory ... OK
* checking ‘build’ directory ... OK
* checking DESCRIPTION meta-information ... OK
* checking top-level files ... OK
* checking for left-over files ... OK
* checking index information ... OK
* checking package subdirectories ... OK
* checking R files for non-ASCII characters ... OK
* checking R files for syntax errors ... OK
* checking whether the package can be loaded ... OK
* checking whether the package can be loaded with stated dependencies ... OK
* checking whether the package can be unloaded cleanly ... OK
* checking whether the namespace can be loaded with stated dependencies ... OK
* checking whether the namespace can be unloaded cleanly ... OK
* checking loading without being on the library search path ... OK
* checking dependencies in R code ... OK
* checking S3 generic/method consistency ... OK
* checking replacement functions ... OK
* checking foreign function calls ... OK
* checking R code for possible problems ... NOTE
output_pars: no visible global function definition for ‘plot.new’
plotSingleRNADynamic: no visible global function definition for ‘lines’
Undefined global functions or variables:
  lines plot.new
Consider adding
  importFrom("graphics", "lines", "plot.new")
to your NAMESPACE file.
* checking Rd files ... OK
* checking Rd metadata ... OK
* checking Rd cross-references ... OK
* checking for missing documentation entries ... OK
* checking for code/documentation mismatches ... OK
* checking Rd \usage sections ... OK
* checking Rd contents ... OK
* checking for unstated dependencies in examples ... OK
* checking contents of ‘data’ directory ... OK
* checking data for non-ASCII characters ... OK
* checking data for ASCII and uncompressed saves ... OK
* checking files in ‘vignettes’ ... OK
* checking examples ... OK
Examples with CPU (user + system) or elapsed time > 5s
                                  user system elapsed
makeSimDataset                  76.289  0.444  76.735
modelRates                      36.832  0.156  36.988
INSPEcT_diffsteady-class        29.102  0.704  29.806
quantifyExpressionsFromBAMs     29.423  0.220  29.648
rocCurve                        24.926  0.072  24.998
makeSimModel                    24.787  0.044  24.831
compareSteady                   24.595  0.192  24.795
rocThresholds                   24.669  0.076  24.746
plotMA                          23.476  0.040  23.517
quantifyExpressionsFromTrCounts 15.898  0.088  15.986
processingDelay                 14.636  0.140  14.777
newINSPEcT                      14.192  0.047  14.240
inspectFromPCR                   6.218  0.040   6.259
compareSteadyNoNascent           6.142  0.016   6.158
makeOscillatorySimModel          5.813  0.024   5.839
* checking for unstated dependencies in vignettes ... OK
* checking package vignettes in ‘inst/doc’ ... OK
* checking running R code from vignettes ...
  ‘INSPEcT.Rmd’ using ‘UTF-8’... OK
  ‘INSPEcT_GUI.rmd’ using ‘UTF-8’... OK
 NONE
* checking re-building of vignette outputs ... OK
* checking PDF version of manual ... OK
* DONE

Status: 2 NOTEs
See
  ‘/home/biocbuild/bbs-3.17-bioc/meat/INSPEcT.Rcheck/00check.log’
for details.



Installation output

INSPEcT.Rcheck/00install.out

##############################################################################
##############################################################################
###
### Running command:
###
###   /home/biocbuild/bbs-3.17-bioc/R/bin/R CMD INSTALL INSPEcT
###
##############################################################################
##############################################################################


* installing to library ‘/home/biocbuild/bbs-3.17-bioc/R/site-library’
* installing *source* package ‘INSPEcT’ ...
** using staged installation
** R
** data
** inst
** byte-compile and prepare package for lazy loading
** help
*** installing help indices
** building package indices
** installing vignettes
** testing if installed package can be loaded from temporary location
** testing if installed package can be loaded from final location
** testing if installed package keeps a record of temporary installation path
* DONE (INSPEcT)

Tests output


Example timings

INSPEcT.Rcheck/INSPEcT-Ex.timings

nameusersystemelapsed
AIC-INSPEcT-method0.1770.0110.189
Extract0.3600.0110.371
INSPEcT_diffsteady-class29.102 0.70429.806
calculateRatePvals0.2150.0040.219
chisqmodel0.1820.0000.182
chisqtest0.1780.0040.182
combine0.3600.0070.368
compareSteady24.595 0.19224.795
compareSteadyNoNascent6.1420.0166.158
convergence0.1750.0120.187
geneClass0.2130.0080.221
inHeatmap0.2120.0040.217
inspectFromPCR6.2180.0406.259
labeledSF0.1670.0200.186
logLik0.1760.0080.184
makeModelRates0.2160.0040.221
makeOscillatorySimModel5.8130.0245.839
makeSimDataset76.289 0.44476.735
makeSimModel24.787 0.04424.831
modelRates36.832 0.15636.988
modelRatesNF4.0790.0084.087
modelSelection0.180.000.18
modelingParams0.1760.0040.180
nGenes0.1730.0080.181
nTpts0.1820.0000.182
newINSPEcT14.192 0.04714.240
plotGene0.2220.0000.222
plotMA23.476 0.04023.517
processingDelay14.636 0.14014.777
quantifyExpressionsFromBAMs29.423 0.22029.648
quantifyExpressionsFromTrCounts15.898 0.08815.986
ratePvals0.1790.0000.179
ratesFirstGuess0.1810.0040.185
ratesFirstGuessVar0.1770.0030.180
removeModel0.270.000.27
rocCurve24.926 0.07224.998
rocThresholds24.669 0.07624.746
split0.2670.0040.271
tpts0.1790.0000.179
viewConfidenceIntervals0.1830.0000.183
viewModelRates0.1720.0080.181