Back to Multiple platform build/check report for BioC 3.17:   simplified   long
AB[C]DEFGHIJKLMNOPQRSTUVWXYZ

This page was generated on 2023-03-24 11:05:09 -0400 (Fri, 24 Mar 2023).

HostnameOSArch (*)R versionInstalled pkgs
nebbiolo1Linux (Ubuntu 22.04.1 LTS)x86_64R Under development (unstable) (2023-03-16 r83996) -- "Unsuffered Consequences" 4546
palomino3Windows Server 2022 Datacenterx64R Under development (unstable) (2023-03-15 r83984 ucrt) -- "Unsuffered Consequences" 4307
merida1macOS 10.14.6 Mojavex86_64R Under development (unstable) (2023-03-16 r83985) -- "Unsuffered Consequences" 4299
Click on any hostname to see more info about the system (e.g. compilers)      (*) as reported by 'uname -p', except on Windows and Mac OS X

CHECK results for chimeraviz on nebbiolo1


To the developers/maintainers of the chimeraviz package:
- Please allow up to 24 hours (and sometimes 48 hours) for your latest push to git@git.bioconductor.org:packages/chimeraviz.git to
reflect on this report. See How and When does the builder pull? When will my changes propagate? for more information.
- Make sure to use the following settings in order to reproduce any error or warning you see on this page.

raw results

Package 318/2195HostnameOS / ArchINSTALLBUILDCHECKBUILD BIN
chimeraviz 1.25.0  (landing page)
Stian Lågstad
Snapshot Date: 2023-03-23 14:00:15 -0400 (Thu, 23 Mar 2023)
git_url: https://git.bioconductor.org/packages/chimeraviz
git_branch: devel
git_last_commit: 80466b8
git_last_commit_date: 2023-03-05 07:04:42 -0400 (Sun, 05 Mar 2023)
nebbiolo1Linux (Ubuntu 22.04.1 LTS) / x86_64  OK    OK    OK  UNNEEDED, same version is already published
palomino3Windows Server 2022 Datacenter / x64  OK    OK    OK    OK  UNNEEDED, same version is already published
merida1macOS 10.14.6 Mojave / x86_64  OK    OK    OK    OK  UNNEEDED, same version is already published

Summary

Package: chimeraviz
Version: 1.25.0
Command: /home/biocbuild/bbs-3.17-bioc/R/bin/R CMD check --install=check:chimeraviz.install-out.txt --library=/home/biocbuild/bbs-3.17-bioc/R/site-library --timings chimeraviz_1.25.0.tar.gz
StartedAt: 2023-03-23 19:21:51 -0400 (Thu, 23 Mar 2023)
EndedAt: 2023-03-23 19:33:56 -0400 (Thu, 23 Mar 2023)
EllapsedTime: 725.0 seconds
RetCode: 0
Status:   OK  
CheckDir: chimeraviz.Rcheck
Warnings: 0

Command output

##############################################################################
##############################################################################
###
### Running command:
###
###   /home/biocbuild/bbs-3.17-bioc/R/bin/R CMD check --install=check:chimeraviz.install-out.txt --library=/home/biocbuild/bbs-3.17-bioc/R/site-library --timings chimeraviz_1.25.0.tar.gz
###
##############################################################################
##############################################################################


* using log directory ‘/home/biocbuild/bbs-3.17-bioc/meat/chimeraviz.Rcheck’
* using R Under development (unstable) (2023-03-16 r83996)
* using platform: x86_64-pc-linux-gnu (64-bit)
* R was compiled by
    gcc (Ubuntu 11.3.0-1ubuntu1~22.04) 11.3.0
    GNU Fortran (Ubuntu 11.3.0-1ubuntu1~22.04) 11.3.0
* running under: Ubuntu 22.04.2 LTS
* using session charset: UTF-8
* checking for file ‘chimeraviz/DESCRIPTION’ ... OK
* checking extension type ... Package
* this is package ‘chimeraviz’ version ‘1.25.0’
* package encoding: UTF-8
* checking package namespace information ... OK
* checking package dependencies ... NOTE
Depends: includes the non-default packages:
  'Biostrings', 'GenomicRanges', 'IRanges', 'Gviz', 'S4Vectors',
  'ensembldb', 'AnnotationFilter', 'data.table'
Adding so many packages to the search path is excessive and importing
selectively is preferable.
* checking if this is a source package ... OK
* checking if there is a namespace ... OK
* checking for hidden files and directories ... OK
* checking for portable file names ... OK
* checking for sufficient/correct file permissions ... OK
* checking whether package ‘chimeraviz’ can be installed ... OK
* checking installed package size ... OK
* checking package directory ... OK
* checking ‘build’ directory ... OK
* checking DESCRIPTION meta-information ... OK
* checking top-level files ... OK
* checking for left-over files ... OK
* checking index information ... OK
* checking package subdirectories ... OK
* checking R files for non-ASCII characters ... OK
* checking R files for syntax errors ... OK
* checking whether the package can be loaded ... OK
* checking whether the package can be loaded with stated dependencies ... OK
* checking whether the package can be unloaded cleanly ... OK
* checking whether the namespace can be loaded with stated dependencies ... OK
* checking whether the namespace can be unloaded cleanly ... OK
* checking loading without being on the library search path ... OK
* checking dependencies in R code ... NOTE
Namespace in Imports field not imported from: 'magick'
  All declared Imports should be used.
* checking S3 generic/method consistency ... OK
* checking replacement functions ... OK
* checking foreign function calls ... OK
* checking R code for possible problems ... NOTE
plot_fusion_transcript_with_protein_domain: no visible binding for
  global variable 'protein_domain_location'
Undefined global functions or variables:
  protein_domain_location
* checking Rd files ... OK
* checking Rd metadata ... OK
* checking Rd cross-references ... OK
* checking for missing documentation entries ... OK
* checking for code/documentation mismatches ... OK
* checking Rd \usage sections ... OK
* checking Rd contents ... OK
* checking for unstated dependencies in examples ... OK
* checking files in ‘vignettes’ ... OK
* checking examples ... OK
Examples with CPU (user + system) or elapsed time > 5s
                                             user system elapsed
plot_fusion                                27.313  2.625  31.017
plot_transcripts                           16.085  0.528  16.585
plot_fusion_transcript                     13.273  0.215  13.461
plot_fusion_transcripts_graph               8.388  0.040   8.420
plot_fusion_transcript_with_protein_domain  8.195  0.108   8.289
get_transcripts_ensembl_db                  6.695  0.204   6.898
select_transcript                           5.121  0.020   5.140
* checking for unstated dependencies in ‘tests’ ... OK
* checking tests ...
  Running ‘testthat.R’
 OK
* checking for unstated dependencies in vignettes ... OK
* checking package vignettes in ‘inst/doc’ ... OK
* checking running R code from vignettes ...
  ‘chimeraviz-vignette.Rmd’ using ‘UTF-8’... OK
 NONE
* checking re-building of vignette outputs ... OK
* checking PDF version of manual ... OK
* DONE

Status: 3 NOTEs
See
  ‘/home/biocbuild/bbs-3.17-bioc/meat/chimeraviz.Rcheck/00check.log’
for details.



Installation output

chimeraviz.Rcheck/00install.out

##############################################################################
##############################################################################
###
### Running command:
###
###   /home/biocbuild/bbs-3.17-bioc/R/bin/R CMD INSTALL chimeraviz
###
##############################################################################
##############################################################################


* installing to library ‘/home/biocbuild/bbs-3.17-bioc/R/site-library’
* installing *source* package ‘chimeraviz’ ...
** using staged installation
** R
** inst
** byte-compile and prepare package for lazy loading
** help
*** installing help indices
** building package indices
** installing vignettes
** testing if installed package can be loaded from temporary location
** testing if installed package can be loaded from final location
** testing if installed package keeps a record of temporary installation path
* DONE (chimeraviz)

Tests output

chimeraviz.Rcheck/tests/testthat.Rout


R Under development (unstable) (2023-03-16 r83996) -- "Unsuffered Consequences"
Copyright (C) 2023 The R Foundation for Statistical Computing
Platform: x86_64-pc-linux-gnu (64-bit)

R is free software and comes with ABSOLUTELY NO WARRANTY.
You are welcome to redistribute it under certain conditions.
Type 'license()' or 'licence()' for distribution details.

R is a collaborative project with many contributors.
Type 'contributors()' for more information and
'citation()' on how to cite R or R packages in publications.

Type 'demo()' for some demos, 'help()' for on-line help, or
'help.start()' for an HTML browser interface to help.
Type 'q()' to quit R.

> library(testthat)
> library(chimeraviz)
Loading required package: Biostrings
Loading required package: BiocGenerics

Attaching package: 'BiocGenerics'

The following objects are masked from 'package:stats':

    IQR, mad, sd, var, xtabs

The following objects are masked from 'package:base':

    Filter, Find, Map, Position, Reduce, anyDuplicated, aperm, append,
    as.data.frame, basename, cbind, colnames, dirname, do.call,
    duplicated, eval, evalq, get, grep, grepl, intersect, is.unsorted,
    lapply, mapply, match, mget, order, paste, pmax, pmax.int, pmin,
    pmin.int, rank, rbind, rownames, sapply, setdiff, sort, table,
    tapply, union, unique, unsplit, which.max, which.min

Loading required package: S4Vectors
Loading required package: stats4

Attaching package: 'S4Vectors'

The following objects are masked from 'package:base':

    I, expand.grid, unname

Loading required package: IRanges
Loading required package: XVector
Loading required package: GenomeInfoDb

Attaching package: 'Biostrings'

The following object is masked from 'package:base':

    strsplit

Loading required package: GenomicRanges
Loading required package: Gviz
Loading required package: grid

Attaching package: 'grid'

The following object is masked from 'package:Biostrings':

    pattern

Loading required package: ensembldb
Loading required package: GenomicFeatures
Loading required package: AnnotationDbi
Loading required package: Biobase
Welcome to Bioconductor

    Vignettes contain introductory material; view with
    'browseVignettes()'. To cite Bioconductor, see
    'citation("Biobase")', and for packages 'citation("pkgname")'.

Loading required package: AnnotationFilter

Attaching package: 'AnnotationFilter'

The following object is masked from 'package:Gviz':

    feature

The following object is masked from 'package:testthat':

    not


Attaching package: 'ensembldb'

The following object is masked from 'package:stats':

    filter

Loading required package: data.table

Attaching package: 'data.table'

The following object is masked from 'package:GenomicRanges':

    shift

The following object is masked from 'package:IRanges':

    shift

The following objects are masked from 'package:S4Vectors':

    first, second



> 
> test_check("chimeraviz")
[ FAIL 0 | WARN 0 | SKIP 0 | PASS 224 ]
Warning message:
call dbDisconnect() when finished working with a connection 
> 
> proc.time()
   user  system elapsed 
141.615   3.805 146.484 

Example timings

chimeraviz.Rcheck/chimeraviz-Ex.timings

nameusersystemelapsed
add_fusion_reads_alignment0.5720.0160.589
create_fusion_report2.6090.2952.897
decide_transcript_category0.1750.0000.176
down_shift0.0530.0000.053
downstream_partner_gene0.0550.0000.055
fetch_reads_from_fastq000
fusion_spanning_reads_count0.0280.0000.028
fusion_split_reads_count0.0270.0000.027
fusion_to_data_frame0.0280.0000.028
get_ensembl_ids0.4870.0200.507
get_fusion_by_chromosome0.030.000.03
get_fusion_by_gene_name0.030.000.03
get_fusion_by_id0.0310.0000.031
get_transcripts_ensembl_db6.6950.2046.898
import_aeron0.3930.0000.395
import_chimpipe0.0770.0000.077
import_defuse0.0740.0040.077
import_ericscript0.0780.0000.078
import_fusioncatcher0.0760.0040.080
import_fusionmap0.0760.0030.080
import_infusion0.0790.0000.079
import_jaffa0.0790.0000.079
import_oncofuse0.0810.0000.080
import_prada0.0830.0000.083
import_soapfuse0.0850.0000.085
import_squid0.1070.0000.107
import_starfusion0.0770.0000.076
partner_gene_ensembl_id0.0550.0000.056
partner_gene_junction_sequence0.0330.0000.032
plot_circle0.5330.0280.536
plot_fusion27.313 2.62531.017
plot_fusion_reads1.8530.2722.115
plot_fusion_transcript13.273 0.21513.461
plot_fusion_transcript_with_protein_domain8.1950.1088.289
plot_fusion_transcripts_graph8.3880.0408.420
plot_transcripts16.085 0.52816.585
select_transcript5.1210.0205.140
split_on_utr_and_add_feature0.3110.0080.319
upstream_partner_gene0.0550.0000.055
write_fusion_reference0.0350.0000.034