Back to Multiple platform build/check report for BioC 3.17:   simplified   long
ABCDEFGHIJKLMNOPQR[S]TUVWXYZ

This page was generated on 2023-10-16 11:36:41 -0400 (Mon, 16 Oct 2023).

HostnameOSArch (*)R versionInstalled pkgs
nebbiolo1Linux (Ubuntu 22.04.2 LTS)x86_644.3.1 (2023-06-16) -- "Beagle Scouts" 4626
palomino3Windows Server 2022 Datacenterx644.3.1 (2023-06-16 ucrt) -- "Beagle Scouts" 4379
merida1macOS 12.6.4 Montereyx86_644.3.1 (2023-06-16) -- "Beagle Scouts" 4395
Click on any hostname to see more info about the system (e.g. compilers)      (*) as reported by 'uname -p', except on Windows and Mac OS X

Package 1995/2230HostnameOS / ArchINSTALLBUILDCHECKBUILD BIN
SplicingGraphs 1.40.0  (landing page)
H. Pag├Ęs
Snapshot Date: 2023-10-15 14:00:13 -0400 (Sun, 15 Oct 2023)
git_url: https://git.bioconductor.org/packages/SplicingGraphs
git_branch: RELEASE_3_17
git_last_commit: f5cc79e
git_last_commit_date: 2023-04-25 10:27:02 -0400 (Tue, 25 Apr 2023)
nebbiolo1Linux (Ubuntu 22.04.2 LTS) / x86_64  OK    OK    WARNINGS  UNNEEDED, same version is already published
palomino3Windows Server 2022 Datacenter / x64  OK    OK    WARNINGS    OK  UNNEEDED, same version is already published
merida1macOS 12.6.4 Monterey / x86_64  OK    OK    WARNINGS    OK  UNNEEDED, same version is already published
kjohnson2macOS 12.6.1 Monterey / arm64see weekly results here

INSTALL results for SplicingGraphs on palomino3


To the developers/maintainers of the SplicingGraphs package:
- Allow up to 24 hours (and sometimes 48 hours) for your latest push to git@git.bioconductor.org:packages/SplicingGraphs.git to reflect on this report. See Troubleshooting Build Report for more information.
- Use the following Renviron settings to reproduce errors and warnings.
- If 'R CMD check' started to fail recently on the Linux builder(s) over a missing dependency, add the missing dependency to 'Suggests:' in your DESCRIPTION file. See Renviron.bioc for more information.

raw results


Summary

Package: SplicingGraphs
Version: 1.40.0
Command: F:\biocbuild\bbs-3.17-bioc\R\bin\R.exe CMD INSTALL SplicingGraphs
StartedAt: 2023-10-15 16:28:00 -0400 (Sun, 15 Oct 2023)
EndedAt: 2023-10-15 16:28:53 -0400 (Sun, 15 Oct 2023)
EllapsedTime: 53.0 seconds
RetCode: 0
Status:   OK  

Command output

##############################################################################
##############################################################################
###
### Running command:
###
###   F:\biocbuild\bbs-3.17-bioc\R\bin\R.exe CMD INSTALL SplicingGraphs
###
##############################################################################
##############################################################################


* installing to library 'F:/biocbuild/bbs-3.17-bioc/R/library'
* installing *source* package 'SplicingGraphs' ...
** using staged installation
** R
** inst
** byte-compile and prepare package for lazy loading
Warning: replacing previous import 'utils::findMatches' by 'S4Vectors::findMatches' when loading 'SplicingGraphs'
** help
*** installing help indices
** building package indices
** installing vignettes
** testing if installed package can be loaded from temporary location
Warning: replacing previous import 'utils::findMatches' by 'S4Vectors::findMatches' when loading 'SplicingGraphs'
** testing if installed package can be loaded from final location
Warning: replacing previous import 'utils::findMatches' by 'S4Vectors::findMatches' when loading 'SplicingGraphs'
** testing if installed package keeps a record of temporary installation path
* DONE (SplicingGraphs)