Back to Multiple platform build/check report for BioC 3.17:   simplified   long
ABCDE[F]GHIJKLMNOPQRSTUVWXYZ

This page was generated on 2023-03-18 11:06:01 -0400 (Sat, 18 Mar 2023).

HostnameOSArch (*)R versionInstalled pkgs
nebbiolo1Linux (Ubuntu 22.04.1 LTS)x86_64R Under development (unstable) (2023-03-16 r83996) -- "Unsuffered Consequences" 4282
palomino3Windows Server 2022 Datacenterx64R Under development (unstable) (2023-03-15 r83984 ucrt) -- "Unsuffered Consequences" 4279
merida1macOS 10.14.6 Mojavex86_64R Under development (unstable) (2023-03-16 r83985) -- "Unsuffered Consequences" 4145
Click on any hostname to see more info about the system (e.g. compilers)      (*) as reported by 'uname -p', except on Windows and Mac OS X

BUILD BIN results for fCCAC on merida1


To the developers/maintainers of the fCCAC package:
- Please allow up to 24 hours (and sometimes 48 hours) for your latest push to git@git.bioconductor.org:packages/fCCAC.git to
reflect on this report. See How and When does the builder pull? When will my changes propagate? for more information.
- Make sure to use the following settings in order to reproduce any error or warning you see on this page.

raw results

Package 672/2189HostnameOS / ArchINSTALLBUILDCHECKBUILD BIN
fCCAC 1.25.0  (landing page)
Pedro Madrigal
Snapshot Date: 2023-03-17 14:27:35 -0400 (Fri, 17 Mar 2023)
git_url: https://git.bioconductor.org/packages/fCCAC
git_branch: master
git_last_commit: 298d1a3
git_last_commit_date: 2022-11-01 11:14:49 -0400 (Tue, 01 Nov 2022)
nebbiolo1Linux (Ubuntu 22.04.1 LTS) / x86_64  OK    OK    OK  UNNEEDED, same version is already published
palomino3Windows Server 2022 Datacenter / x64  OK    OK    OK    OK  UNNEEDED, same version is already published
merida1macOS 10.14.6 Mojave / x86_64  OK    OK    OK    OK  UNNEEDED, same version is already published

Summary

Package: fCCAC
Version: 1.25.0
Command: rm -rf fCCAC.buildbin-libdir && mkdir fCCAC.buildbin-libdir && /Users/biocbuild/BBS/utils/build-universal.sh fCCAC_1.25.0.tar.gz /Library/Frameworks/R.framework/Resources/bin/R fCCAC.buildbin-libdir
StartedAt: 2023-03-18 07:57:38 -0400 (Sat, 18 Mar 2023)
EndedAt: 2023-03-18 07:59:37 -0400 (Sat, 18 Mar 2023)
EllapsedTime: 118.4 seconds
RetCode: 0
Status:   OK  
PackageFile: fCCAC_1.25.0.tgz
PackageFileSize: 3.524 MiB

Command output

##############################################################################
##############################################################################
###
### Running command:
###
###   rm -rf fCCAC.buildbin-libdir && mkdir fCCAC.buildbin-libdir && /Users/biocbuild/BBS/utils/build-universal.sh fCCAC_1.25.0.tar.gz /Library/Frameworks/R.framework/Resources/bin/R fCCAC.buildbin-libdir
###
##############################################################################
##############################################################################


>>>>>>> 
>>>>>>> INSTALLATION WITH 'R CMD INSTALL --preclean --no-multiarch --library=fCCAC.buildbin-libdir fCCAC_1.25.0.tar.gz'
>>>>>>> 

* installing *source* package ‘fCCAC’ ...
** using staged installation
** R
** inst
** byte-compile and prepare package for lazy loading
Warning: replacing previous import ‘Biostrings::pattern’ by ‘grid::pattern’ when loading ‘genomation’
** help
*** installing help indices
** building package indices
** installing vignettes
** testing if installed package can be loaded from temporary location
Warning: replacing previous import ‘Biostrings::pattern’ by ‘grid::pattern’ when loading ‘genomation’
** testing if installed package can be loaded from final location
Warning: replacing previous import ‘Biostrings::pattern’ by ‘grid::pattern’ when loading ‘genomation’
** testing if installed package keeps a record of temporary installation path
* DONE (fCCAC)