Back to Multiple platform build/check report for BioC 3.17:   simplified   long
ABCDEFGHIJKL[M]NOPQRSTUVWXYZ

This page was generated on 2023-06-05 11:03:28 -0400 (Mon, 05 Jun 2023).

HostnameOSArch (*)R versionInstalled pkgs
nebbiolo1Linux (Ubuntu 22.04.2 LTS)x86_644.3.0 RC (2023-04-13 r84269) -- "Already Tomorrow" 4623
palomino3Windows Server 2022 Datacenterx644.3.0 RC (2023-04-13 r84269 ucrt) -- "Already Tomorrow" 4374
merida1macOS 12.6.4 Montereyx86_644.3.0 RC (2023-04-13 r84257) -- "Already Tomorrow" 4332
Click on any hostname to see more info about the system (e.g. compilers)      (*) as reported by 'uname -p', except on Windows and Mac OS X

All results for package MSstats


To the developers/maintainers of the MSstats package:
- Allow up to 24 hours (and sometimes 48 hours) for your latest push to git@git.bioconductor.org:packages/MSstats.git to reflect on this report. See Troubleshooting Build Report for more information.

- Use the following Renviron settings to reproduce errors and warnings.

Note: If "R CMD check" recently failed on the Linux builder over a missing dependency, add the missing dependency to "Suggests" in your DESCRIPTION file. See the Renviron.bioc for details.

raw results

Package 1313/2229HostnameOS / ArchINSTALLBUILDCHECKBUILD BIN
MSstats 4.8.2  (landing page)
Meena Choi
Snapshot Date: 2023-06-04 14:00:14 -0400 (Sun, 04 Jun 2023)
git_url: https://git.bioconductor.org/packages/MSstats
git_branch: RELEASE_3_17
git_last_commit: 7e8e776
git_last_commit_date: 2023-05-01 20:11:38 -0400 (Mon, 01 May 2023)
nebbiolo1Linux (Ubuntu 22.04.2 LTS) / x86_64  OK    OK    OK  UNNEEDED, same version is already published
palomino3Windows Server 2022 Datacenter / x64  OK    OK    OK    OK  UNNEEDED, same version is already published
merida1macOS 12.6.4 Monterey / x86_64  OK    OK    OK    NA  

Results for Bioconductor software packages that depend directly on package MSstats

QUICK STATSOS / ArchINSTALLBUILDCHECKBUILD BIN
nebbiolo1Linux (Ubuntu 22.04.2 LTS) / x86_64
006
015
0005
palomino3Windows Server 2022 Datacenter / x64
006
015
0005
005
merida1macOS 12.6.4 Monterey / x86_64
006
015
0005
001
Package 1/6HostnameOS / ArchINSTALLBUILDCHECKBUILD BIN
artMS 1.18.0  (landing page)
David Jimenez-Morales
git_last_commit: 06049bc
git_last_commit_date: 2023-04-25 11:06:01 -0400
nebbiolo1Linux (Ubuntu 22.04.2 LTS) / x86_64  OK    OK    OK  UNNEEDED, same version is already published
palomino3Windows Server 2022 Datacenter / x64  OK    OK    OK    OK  UNNEEDED, same version is already published
merida1macOS 12.6.4 Monterey / x86_64  OK    OK    OK    OK  UNNEEDED, same version is already published
Package 2/6HostnameOS / ArchINSTALLBUILDCHECKBUILD BIN
MSstatsLiP 1.6.0  (landing page)
Devon Kohler
git_last_commit: c868f6d
git_last_commit_date: 2023-04-25 11:33:53 -0400
nebbiolo1Linux (Ubuntu 22.04.2 LTS) / x86_64  OK    OK    OK  UNNEEDED, same version is already published
palomino3Windows Server 2022 Datacenter / x64  OK    OK    OK    OK  UNNEEDED, same version is already published
merida1macOS 12.6.4 Monterey / x86_64  OK    OK    OK    NA  
Package 3/6HostnameOS / ArchINSTALLBUILDCHECKBUILD BIN
MSstatsPTM 2.2.0  (landing page)
Devon Kohler
git_last_commit: c0d1c33
git_last_commit_date: 2023-04-25 11:23:07 -0400
nebbiolo1Linux (Ubuntu 22.04.2 LTS) / x86_64  OK    OK    OK  UNNEEDED, same version is already published
palomino3Windows Server 2022 Datacenter / x64  OK    OK    OK    OK  UNNEEDED, same version is already published
merida1macOS 12.6.4 Monterey / x86_64  OK    OK    OK    NA  
Package 4/6HostnameOS / ArchINSTALLBUILDCHECKBUILD BIN
MSstatsSampleSize 1.14.0  (landing page)
Ting Huang
git_last_commit: d8e08e9
git_last_commit_date: 2023-04-25 11:12:56 -0400
nebbiolo1Linux (Ubuntu 22.04.2 LTS) / x86_64  OK    ERROR  skipped
palomino3Windows Server 2022 Datacenter / x64  OK    ERROR  skippedskipped
merida1macOS 12.6.4 Monterey / x86_64  OK    ERROR  skippedskipped
Package 5/6HostnameOS / ArchINSTALLBUILDCHECKBUILD BIN
MSstatsShiny 1.2.2  (landing page)
Devon Kohler
git_last_commit: bb9e51b
git_last_commit_date: 2023-05-22 13:35:00 -0400
nebbiolo1Linux (Ubuntu 22.04.2 LTS) / x86_64  OK    OK    OK  UNNEEDED, same version is already published
palomino3Windows Server 2022 Datacenter / x64  OK    OK    OK    OK  UNNEEDED, same version is already published
merida1macOS 12.6.4 Monterey / x86_64  OK    OK    OK    NA  
Package 6/6HostnameOS / ArchINSTALLBUILDCHECKBUILD BIN
MSstatsTMT 2.8.0  (landing page)
Ting Huang
git_last_commit: c6c55a8
git_last_commit_date: 2023-04-25 11:05:11 -0400
nebbiolo1Linux (Ubuntu 22.04.2 LTS) / x86_64  OK    OK    OK  UNNEEDED, same version is already published
palomino3Windows Server 2022 Datacenter / x64  OK    OK    OK    OK  UNNEEDED, same version is already published
merida1macOS 12.6.4 Monterey / x86_64  OK    OK    OK    NA