Back to Multiple platform build/check report for BioC 3.17:   simplified   long
ABCDEFGHIJKLMNOPQ[R]STUVWXYZ

This page was generated on 2023-02-08 11:04:38 -0500 (Wed, 08 Feb 2023).

HostnameOSArch (*)R versionInstalled pkgs
nebbiolo1Linux (Ubuntu 22.04.1 LTS)x86_64R Under development (unstable) (2023-01-10 r83596) -- "Unsuffered Consequences" 4484
palomino3Windows Server 2022 Datacenterx64R Under development (unstable) (2023-01-10 r83596 ucrt) -- "Unsuffered Consequences" 4250
merida1macOS 10.14.6 Mojavex86_64R Under development (unstable) (2023-01-10 r83596) -- "Unsuffered Consequences" 4273
Click on any hostname to see more info about the system (e.g. compilers)      (*) as reported by 'uname -p', except on Windows and Mac OS X

All results for package RBGL


To the developers/maintainers of the RBGL package:
- Please allow up to 24 hours (and sometimes 48 hours) for your latest push to git@git.bioconductor.org:packages/RBGL.git to
reflect on this report. See How and When does the builder pull? When will my changes propagate? for more information.
- Make sure to use the following settings in order to reproduce any error or warning you see on this page.

raw results

Package 1588/2164HostnameOS / ArchINSTALLBUILDCHECKBUILD BIN
RBGL 1.75.0  (landing page)
Bioconductor Package Maintainer
Snapshot Date: 2023-02-07 14:00:21 -0500 (Tue, 07 Feb 2023)
git_url: https://git.bioconductor.org/packages/RBGL
git_branch: master
git_last_commit: ea470d8
git_last_commit_date: 2022-11-01 10:36:11 -0500 (Tue, 01 Nov 2022)
nebbiolo1Linux (Ubuntu 22.04.1 LTS) / x86_64  OK    OK    WARNINGS  UNNEEDED, same version is already published
palomino3Windows Server 2022 Datacenter / x64  OK    OK    WARNINGS    OK  UNNEEDED, same version is already published
merida1macOS 10.14.6 Mojave / x86_64  OK    OK    OK    OK  UNNEEDED, same version is already published

Results for Bioconductor software packages that depend directly on package RBGL

QUICK STATSOS / ArchINSTALLBUILDCHECKBUILD BIN
nebbiolo1Linux (Ubuntu 22.04.1 LTS) / x86_64
0028
0325
11617
palomino3Windows Server 2022 Datacenter / x64
0026
0323
00815
0023
merida1macOS 10.14.6 Mojave / x86_64
0026
1322
00715
0022
Package 1/28HostnameOS / ArchINSTALLBUILDCHECKBUILD BIN
alpine 1.25.0  (landing page)
Michael Love
git_last_commit: 609ae1e
git_last_commit_date: 2022-11-01 11:14:18 -0500
nebbiolo1Linux (Ubuntu 22.04.1 LTS) / x86_64  OK    OK    OK  UNNEEDED, same version is already published
palomino3Windows Server 2022 Datacenter / x64  OK    OK    OK    OK  UNNEEDED, same version is already published
merida1macOS 10.14.6 Mojave / x86_64  OK    OK    OK    OK  UNNEEDED, same version is already published
Package 2/28HostnameOS / ArchINSTALLBUILDCHECKBUILD BIN
apComplex 2.65.0  (landing page)
Denise Scholtens
git_last_commit: da43727
git_last_commit_date: 2022-11-01 10:38:32 -0500
nebbiolo1Linux (Ubuntu 22.04.1 LTS) / x86_64  OK    OK    OK  UNNEEDED, same version is already published
palomino3Windows Server 2022 Datacenter / x64  OK    OK    OK    OK  UNNEEDED, same version is already published
merida1macOS 10.14.6 Mojave / x86_64  OK    OK    OK    OK  UNNEEDED, same version is already published
Package 3/28HostnameOS / ArchINSTALLBUILDCHECKBUILD BIN
BiocPkgTools 1.17.7  (landing page)
Sean Davis
git_last_commit: 009c719
git_last_commit_date: 2023-02-02 13:55:37 -0500
nebbiolo1Linux (Ubuntu 22.04.1 LTS) / x86_64  OK    OK    WARNINGS  UNNEEDED, same version is already published
palomino3Windows Server 2022 Datacenter / x64  OK    OK    WARNINGS    OK  UNNEEDED, same version is already published
merida1macOS 10.14.6 Mojave / x86_64  OK    OK    WARNINGS    OK  UNNEEDED, same version is already published
Package 4/28HostnameOS / ArchINSTALLBUILDCHECKBUILD BIN
biocViews 1.67.2  (landing page)
Bioconductor Package Maintainer
git_last_commit: 9977de4
git_last_commit_date: 2022-12-22 10:20:23 -0500
nebbiolo1Linux (Ubuntu 22.04.1 LTS) / x86_64  OK    OK    OK  UNNEEDED, same version is already published
palomino3Windows Server 2022 Datacenter / x64  OK    OK    OK    OK  UNNEEDED, same version is already published
merida1macOS 10.14.6 Mojave / x86_64  OK    OK    OK    OK  UNNEEDED, same version is already published
Package 5/28HostnameOS / ArchINSTALLBUILDCHECKBUILD BIN
BioNet 1.59.0  (landing page)
Marcus Dittrich
git_last_commit: 67ccb37
git_last_commit_date: 2022-11-01 11:05:12 -0500
nebbiolo1Linux (Ubuntu 22.04.1 LTS) / x86_64  OK    OK    OK  UNNEEDED, same version is already published
palomino3Windows Server 2022 Datacenter / x64  OK    OK    OK    OK  UNNEEDED, same version is already published
merida1macOS 10.14.6 Mojave / x86_64  OK    OK    OK    OK  UNNEEDED, same version is already published
Package 6/28HostnameOS / ArchINSTALLBUILDCHECKBUILD BIN
CAMERA 1.55.0  (landing page)
Steffen Neumann
git_last_commit: de7b17f
git_last_commit_date: 2022-11-01 11:04:20 -0500
nebbiolo1Linux (Ubuntu 22.04.1 LTS) / x86_64  OK    OK    OK  UNNEEDED, same version is already published
palomino3Windows Server 2022 Datacenter / x64  OK    OK    OK    OK  UNNEEDED, same version is already published
merida1macOS 10.14.6 Mojave / x86_64  OK    OK    OK    OK  UNNEEDED, same version is already published
Package 7/28HostnameOS / ArchINSTALLBUILDCHECKBUILD BIN
Category 2.65.0  (landing page)
Bioconductor Package Maintainer
git_last_commit: 6ef74a5
git_last_commit_date: 2022-11-01 10:39:25 -0500
nebbiolo1Linux (Ubuntu 22.04.1 LTS) / x86_64  OK    OK    OK  UNNEEDED, same version is already published
palomino3Windows Server 2022 Datacenter / x64  OK    OK    OK    OK  UNNEEDED, same version is already published
merida1macOS 10.14.6 Mojave / x86_64  OK    OK    OK    OK  UNNEEDED, same version is already published
Package 8/28HostnameOS / ArchINSTALLBUILDCHECKBUILD BIN
CellNOptR 1.45.0  (landing page)
Attila Gabor
git_last_commit: 673da20
git_last_commit_date: 2022-11-01 11:06:29 -0500
nebbiolo1Linux (Ubuntu 22.04.1 LTS) / x86_64  OK    OK    OK  UNNEEDED, same version is already published
palomino3Windows Server 2022 Datacenter / x64  OK    OK    OK    OK  UNNEEDED, same version is already published
merida1macOS 10.14.6 Mojave / x86_64  OK    OK    OK    OK  UNNEEDED, same version is already published
Package 9/28HostnameOS / ArchINSTALLBUILDCHECKBUILD BIN
ChIPpeakAnno 3.33.1  (landing page)
Jianhong Ou
git_last_commit: 2c08eb8
git_last_commit_date: 2022-11-12 17:40:09 -0500
nebbiolo1Linux (Ubuntu 22.04.1 LTS) / x86_64  OK    OK    OK  UNNEEDED, same version is already published
palomino3Windows Server 2022 Datacenter / x64  OK    OK    OK    OK  UNNEEDED, same version is already published
merida1macOS 10.14.6 Mojave / x86_64  OK    OK    OK    OK  UNNEEDED, same version is already published
Package 10/28HostnameOS / ArchINSTALLBUILDCHECKBUILD BIN
CHRONOS 1.27.0  (landing page)
Panos Balomenos
git_last_commit: 6778591
git_last_commit_date: 2022-11-01 11:13:39 -0500
nebbiolo1Linux (Ubuntu 22.04.1 LTS) / x86_64  OK    OK    OK  UNNEEDED, same version is already published
palomino3Windows Server 2022 Datacenter / x64  OK    OK    OK    OK  UNNEEDED, same version is already published
merida1macOS 10.14.6 Mojave / x86_64  OK    OK    OK    OK  UNNEEDED, same version is already published
Package 11/28HostnameOS / ArchINSTALLBUILDCHECKBUILD BIN
clipper 1.39.0  (landing page)
Paolo Martini
git_last_commit: d52d2e6
git_last_commit_date: 2022-11-01 11:07:47 -0500
nebbiolo1Linux (Ubuntu 22.04.1 LTS) / x86_64  OK    OK    OK  UNNEEDED, same version is already published
palomino3Windows Server 2022 Datacenter / x64  OK    OK    OK    OK  UNNEEDED, same version is already published
merida1macOS 10.14.6 Mojave / x86_64  OK    OK    OK    OK  UNNEEDED, same version is already published
Package 12/28HostnameOS / ArchINSTALLBUILDCHECKBUILD BIN
CytoML 2.11.0  (landing page)
Mike Jiang
git_last_commit: c252d18
git_last_commit_date: 2022-11-01 11:14:00 -0500
nebbiolo1Linux (Ubuntu 22.04.1 LTS) / x86_64  OK    OK    WARNINGS  UNNEEDED, same version is already published
palomino3Windows Server 2022 Datacenter / x64  OK    OK    WARNINGS    OK  UNNEEDED, same version is already published
merida1macOS 10.14.6 Mojave / x86_64  OK    OK    WARNINGS    OK  UNNEEDED, same version is already published
Package 13/28HostnameOS / ArchINSTALLBUILDCHECKBUILD BIN
DEGraph 1.51.0  (landing page)
Laurent Jacob
git_last_commit: b48cd43
git_last_commit_date: 2022-11-01 11:05:25 -0500
nebbiolo1Linux (Ubuntu 22.04.1 LTS) / x86_64  OK    OK    OK  UNNEEDED, same version is already published
palomino3Windows Server 2022 Datacenter / x64... NOT SUPPORTED ...
merida1macOS 10.14.6 Mojave / x86_64... NOT SUPPORTED ...
Package 14/28HostnameOS / ArchINSTALLBUILDCHECKBUILD BIN
DEsubs 1.25.0  (landing page)
Aristidis G. Vrahatis , Panos Balomenos
git_last_commit: c66c7be
git_last_commit_date: 2022-11-01 11:14:32 -0500
nebbiolo1Linux (Ubuntu 22.04.1 LTS) / x86_64  OK    OK    WARNINGS  UNNEEDED, same version is already published
palomino3Windows Server 2022 Datacenter / x64  OK    OK    WARNINGS    OK  UNNEEDED, same version is already published
merida1macOS 10.14.6 Mojave / x86_64  OK    OK    WARNINGS    OK  UNNEEDED, same version is already published
Package 15/28HostnameOS / ArchINSTALLBUILDCHECKBUILD BIN
EventPointer 3.7.0  (landing page)
Juan A. Ferrer-Bonsoms
git_last_commit: 870be76
git_last_commit_date: 2022-11-01 11:15:15 -0500
nebbiolo1Linux (Ubuntu 22.04.1 LTS) / x86_64  OK    ERROR  skipped
palomino3Windows Server 2022 Datacenter / x64  OK    ERROR  skippedskipped
merida1macOS 10.14.6 Mojave / x86_64  OK    ERROR  skippedskipped
Package 16/28HostnameOS / ArchINSTALLBUILDCHECKBUILD BIN
fgga 1.7.0  (landing page)
Flavio Spetale
git_last_commit: 93b1f1b
git_last_commit_date: 2022-11-01 11:24:53 -0500
nebbiolo1Linux (Ubuntu 22.04.1 LTS) / x86_64  OK    OK    OK  UNNEEDED, same version is already published
palomino3Windows Server 2022 Datacenter / x64  OK    OK    OK    OK  UNNEEDED, same version is already published
merida1macOS 10.14.6 Mojave / x86_64  OK    OK    OK    OK  UNNEEDED, same version is already published
Package 17/28HostnameOS / ArchINSTALLBUILDCHECKBUILD BIN
flowWorkspace 4.11.1  (landing page)
Greg Finak , Mike Jiang
git_last_commit: 3f5adab
git_last_commit_date: 2022-12-28 20:58:18 -0500
nebbiolo1Linux (Ubuntu 22.04.1 LTS) / x86_64  OK    OK    WARNINGS  UNNEEDED, same version is already published
palomino3Windows Server 2022 Datacenter / x64  OK    OK    WARNINGS    OK  UNNEEDED, same version is already published
merida1macOS 10.14.6 Mojave / x86_64  OK    OK    WARNINGS    OK  UNNEEDED, same version is already published
Package 18/28HostnameOS / ArchINSTALLBUILDCHECKBUILD BIN
GAPGOM 1.15.0  (landing page)
Rezvan Ehsani
git_last_commit: defab98
git_last_commit_date: 2022-11-01 11:19:11 -0500
nebbiolo1Linux (Ubuntu 22.04.1 LTS) / x86_64  OK    ERROR  skipped
palomino3Windows Server 2022 Datacenter / x64  OK    ERROR  skippedskipped
merida1macOS 10.14.6 Mojave / x86_64  OK    ERROR  skippedskipped
Package 19/28HostnameOS / ArchINSTALLBUILDCHECKBUILD BIN
GenomicInteractionNodes 1.3.0  (landing page)
Jianhong Ou
git_last_commit: d333b67
git_last_commit_date: 2022-11-01 11:26:54 -0500
nebbiolo1Linux (Ubuntu 22.04.1 LTS) / x86_64  OK    OK    OK  UNNEEDED, same version is already published
palomino3Windows Server 2022 Datacenter / x64  OK    OK    OK    OK  UNNEEDED, same version is already published
merida1macOS 10.14.6 Mojave / x86_64  OK    OK    OK    OK  UNNEEDED, same version is already published
Package 20/28HostnameOS / ArchINSTALLBUILDCHECKBUILD BIN
GOSim 1.37.0  (landing page)
Holger Froehlich
git_last_commit: 04d1a87
git_last_commit_date: 2022-11-01 11:08:42 -0500
nebbiolo1Linux (Ubuntu 22.04.1 LTS) / x86_64  OK    OK    OK  UNNEEDED, same version is already published
palomino3Windows Server 2022 Datacenter / x64  OK    OK    OK    OK  UNNEEDED, same version is already published
merida1macOS 10.14.6 Mojave / x86_64  OK    OK    OK    OK  UNNEEDED, same version is already published
Package 21/28HostnameOS / ArchINSTALLBUILDCHECKBUILD BIN
GOstats 2.65.0  (landing page)
Bioconductor Package Maintainer
git_last_commit: 1e9259a
git_last_commit_date: 2022-11-01 10:37:26 -0500
nebbiolo1Linux (Ubuntu 22.04.1 LTS) / x86_64  OK    OK    OK  UNNEEDED, same version is already published
palomino3Windows Server 2022 Datacenter / x64  OK    OK    OK    OK  UNNEEDED, same version is already published
merida1macOS 10.14.6 Mojave / x86_64  OK    OK    OK    OK  UNNEEDED, same version is already published
Package 22/28HostnameOS / ArchINSTALLBUILDCHECKBUILD BIN
MIGSA 1.23.0  (landing page)
Juan C. Rodriguez
git_last_commit: 1cc82b6
git_last_commit_date: 2022-11-01 11:15:16 -0500
nebbiolo1Linux (Ubuntu 22.04.1 LTS) / x86_64  OK    ERROR  skipped
palomino3Windows Server 2022 Datacenter / x64  OK    ERROR  skippedskipped
merida1macOS 10.14.6 Mojave / x86_64  OK    ERROR  skippedskipped
Package 23/28HostnameOS / ArchINSTALLBUILDCHECKBUILD BIN
NCIgraph 1.47.0  (landing page)
Laurent Jacob
git_last_commit: 5be4f0a
git_last_commit_date: 2022-11-01 11:05:48 -0500
nebbiolo1Linux (Ubuntu 22.04.1 LTS) / x86_64  OK    OK    OK  UNNEEDED, same version is already published
palomino3Windows Server 2022 Datacenter / x64... NOT SUPPORTED ...
merida1macOS 10.14.6 Mojave / x86_64... NOT SUPPORTED ...
Package 24/28HostnameOS / ArchINSTALLBUILDCHECKBUILD BIN
openCyto 2.11.1  (landing page)
Mike Jiang
git_last_commit: 3f60af9
git_last_commit_date: 2022-11-29 19:33:29 -0500
nebbiolo1Linux (Ubuntu 22.04.1 LTS) / x86_64  OK    OK    WARNINGS  UNNEEDED, same version is already published
palomino3Windows Server 2022 Datacenter / x64  OK    OK    WARNINGS    OK  UNNEEDED, same version is already published
merida1macOS 10.14.6 Mojave / x86_64  OK    OK    WARNINGS    OK  UNNEEDED, same version is already published
Package 25/28HostnameOS / ArchINSTALLBUILDCHECKBUILD BIN
OrganismDbi 1.41.0  (landing page)
Bioconductor Package Maintainer
git_last_commit: 784ff35
git_last_commit_date: 2022-11-01 11:07:19 -0500
nebbiolo1Linux (Ubuntu 22.04.1 LTS) / x86_64  OK    OK    ERROR  
palomino3Windows Server 2022 Datacenter / x64  OK    OK    WARNINGS    OK  UNNEEDED, same version is already published
merida1macOS 10.14.6 Mojave / x86_64  OK    OK    WARNINGS    OK  UNNEEDED, same version is already published
Package 26/28HostnameOS / ArchINSTALLBUILDCHECKBUILD BIN
pkgDepTools 1.65.1  (landing page)
Bioconductor Package Maintainer
git_last_commit: fea3b6d
git_last_commit_date: 2023-01-06 13:06:59 -0500
nebbiolo1Linux (Ubuntu 22.04.1 LTS) / x86_64  OK    OK    TIMEOUT  
palomino3Windows Server 2022 Datacenter / x64  OK    OK    WARNINGS    OK  UNNEEDED, same version is already published
merida1macOS 10.14.6 Mojave / x86_64  OK    TIMEOUT  skippedskipped
Package 27/28HostnameOS / ArchINSTALLBUILDCHECKBUILD BIN
Streamer 1.45.0  (landing page)
Martin Morgan
git_last_commit: 129425a
git_last_commit_date: 2022-11-01 11:06:06 -0500
nebbiolo1Linux (Ubuntu 22.04.1 LTS) / x86_64  OK    OK    OK  UNNEEDED, same version is already published
palomino3Windows Server 2022 Datacenter / x64  OK    OK    OK    OK  UNNEEDED, same version is already published
merida1macOS 10.14.6 Mojave / x86_64  OK    OK    OK    OK  UNNEEDED, same version is already published
Package 28/28HostnameOS / ArchINSTALLBUILDCHECKBUILD BIN
VariantFiltering 1.35.0  (landing page)
Robert Castelo
git_last_commit: 7638b6f
git_last_commit_date: 2022-11-01 11:09:33 -0500
nebbiolo1Linux (Ubuntu 22.04.1 LTS) / x86_64  OK    OK    WARNINGS  UNNEEDED, same version is already published
palomino3Windows Server 2022 Datacenter / x64  OK    OK    WARNINGS    OK  UNNEEDED, same version is already published
merida1macOS 10.14.6 Mojave / x86_64  OK    OK    WARNINGS    OK  UNNEEDED, same version is already published