Back to Multiple platform build/check report for BioC 3.17:   simplified   long
ABCDEFGHIJKLM[N]OPQRSTUVWXYZ

This page was generated on 2023-03-24 11:06:11 -0400 (Fri, 24 Mar 2023).

HostnameOSArch (*)R versionInstalled pkgs
nebbiolo1Linux (Ubuntu 22.04.1 LTS)x86_64R Under development (unstable) (2023-03-16 r83996) -- "Unsuffered Consequences" 4546
palomino3Windows Server 2022 Datacenterx64R Under development (unstable) (2023-03-15 r83984 ucrt) -- "Unsuffered Consequences" 4307
merida1macOS 10.14.6 Mojavex86_64R Under development (unstable) (2023-03-16 r83985) -- "Unsuffered Consequences" 4299
Click on any hostname to see more info about the system (e.g. compilers)      (*) as reported by 'uname -p', except on Windows and Mac OS X

BUILD results for nullranges on palomino3


To the developers/maintainers of the nullranges package:
- Please allow up to 24 hours (and sometimes 48 hours) for your latest push to git@git.bioconductor.org:packages/nullranges.git to
reflect on this report. See How and When does the builder pull? When will my changes propagate? for more information.
- Make sure to use the following settings in order to reproduce any error or warning you see on this page.

raw results

Package 1383/2195HostnameOS / ArchINSTALLBUILDCHECKBUILD BIN
nullranges 1.5.18  (landing page)
Michael Love
Snapshot Date: 2023-03-23 14:00:15 -0400 (Thu, 23 Mar 2023)
git_url: https://git.bioconductor.org/packages/nullranges
git_branch: devel
git_last_commit: 47e426d
git_last_commit_date: 2023-03-22 08:17:41 -0400 (Wed, 22 Mar 2023)
nebbiolo1Linux (Ubuntu 22.04.1 LTS) / x86_64  OK    ERROR  skipped
palomino3Windows Server 2022 Datacenter / x64  OK    OK    OK    OK  YES
merida1macOS 10.14.6 Mojave / x86_64  OK    OK    OK    OK  YES

Summary

Package: nullranges
Version: 1.5.18
Command: chmod a+r nullranges -R && F:\biocbuild\bbs-3.17-bioc\R\bin\R.exe CMD build --keep-empty-dirs --no-resave-data nullranges
StartedAt: 2023-03-23 20:37:20 -0400 (Thu, 23 Mar 2023)
EndedAt: 2023-03-23 20:46:07 -0400 (Thu, 23 Mar 2023)
EllapsedTime: 527.1 seconds
RetCode: 0
Status:   OK  
PackageFile: nullranges_1.5.18.tar.gz
PackageFileSize: 3.708 MiB

Command output

##############################################################################
##############################################################################
###
### Running command:
###
###   chmod a+r nullranges -R && F:\biocbuild\bbs-3.17-bioc\R\bin\R.exe CMD build --keep-empty-dirs --no-resave-data nullranges
###
##############################################################################
##############################################################################


* checking for file 'nullranges/DESCRIPTION' ... OK
* preparing 'nullranges':
* checking DESCRIPTION meta-information ... OK
* installing the package to build vignettes
* creating vignettes ... OK
* checking for LF line-endings in source and make files and shell scripts
* checking for empty or unneeded directories
Omitted 'LazyData' from DESCRIPTION
* building 'nullranges_1.5.18.tar.gz'