Back to Multiple platform build/check report for BioC 3.17: simplified long |
|
This page was generated on 2023-03-29 11:06:23 -0400 (Wed, 29 Mar 2023).
Hostname | OS | Arch (*) | R version | Installed pkgs |
---|---|---|---|---|
nebbiolo1 | Linux (Ubuntu 22.04.1 LTS) | x86_64 | R Under development (unstable) (2023-03-16 r83996) -- "Unsuffered Consequences" | 4547 |
palomino3 | Windows Server 2022 Datacenter | x64 | R Under development (unstable) (2023-03-15 r83984 ucrt) -- "Unsuffered Consequences" | 4308 |
merida1 | macOS 10.14.6 Mojave | x86_64 | R Under development (unstable) (2023-03-16 r83985) -- "Unsuffered Consequences" | 4301 |
Click on any hostname to see more info about the system (e.g. compilers) (*) as reported by 'uname -p', except on Windows and Mac OS X |
To the developers/maintainers of the microbiomeExplorer package: - Please allow up to 24 hours (and sometimes 48 hours) for your latest push to git@git.bioconductor.org:packages/microbiomeExplorer.git to reflect on this report. See How and When does the builder pull? When will my changes propagate? for more information. - Make sure to use the following settings in order to reproduce any error or warning you see on this page. |
Package 1205/2195 | Hostname | OS / Arch | INSTALL | BUILD | CHECK | BUILD BIN | ||||||||
microbiomeExplorer 1.9.0 (landing page) Janina Reeder
| nebbiolo1 | Linux (Ubuntu 22.04.1 LTS) / x86_64 | OK | OK | OK | ![]() | ||||||||
palomino3 | Windows Server 2022 Datacenter / x64 | OK | OK | OK | OK | ![]() | ||||||||
merida1 | macOS 10.14.6 Mojave / x86_64 | OK | OK | OK | OK | ![]() | ||||||||
Package: microbiomeExplorer |
Version: 1.9.0 |
Command: /Library/Frameworks/R.framework/Resources/bin/R CMD check --install=check:microbiomeExplorer.install-out.txt --library=/Library/Frameworks/R.framework/Resources/library --no-vignettes --timings microbiomeExplorer_1.9.0.tar.gz |
StartedAt: 2023-03-29 02:20:17 -0400 (Wed, 29 Mar 2023) |
EndedAt: 2023-03-29 02:24:46 -0400 (Wed, 29 Mar 2023) |
EllapsedTime: 269.4 seconds |
RetCode: 0 |
Status: OK |
CheckDir: microbiomeExplorer.Rcheck |
Warnings: 0 |
############################################################################## ############################################################################## ### ### Running command: ### ### /Library/Frameworks/R.framework/Resources/bin/R CMD check --install=check:microbiomeExplorer.install-out.txt --library=/Library/Frameworks/R.framework/Resources/library --no-vignettes --timings microbiomeExplorer_1.9.0.tar.gz ### ############################################################################## ############################################################################## * using log directory ‘/Users/biocbuild/bbs-3.17-bioc/meat/microbiomeExplorer.Rcheck’ * using R Under development (unstable) (2023-03-16 r83985) * using platform: x86_64-apple-darwin17.0 (64-bit) * R was compiled by Apple clang version 12.0.0 (clang-1200.0.32.29) GNU Fortran (GCC) 8.2.0 * running under: macOS Mojave 10.14.6 * using session charset: UTF-8 * using option ‘--no-vignettes’ * checking for file ‘microbiomeExplorer/DESCRIPTION’ ... OK * checking extension type ... Package * this is package ‘microbiomeExplorer’ version ‘1.9.0’ * package encoding: UTF-8 * checking package namespace information ... OK * checking package dependencies ... OK * checking if this is a source package ... OK * checking if there is a namespace ... OK * checking for hidden files and directories ... OK * checking for portable file names ... OK * checking for sufficient/correct file permissions ... OK * checking whether package ‘microbiomeExplorer’ can be installed ... OK * checking installed package size ... NOTE installed size is 7.6Mb sub-directories of 1Mb or more: extdata 4.1Mb shiny 2.9Mb * checking package directory ... OK * checking ‘build’ directory ... OK * checking DESCRIPTION meta-information ... OK * checking top-level files ... OK * checking for left-over files ... OK * checking index information ... OK * checking package subdirectories ... OK * checking R files for non-ASCII characters ... OK * checking R files for syntax errors ... OK * checking whether the package can be loaded ... OK * checking whether the package can be loaded with stated dependencies ... OK * checking whether the package can be unloaded cleanly ... OK * checking whether the namespace can be loaded with stated dependencies ... OK * checking whether the namespace can be unloaded cleanly ... OK * checking startup messages can be suppressed ... OK * checking dependencies in R code ... OK * checking S3 generic/method consistency ... OK * checking replacement functions ... OK * checking foreign function calls ... OK * checking R code for possible problems ... OK * checking Rd files ... OK * checking Rd metadata ... OK * checking Rd cross-references ... OK * checking for missing documentation entries ... OK * checking for code/documentation mismatches ... OK * checking Rd \usage sections ... OK * checking Rd contents ... OK * checking for unstated dependencies in examples ... OK * checking files in ‘vignettes’ ... OK * checking examples ... OK * checking for unstated dependencies in ‘tests’ ... OK * checking tests ... Running ‘testthat.R’ OK * checking for unstated dependencies in vignettes ... OK * checking package vignettes in ‘inst/doc’ ... OK * checking running R code from vignettes ... SKIPPED * checking re-building of vignette outputs ... SKIPPED * checking PDF version of manual ... OK * DONE Status: 1 NOTE See ‘/Users/biocbuild/bbs-3.17-bioc/meat/microbiomeExplorer.Rcheck/00check.log’ for details.
microbiomeExplorer.Rcheck/00install.out
############################################################################## ############################################################################## ### ### Running command: ### ### /Library/Frameworks/R.framework/Resources/bin/R CMD INSTALL microbiomeExplorer ### ############################################################################## ############################################################################## * installing to library ‘/Library/Frameworks/R.framework/Versions/4.3/Resources/library’ * installing *source* package ‘microbiomeExplorer’ ... ** using staged installation ** R ** inst ** byte-compile and prepare package for lazy loading ** help *** installing help indices ** building package indices ** installing vignettes ** testing if installed package can be loaded from temporary location ** testing if installed package can be loaded from final location ** testing if installed package keeps a record of temporary installation path * DONE (microbiomeExplorer)
microbiomeExplorer.Rcheck/tests/testthat.Rout
R Under development (unstable) (2023-03-16 r83985) -- "Unsuffered Consequences" Copyright (C) 2023 The R Foundation for Statistical Computing Platform: x86_64-apple-darwin17.0 (64-bit) R is free software and comes with ABSOLUTELY NO WARRANTY. You are welcome to redistribute it under certain conditions. Type 'license()' or 'licence()' for distribution details. R is a collaborative project with many contributors. Type 'contributors()' for more information and 'citation()' on how to cite R or R packages in publications. Type 'demo()' for some demos, 'help()' for on-line help, or 'help.start()' for an HTML browser interface to help. Type 'q()' to quit R. > library(testthat) > library(microbiomeExplorer) Loading required package: shiny Loading required package: magrittr Attaching package: 'magrittr' The following objects are masked from 'package:testthat': equals, is_less_than, not Loading required package: metagenomeSeq Loading required package: Biobase Loading required package: BiocGenerics Attaching package: 'BiocGenerics' The following objects are masked from 'package:stats': IQR, mad, sd, var, xtabs The following objects are masked from 'package:base': Filter, Find, Map, Position, Reduce, anyDuplicated, aperm, append, as.data.frame, basename, cbind, colnames, dirname, do.call, duplicated, eval, evalq, get, grep, grepl, intersect, is.unsorted, lapply, mapply, match, mget, order, paste, pmax, pmax.int, pmin, pmin.int, rank, rbind, rownames, sapply, setdiff, sort, table, tapply, union, unique, unsplit, which.max, which.min Welcome to Bioconductor Vignettes contain introductory material; view with 'browseVignettes()'. To cite Bioconductor, see 'citation("Biobase")', and for packages 'citation("pkgname")'. Loading required package: limma Attaching package: 'limma' The following object is masked from 'package:BiocGenerics': plotMA Loading required package: glmnet Loading required package: Matrix Loaded glmnet 4.1-7 Loading required package: RColorBrewer > > test_check("microbiomeExplorer") [ FAIL 0 | WARN 2 | SKIP 1 | PASS 61 ] ══ Skipped tests ═══════════════════════════════════════════════════════════════ • On CRAN (1) [ FAIL 0 | WARN 2 | SKIP 1 | PASS 61 ] > > proc.time() user system elapsed 14.879 0.782 20.711
microbiomeExplorer.Rcheck/microbiomeExplorer-Ex.timings
name | user | system | elapsed | |
aggFeatures | 0.712 | 0.031 | 1.007 | |
aggregationTabUI | 0.070 | 0.006 | 0.094 | |
calculatePCAs | 0.647 | 0.067 | 0.909 | |
computeDistMat | 0.501 | 0.110 | 0.780 | |
corrAnalysisUI | 1.630 | 0.106 | 2.217 | |
corrFeature | 1.577 | 0.090 | 2.189 | |
corrPhenotype | 0.786 | 0.038 | 1.093 | |
dataInputUI | 0.144 | 0.004 | 0.195 | |
diffAnalysisUI | 0.108 | 0.002 | 0.147 | |
featureAnalysisUI | 0.104 | 0.001 | 0.141 | |
featureTableUI | 0.048 | 0.000 | 0.062 | |
filterByPheno | 0.397 | 0.004 | 0.532 | |
filterMEData | 1.929 | 0.023 | 2.596 | |
interAnalysisUI | 0.261 | 0.003 | 0.376 | |
intraAnalysisUI | 0.279 | 0.004 | 0.402 | |
longAnalysisUI | 0.126 | 0.001 | 0.181 | |
makeQCPlot | 0.436 | 0.104 | 0.725 | |
normalizeData | 1.278 | 0.064 | 1.906 | |
phenotypeTableUI | 0.064 | 0.001 | 0.091 | |
plotAbundance | 1.093 | 0.151 | 1.624 | |
plotAlpha | 0.655 | 0.038 | 0.923 | |
plotAvgAbundance | 0.897 | 0.148 | 1.341 | |
plotBeta | 0.813 | 0.253 | 1.374 | |
plotHeatmap | 3.114 | 0.208 | 4.377 | |
plotLongFeature | 0.751 | 0.246 | 1.311 | |
plotSingleFeature | 0.697 | 0.266 | 1.227 | |
plotlyHistogram | 0.372 | 0.251 | 0.748 | |
plotlySampleBarplot | 0.347 | 0.246 | 0.786 | |
replaceWithUnknown | 0.339 | 0.118 | 0.698 | |
reportListUI | 0.072 | 0.001 | 0.111 | |
rollDownFeatures | 0.252 | 0.005 | 0.376 | |
runDiffTest | 1.071 | 0.014 | 1.485 | |