Back to Multiple platform build/check report for BioC 3.17: simplified long |
|
This page was generated on 2023-03-29 11:05:13 -0400 (Wed, 29 Mar 2023).
Hostname | OS | Arch (*) | R version | Installed pkgs |
---|---|---|---|---|
nebbiolo1 | Linux (Ubuntu 22.04.1 LTS) | x86_64 | R Under development (unstable) (2023-03-16 r83996) -- "Unsuffered Consequences" | 4547 |
palomino3 | Windows Server 2022 Datacenter | x64 | R Under development (unstable) (2023-03-15 r83984 ucrt) -- "Unsuffered Consequences" | 4308 |
merida1 | macOS 10.14.6 Mojave | x86_64 | R Under development (unstable) (2023-03-16 r83985) -- "Unsuffered Consequences" | 4301 |
Click on any hostname to see more info about the system (e.g. compilers) (*) as reported by 'uname -p', except on Windows and Mac OS X |
To the developers/maintainers of the VariantFiltering package: - Please allow up to 24 hours (and sometimes 48 hours) for your latest push to git@git.bioconductor.org:packages/VariantFiltering.git to reflect on this report. See How and When does the builder pull? When will my changes propagate? for more information. - Make sure to use the following settings in order to reproduce any error or warning you see on this page. |
Package 2148/2195 | Hostname | OS / Arch | INSTALL | BUILD | CHECK | BUILD BIN | ||||||||
VariantFiltering 1.35.0 (landing page) Robert Castelo
| nebbiolo1 | Linux (Ubuntu 22.04.1 LTS) / x86_64 | OK | OK | WARNINGS | ![]() | ||||||||
palomino3 | Windows Server 2022 Datacenter / x64 | OK | OK | WARNINGS | OK | ![]() | ||||||||
merida1 | macOS 10.14.6 Mojave / x86_64 | OK | OK | WARNINGS | OK | ![]() | ||||||||
Package: VariantFiltering |
Version: 1.35.0 |
Command: /home/biocbuild/bbs-3.17-bioc/R/bin/R CMD INSTALL VariantFiltering |
StartedAt: 2023-03-28 15:43:19 -0400 (Tue, 28 Mar 2023) |
EndedAt: 2023-03-28 15:44:16 -0400 (Tue, 28 Mar 2023) |
EllapsedTime: 57.6 seconds |
RetCode: 0 |
Status: OK |
############################################################################## ############################################################################## ### ### Running command: ### ### /home/biocbuild/bbs-3.17-bioc/R/bin/R CMD INSTALL VariantFiltering ### ############################################################################## ############################################################################## * installing to library ‘/home/biocbuild/bbs-3.17-bioc/R/site-library’ * installing *source* package ‘VariantFiltering’ ... ** using staged installation ** libs using C compiler: ‘gcc (Ubuntu 11.3.0-1ubuntu1~22.04) 11.3.0’ gcc -I"/home/biocbuild/bbs-3.17-bioc/R/include" -DNDEBUG -I'/home/biocbuild/bbs-3.17-bioc/R/site-library/S4Vectors/include' -I'/home/biocbuild/bbs-3.17-bioc/R/site-library/IRanges/include' -I'/home/biocbuild/bbs-3.17-bioc/R/site-library/XVector/include' -I'/home/biocbuild/bbs-3.17-bioc/R/site-library/Biostrings/include' -I/usr/local/include -fpic -g -O2 -Wall -c Biostrings_stubs.c -o Biostrings_stubs.o gcc -I"/home/biocbuild/bbs-3.17-bioc/R/include" -DNDEBUG -I'/home/biocbuild/bbs-3.17-bioc/R/site-library/S4Vectors/include' -I'/home/biocbuild/bbs-3.17-bioc/R/site-library/IRanges/include' -I'/home/biocbuild/bbs-3.17-bioc/R/site-library/XVector/include' -I'/home/biocbuild/bbs-3.17-bioc/R/site-library/Biostrings/include' -I/usr/local/include -fpic -g -O2 -Wall -c R_init_VariantFiltering.c -o R_init_VariantFiltering.o gcc -I"/home/biocbuild/bbs-3.17-bioc/R/include" -DNDEBUG -I'/home/biocbuild/bbs-3.17-bioc/R/site-library/S4Vectors/include' -I'/home/biocbuild/bbs-3.17-bioc/R/site-library/IRanges/include' -I'/home/biocbuild/bbs-3.17-bioc/R/site-library/XVector/include' -I'/home/biocbuild/bbs-3.17-bioc/R/site-library/Biostrings/include' -I/usr/local/include -fpic -g -O2 -Wall -c methods-WeightMatrix.c -o methods-WeightMatrix.o gcc -shared -L/home/biocbuild/bbs-3.17-bioc/R/lib -L/usr/local/lib -o VariantFiltering.so Biostrings_stubs.o R_init_VariantFiltering.o methods-WeightMatrix.o -L/home/biocbuild/bbs-3.17-bioc/R/lib -lR installing to /home/biocbuild/bbs-3.17-bioc/R/site-library/00LOCK-VariantFiltering/00new/VariantFiltering/libs ** R ** inst ** byte-compile and prepare package for lazy loading No methods found in package 'GenomeInfoDb' for request: 'releaseName' when loading 'VariantFiltering' ** help *** installing help indices ** building package indices ** installing vignettes ** testing if installed package can be loaded from temporary location No methods found in package 'GenomeInfoDb' for request: 'releaseName' when loading 'VariantFiltering' ** checking absolute paths in shared objects and dynamic libraries ** testing if installed package can be loaded from final location No methods found in package 'GenomeInfoDb' for request: 'releaseName' when loading 'VariantFiltering' ** testing if installed package keeps a record of temporary installation path * DONE (VariantFiltering)