Back to Multiple platform build/check report for BioC 3.17:   simplified   long
ABCDEFG[H]IJKLMNOPQRSTUVWXYZ

This page was generated on 2023-03-22 11:06:43 -0400 (Wed, 22 Mar 2023).

HostnameOSArch (*)R versionInstalled pkgs
nebbiolo1Linux (Ubuntu 22.04.1 LTS)x86_64R Under development (unstable) (2023-03-16 r83996) -- "Unsuffered Consequences" 4508
palomino3Windows Server 2022 Datacenterx64R Under development (unstable) (2023-03-15 r83984 ucrt) -- "Unsuffered Consequences" 4293
merida1macOS 10.14.6 Mojavex86_64R Under development (unstable) (2023-03-16 r83985) -- "Unsuffered Consequences" 4290
Click on any hostname to see more info about the system (e.g. compilers)      (*) as reported by 'uname -p', except on Windows and Mac OS X

BUILD results for HiContacts on merida1


To the developers/maintainers of the HiContacts package:
- Please allow up to 24 hours (and sometimes 48 hours) for your latest push to git@git.bioconductor.org:packages/HiContacts.git to
reflect on this report. See How and When does the builder pull? When will my changes propagate? for more information.
- Make sure to use the following settings in order to reproduce any error or warning you see on this page.

raw results

Package 913/2189HostnameOS / ArchINSTALLBUILDCHECKBUILD BIN
HiContacts 1.1.2  (landing page)
Jacques Serizay
Snapshot Date: 2023-03-21 14:00:22 -0400 (Tue, 21 Mar 2023)
git_url: https://git.bioconductor.org/packages/HiContacts
git_branch: master
git_last_commit: f9cca25
git_last_commit_date: 2023-03-12 16:56:27 -0400 (Sun, 12 Mar 2023)
nebbiolo1Linux (Ubuntu 22.04.1 LTS) / x86_64  OK    OK    OK  UNNEEDED, same version is already published
palomino3Windows Server 2022 Datacenter / x64  OK    ERROR  skippedskipped
merida1macOS 10.14.6 Mojave / x86_64  OK    OK    OK    OK  UNNEEDED, same version is already published

Summary

Package: HiContacts
Version: 1.1.2
Command: /Library/Frameworks/R.framework/Resources/bin/R CMD build --keep-empty-dirs --no-resave-data HiContacts
StartedAt: 2023-03-21 18:39:08 -0400 (Tue, 21 Mar 2023)
EndedAt: 2023-03-21 18:51:01 -0400 (Tue, 21 Mar 2023)
EllapsedTime: 712.9 seconds
RetCode: 0
Status:   OK  
PackageFile: HiContacts_1.1.2.tar.gz
PackageFileSize: 4.283 MiB

Command output

##############################################################################
##############################################################################
###
### Running command:
###
###   /Library/Frameworks/R.framework/Resources/bin/R CMD build --keep-empty-dirs --no-resave-data HiContacts
###
##############################################################################
##############################################################################


* checking for file ‘HiContacts/DESCRIPTION’ ... OK
* preparing ‘HiContacts’:
* checking DESCRIPTION meta-information ... OK
* installing the package to build vignettes
* creating vignettes ... OK
* excluding invalid files
Subdirectory 'R' contains invalid file names:
  ‘.reexports.R’
* checking for LF line-endings in source and make files and shell scripts
* checking for empty or unneeded directories
Omitted ‘LazyData’ from DESCRIPTION
* building ‘HiContacts_1.1.2.tar.gz’