Back to Multiple platform build/check report for BioC 3.17:   simplified   long
ABCDEFGHIJ[K]LMNOPQRSTUVWXYZ

This page was generated on 2023-03-22 11:06:46 -0400 (Wed, 22 Mar 2023).

HostnameOSArch (*)R versionInstalled pkgs
nebbiolo1Linux (Ubuntu 22.04.1 LTS)x86_64R Under development (unstable) (2023-03-16 r83996) -- "Unsuffered Consequences" 4508
palomino3Windows Server 2022 Datacenterx64R Under development (unstable) (2023-03-15 r83984 ucrt) -- "Unsuffered Consequences" 4293
merida1macOS 10.14.6 Mojavex86_64R Under development (unstable) (2023-03-16 r83985) -- "Unsuffered Consequences" 4290
Click on any hostname to see more info about the system (e.g. compilers)      (*) as reported by 'uname -p', except on Windows and Mac OS X

BUILD BIN results for katdetectr on merida1


To the developers/maintainers of the katdetectr package:
- Please allow up to 24 hours (and sometimes 48 hours) for your latest push to git@git.bioconductor.org:packages/katdetectr.git to
reflect on this report. See How and When does the builder pull? When will my changes propagate? for more information.
- Make sure to use the following settings in order to reproduce any error or warning you see on this page.

raw results

Package 1025/2189HostnameOS / ArchINSTALLBUILDCHECKBUILD BIN
katdetectr 1.1.3  (landing page)
Daan Hazelaar
Snapshot Date: 2023-03-21 14:00:22 -0400 (Tue, 21 Mar 2023)
git_url: https://git.bioconductor.org/packages/katdetectr
git_branch: master
git_last_commit: ac76967
git_last_commit_date: 2023-03-13 13:01:09 -0400 (Mon, 13 Mar 2023)
nebbiolo1Linux (Ubuntu 22.04.1 LTS) / x86_64  OK    OK    OK  UNNEEDED, same version is already published
palomino3Windows Server 2022 Datacenter / x64  OK    OK    OK    OK  UNNEEDED, same version is already published
merida1macOS 10.14.6 Mojave / x86_64  OK    OK    OK    OK  UNNEEDED, same version is already published

Summary

Package: katdetectr
Version: 1.1.3
Command: rm -rf katdetectr.buildbin-libdir && mkdir katdetectr.buildbin-libdir && /Users/biocbuild/BBS/utils/build-universal.sh katdetectr_1.1.3.tar.gz /Library/Frameworks/R.framework/Resources/bin/R katdetectr.buildbin-libdir
StartedAt: 2023-03-22 09:20:42 -0400 (Wed, 22 Mar 2023)
EndedAt: 2023-03-22 09:22:55 -0400 (Wed, 22 Mar 2023)
EllapsedTime: 132.8 seconds
RetCode: 0
Status:   OK  
PackageFile: katdetectr_1.1.3.tgz
PackageFileSize: 1.577 MiB

Command output

##############################################################################
##############################################################################
###
### Running command:
###
###   rm -rf katdetectr.buildbin-libdir && mkdir katdetectr.buildbin-libdir && /Users/biocbuild/BBS/utils/build-universal.sh katdetectr_1.1.3.tar.gz /Library/Frameworks/R.framework/Resources/bin/R katdetectr.buildbin-libdir
###
##############################################################################
##############################################################################


>>>>>>> 
>>>>>>> INSTALLATION WITH 'R CMD INSTALL --preclean --no-multiarch --library=katdetectr.buildbin-libdir katdetectr_1.1.3.tar.gz'
>>>>>>> 

* installing *source* package ‘katdetectr’ ...
** using staged installation
** R
** inst
** byte-compile and prepare package for lazy loading
** help
*** installing help indices
** building package indices
** installing vignettes
** testing if installed package can be loaded from temporary location
** testing if installed package can be loaded from final location
** testing if installed package keeps a record of temporary installation path
* DONE (katdetectr)