Back to Multiple platform build/check report for BioC 3.17: simplified long |
|
This page was generated on 2023-09-25 11:37:47 -0400 (Mon, 25 Sep 2023).
Hostname | OS | Arch (*) | R version | Installed pkgs |
---|---|---|---|---|
nebbiolo1 | Linux (Ubuntu 22.04.2 LTS) | x86_64 | 4.3.1 (2023-06-16) -- "Beagle Scouts" | 4625 |
palomino3 | Windows Server 2022 Datacenter | x64 | 4.3.1 (2023-06-16 ucrt) -- "Beagle Scouts" | 4378 |
merida1 | macOS 12.6.4 Monterey | x86_64 | 4.3.1 (2023-06-16) -- "Beagle Scouts" | 4394 |
Click on any hostname to see more info about the system (e.g. compilers) (*) as reported by 'uname -p', except on Windows and Mac OS X |
Package 2106/2230 | Hostname | OS / Arch | INSTALL | BUILD | CHECK | BUILD BIN | ||||||||
tLOH 1.8.0 (landing page) Michelle Webb
| nebbiolo1 | Linux (Ubuntu 22.04.2 LTS) / x86_64 | OK | OK | OK | ![]() | ||||||||
palomino3 | Windows Server 2022 Datacenter / x64 | OK | OK | OK | OK | ![]() | ||||||||
merida1 | macOS 12.6.4 Monterey / x86_64 | OK | OK | OK | OK | ![]() | ||||||||
To the developers/maintainers of the tLOH package: - Allow up to 24 hours (and sometimes 48 hours) for your latest push to git@git.bioconductor.org:packages/tLOH.git to reflect on this report. See Troubleshooting Build Report for more information. - Use the following Renviron settings to reproduce errors and warnings. - If 'R CMD check' started to fail recently on the Linux builder(s) over a missing dependency, add the missing dependency to 'Suggests:' in your DESCRIPTION file. See Renviron.bioc for more information. |
Package: tLOH |
Version: 1.8.0 |
Command: /Library/Frameworks/R.framework/Resources/bin/R CMD check --install=check:tLOH.install-out.txt --library=/Library/Frameworks/R.framework/Resources/library --no-vignettes --timings tLOH_1.8.0.tar.gz |
StartedAt: 2023-09-25 08:42:24 -0400 (Mon, 25 Sep 2023) |
EndedAt: 2023-09-25 09:11:19 -0400 (Mon, 25 Sep 2023) |
EllapsedTime: 1735.6 seconds |
RetCode: 0 |
Status: OK |
CheckDir: tLOH.Rcheck |
Warnings: 0 |
############################################################################## ############################################################################## ### ### Running command: ### ### /Library/Frameworks/R.framework/Resources/bin/R CMD check --install=check:tLOH.install-out.txt --library=/Library/Frameworks/R.framework/Resources/library --no-vignettes --timings tLOH_1.8.0.tar.gz ### ############################################################################## ############################################################################## * using log directory ‘/Users/biocbuild/bbs-3.17-bioc/meat/tLOH.Rcheck’ * using R version 4.3.1 (2023-06-16) * using platform: x86_64-apple-darwin20 (64-bit) * R was compiled by Apple clang version 14.0.3 (clang-1403.0.22.14.1) GNU Fortran (GCC) 12.2.0 * running under: macOS Monterey 12.6.4 * using session charset: UTF-8 * using option ‘--no-vignettes’ * checking for file ‘tLOH/DESCRIPTION’ ... OK * checking extension type ... Package * this is package ‘tLOH’ version ‘1.8.0’ * package encoding: UTF-8 * checking package namespace information ... OK * checking package dependencies ... OK * checking if this is a source package ... OK * checking if there is a namespace ... OK * checking for hidden files and directories ... OK * checking for portable file names ... OK * checking for sufficient/correct file permissions ... OK * checking whether package ‘tLOH’ can be installed ... OK * checking installed package size ... OK * checking package directory ... OK * checking ‘build’ directory ... OK * checking DESCRIPTION meta-information ... OK * checking top-level files ... OK * checking for left-over files ... OK * checking index information ... OK * checking package subdirectories ... NOTE Problems with news in ‘NEWS.md’: No news entries found. * checking R files for non-ASCII characters ... OK * checking R files for syntax errors ... OK * checking whether the package can be loaded ... OK * checking whether the package can be loaded with stated dependencies ... OK * checking whether the package can be unloaded cleanly ... OK * checking whether the namespace can be loaded with stated dependencies ... OK * checking whether the namespace can be unloaded cleanly ... OK * checking dependencies in R code ... OK * checking S3 generic/method consistency ... OK * checking replacement functions ... OK * checking foreign function calls ... OK * checking R code for possible problems ... OK * checking Rd files ... OK * checking Rd metadata ... OK * checking Rd cross-references ... OK * checking for missing documentation entries ... OK * checking for code/documentation mismatches ... OK * checking Rd \usage sections ... OK * checking Rd contents ... OK * checking for unstated dependencies in examples ... OK * checking contents of ‘data’ directory ... OK * checking data for non-ASCII characters ... OK * checking data for ASCII and uncompressed saves ... OK * checking files in ‘vignettes’ ... OK * checking examples ... OK Examples with CPU (user + system) or elapsed time > 5s user system elapsed hiddenMarkovAnalysis 146.620 2.960 234.590 regionAnalysis 110.942 1.427 150.439 runHMM_3 102.342 1.647 143.118 runHMM_2 102.206 1.472 145.970 runHMM_1 59.867 0.735 84.637 prepareHMMdataframes 56.425 0.657 76.906 splitByChromosome 54.729 0.643 76.841 tLOHCalcUpdate 54.743 0.617 75.543 aggregateCHRPlot 17.690 0.435 23.871 alleleFrequencyPlot 15.329 0.306 20.358 tLOHCalc 12.435 0.110 17.130 * checking for unstated dependencies in vignettes ... OK * checking package vignettes in ‘inst/doc’ ... OK * checking running R code from vignettes ... SKIPPED * checking re-building of vignette outputs ... SKIPPED * checking PDF version of manual ... OK * DONE Status: 1 NOTE See ‘/Users/biocbuild/bbs-3.17-bioc/meat/tLOH.Rcheck/00check.log’ for details.
tLOH.Rcheck/00install.out
############################################################################## ############################################################################## ### ### Running command: ### ### /Library/Frameworks/R.framework/Resources/bin/R CMD INSTALL tLOH ### ############################################################################## ############################################################################## * installing to library ‘/Library/Frameworks/R.framework/Versions/4.3-x86_64/Resources/library’ * installing *source* package ‘tLOH’ ... ** using staged installation ** R ** data ** inst ** byte-compile and prepare package for lazy loading ** help *** installing help indices ** building package indices ** installing vignettes ** testing if installed package can be loaded from temporary location ** testing if installed package can be loaded from final location ** testing if installed package keeps a record of temporary installation path * DONE (tLOH)
tLOH.Rcheck/tLOH-Ex.timings
name | user | system | elapsed | |
aggregateCHRPlot | 17.690 | 0.435 | 23.871 | |
alleleFrequencyPlot | 15.329 | 0.306 | 20.358 | |
documentErrorRegions | 0.004 | 0.001 | 0.004 | |
hiddenMarkovAnalysis | 146.62 | 2.96 | 234.59 | |
humanGBMsampleAC | 0.066 | 0.003 | 0.092 | |
initialStartProbabilities | 0.001 | 0.002 | 0.004 | |
marginalLikelihoodM1 | 0.005 | 0.001 | 0.015 | |
marginalLikelihoodM2 | 0.004 | 0.001 | 0.009 | |
marginalM1Calc | 0.000 | 0.001 | 0.001 | |
marginalM2CalcBHET | 0.002 | 0.000 | 0.005 | |
marginalM2CalcBLOH | 0.003 | 0.001 | 0.003 | |
modePeakCalc | 0.001 | 0.000 | 0.002 | |
prepareHMMdataframes | 56.425 | 0.657 | 76.906 | |
regionAnalysis | 110.942 | 1.427 | 150.439 | |
regionFinalize | 0.000 | 0.001 | 0.001 | |
removeOutlierFromCalc | 0.001 | 0.001 | 0.001 | |
runHMM_1 | 59.867 | 0.735 | 84.637 | |
runHMM_2 | 102.206 | 1.472 | 145.970 | |
runHMM_3 | 102.342 | 1.647 | 143.118 | |
splitByChromosome | 54.729 | 0.643 | 76.841 | |
summarizeRegions1 | 0.000 | 0.001 | 0.001 | |
summarizeRegions2 | 0.001 | 0.002 | 0.005 | |
tLOHCalc | 12.435 | 0.110 | 17.130 | |
tLOHCalcUpdate | 54.743 | 0.617 | 75.543 | |
tLOHDataImport | 0.000 | 0.000 | 0.001 | |