Back to Multiple platform build/check report for BioC 3.17: simplified long |
|
This page was generated on 2023-05-27 11:05:44 -0400 (Sat, 27 May 2023).
Hostname | OS | Arch (*) | R version | Installed pkgs |
---|---|---|---|---|
nebbiolo1 | Linux (Ubuntu 22.04.2 LTS) | x86_64 | 4.3.0 RC (2023-04-13 r84269) -- "Already Tomorrow" | 4617 |
palomino3 | Windows Server 2022 Datacenter | x64 | 4.3.0 RC (2023-04-13 r84269 ucrt) -- "Already Tomorrow" | 4368 |
merida1 | macOS 12.6.4 Monterey | x86_64 | 4.3.0 RC (2023-04-13 r84257) -- "Already Tomorrow" | 4326 |
Click on any hostname to see more info about the system (e.g. compilers) (*) as reported by 'uname -p', except on Windows and Mac OS X |
To the developers/maintainers of the DeepBlueR package: - Allow up to 24 hours (and sometimes 48 hours) for your latest push to git@git.bioconductor.org:packages/DeepBlueR.git to reflect on this report. See Troubleshooting Build Report for more information. - Use the following Renviron settings to reproduce errors and warnings. Note: If "R CMD check" recently failed on the Linux builder over a missing dependency, add the missing dependency to "Suggests" in your DESCRIPTION file. See the Renviron.bioc for details. |
Package 511/2229 | Hostname | OS / Arch | INSTALL | BUILD | CHECK | BUILD BIN | ||||||||
DeepBlueR 1.26.0 (landing page) Felipe Albrecht
| nebbiolo1 | Linux (Ubuntu 22.04.2 LTS) / x86_64 | OK | OK | OK | ![]() | ||||||||
palomino3 | Windows Server 2022 Datacenter / x64 | OK | OK | OK | OK | ![]() | ||||||||
merida1 | macOS 12.6.4 Monterey / x86_64 | OK | OK | OK | OK | ![]() | ||||||||
Package: DeepBlueR |
Version: 1.26.0 |
Command: chmod a+r DeepBlueR -R && F:\biocbuild\bbs-3.17-bioc\R\bin\R.exe CMD build --keep-empty-dirs --no-resave-data DeepBlueR |
StartedAt: 2023-05-26 18:27:28 -0400 (Fri, 26 May 2023) |
EndedAt: 2023-05-26 18:34:03 -0400 (Fri, 26 May 2023) |
EllapsedTime: 394.8 seconds |
RetCode: 0 |
Status: OK |
PackageFile: DeepBlueR_1.26.0.tar.gz |
PackageFileSize: 1.244 MiB |
############################################################################## ############################################################################## ### ### Running command: ### ### chmod a+r DeepBlueR -R && F:\biocbuild\bbs-3.17-bioc\R\bin\R.exe CMD build --keep-empty-dirs --no-resave-data DeepBlueR ### ############################################################################## ############################################################################## * checking for file 'DeepBlueR/DESCRIPTION' ... OK * preparing 'DeepBlueR': * checking DESCRIPTION meta-information ... OK * installing the package to build vignettes * creating vignettes ... OK * checking for LF line-endings in source and make files and shell scripts * checking for empty or unneeded directories * building 'DeepBlueR_1.26.0.tar.gz'