Back to Multiple platform build/check report for BioC 3.17:   simplified   long
ABCDEFGHIJKLMNOPQR[S]TUVWXYZ

This page was generated on 2023-09-30 11:35:08 -0400 (Sat, 30 Sep 2023).

HostnameOSArch (*)R versionInstalled pkgs
nebbiolo1Linux (Ubuntu 22.04.2 LTS)x86_644.3.1 (2023-06-16) -- "Beagle Scouts" 4626
palomino3Windows Server 2022 Datacenterx644.3.1 (2023-06-16 ucrt) -- "Beagle Scouts" 4379
merida1macOS 12.6.4 Montereyx86_644.3.1 (2023-06-16) -- "Beagle Scouts" 4395
Click on any hostname to see more info about the system (e.g. compilers)      (*) as reported by 'uname -p', except on Windows and Mac OS X

All results for package sigPathway


To the developers/maintainers of the sigPathway package:
- Allow up to 24 hours (and sometimes 48 hours) for your latest push to git@git.bioconductor.org:packages/sigPathway.git to reflect on this report. See Troubleshooting Build Report for more information.
- Use the following Renviron settings to reproduce errors and warnings.
- If 'R CMD check' started to fail recently on the Linux builder(s) over a missing dependency, add the missing dependency to 'Suggests:' in your DESCRIPTION file. See Renviron.bioc for more information.

raw results

Package 1917/2230HostnameOS / ArchINSTALLBUILDCHECKBUILD BIN
sigPathway 1.68.0  (landing page)
Weil Lai
Snapshot Date: 2023-09-29 14:00:14 -0400 (Fri, 29 Sep 2023)
git_url: https://git.bioconductor.org/packages/sigPathway
git_branch: RELEASE_3_17
git_last_commit: 9ef9f8f
git_last_commit_date: 2023-04-25 09:43:54 -0400 (Tue, 25 Apr 2023)
nebbiolo1Linux (Ubuntu 22.04.2 LTS) / x86_64  ERROR    ERROR  skipped
palomino3Windows Server 2022 Datacenter / x64  ERROR    ERROR  skippedskipped
merida1macOS 12.6.4 Monterey / x86_64  ERROR    ERROR  skippedskipped