Back to Multiple platform build/check report for BioC 3.17:   simplified   long
ABC[D]EFGHIJKLMNOPQRSTUVWXYZ

This page was generated on 2023-03-31 11:03:03 -0400 (Fri, 31 Mar 2023).

HostnameOSArch (*)R versionInstalled pkgs
nebbiolo1Linux (Ubuntu 22.04.1 LTS)x86_64R Under development (unstable) (2023-03-16 r83996) -- "Unsuffered Consequences" 4547
palomino3Windows Server 2022 Datacenterx64R Under development (unstable) (2023-03-15 r83984 ucrt) -- "Unsuffered Consequences" 4308
Click on any hostname to see more info about the system (e.g. compilers)      (*) as reported by 'uname -p', except on Windows and Mac OS X

INSTALL results for DeepBlueR on palomino3


To the developers/maintainers of the DeepBlueR package:
- Allow up to 24 hours (and sometimes 48 hours) for your latest push to git@git.bioconductor.org:packages/DeepBlueR.git to reflect on this report. See Troubleshooting Build Report for more information.

- Use the following Renviron settings to reproduce errors and warnings.

Note: If "R CMD check" recently failed on the Linux builder over a missing dependency, add the missing dependency to "Suggests" in your DESCRIPTION file. See the Renviron.bioc for details.

raw results

Package 503/2195HostnameOS / ArchINSTALLBUILDCHECKBUILD BIN
DeepBlueR 1.25.1  (landing page)
Felipe Albrecht , Markus List , Quirin Manz
Snapshot Date: 2023-03-30 14:00:16 -0400 (Thu, 30 Mar 2023)
git_url: https://git.bioconductor.org/packages/DeepBlueR
git_branch: devel
git_last_commit: 950d10c
git_last_commit_date: 2023-01-10 05:24:28 -0400 (Tue, 10 Jan 2023)
nebbiolo1Linux (Ubuntu 22.04.1 LTS) / x86_64  OK    OK    OK  UNNEEDED, same version is already published
palomino3Windows Server 2022 Datacenter / x64  OK    OK    OK    OK  UNNEEDED, same version is already published

Summary

Package: DeepBlueR
Version: 1.25.1
Command: F:\biocbuild\bbs-3.17-bioc\R\bin\R.exe CMD INSTALL DeepBlueR
StartedAt: 2023-03-30 16:16:47 -0400 (Thu, 30 Mar 2023)
EndedAt: 2023-03-30 16:17:46 -0400 (Thu, 30 Mar 2023)
EllapsedTime: 59.2 seconds
RetCode: 0
Status:   OK  

Command output

##############################################################################
##############################################################################
###
### Running command:
###
###   F:\biocbuild\bbs-3.17-bioc\R\bin\R.exe CMD INSTALL DeepBlueR
###
##############################################################################
##############################################################################


* installing to library 'F:/biocbuild/bbs-3.17-bioc/R/library'
* installing *source* package 'DeepBlueR' ...
** using staged installation
** R
** demo
** inst
** byte-compile and prepare package for lazy loading
Called method: deepblue_list_column_types
Reported status was: okay
Called method: deepblue_info
Reported status was: okay
** help
*** installing help indices
** building package indices
** installing vignettes
** testing if installed package can be loaded from temporary location
** testing if installed package can be loaded from final location
** testing if installed package keeps a record of temporary installation path
* DONE (DeepBlueR)